BEGIN:VCALENDAR
VERSION:2.0
PRODID:-//Heroes&#039; Voices - ECPv6.15.18//NONSGML v1.0//EN
CALSCALE:GREGORIAN
METHOD:PUBLISH
X-WR-CALNAME:Heroes&#039; Voices
X-ORIGINAL-URL:https://heroesvoices.org
X-WR-CALDESC:Events for Heroes&#039; Voices
REFRESH-INTERVAL;VALUE=DURATION:PT1H
X-Robots-Tag:noindex
X-PUBLISHED-TTL:PT1H
BEGIN:VTIMEZONE
TZID:America/Los_Angeles
BEGIN:DAYLIGHT
TZOFFSETFROM:-0800
TZOFFSETTO:-0700
TZNAME:PDT
DTSTART:20150308T100000
END:DAYLIGHT
BEGIN:STANDARD
TZOFFSETFROM:-0700
TZOFFSETTO:-0800
TZNAME:PST
DTSTART:20151101T090000
END:STANDARD
BEGIN:DAYLIGHT
TZOFFSETFROM:-0800
TZOFFSETTO:-0700
TZNAME:PDT
DTSTART:20160313T100000
END:DAYLIGHT
BEGIN:STANDARD
TZOFFSETFROM:-0700
TZOFFSETTO:-0800
TZNAME:PST
DTSTART:20161106T090000
END:STANDARD
BEGIN:DAYLIGHT
TZOFFSETFROM:-0800
TZOFFSETTO:-0700
TZNAME:PDT
DTSTART:20170312T100000
END:DAYLIGHT
BEGIN:STANDARD
TZOFFSETFROM:-0700
TZOFFSETTO:-0800
TZNAME:PST
DTSTART:20171105T090000
END:STANDARD
BEGIN:DAYLIGHT
TZOFFSETFROM:-0800
TZOFFSETTO:-0700
TZNAME:PDT
DTSTART:20180311T100000
END:DAYLIGHT
BEGIN:STANDARD
TZOFFSETFROM:-0700
TZOFFSETTO:-0800
TZNAME:PST
DTSTART:20181104T090000
END:STANDARD
END:VTIMEZONE
BEGIN:VEVENT
DTSTART;TZID=America/Los_Angeles:20170629T130000
DTEND;TZID=America/Los_Angeles:20170629T140000
DTSTAMP:20260420T054957
CREATED:20161126T180656Z
LAST-MODIFIED:20161126T180656Z
UID:10002114-1498741200-1498744800@heroesvoices.org
SUMMARY:Drum Circle (Yountville\, CA)
DESCRIPTION:Participation is restricted.  \nCall 415-484-9852 for more information.
URL:https://heroesvoices.org/calendar/drum-circle-yountville-ca-2/2017-06-29/
LOCATION:CAL-VET Veteran’s Home\, Yountville\, CA\, Yountville\, CA\, United States
CATEGORIES:Drum Circle
ATTACH;FMTTYPE=image/jpeg:https://heroesvoices.org/wp-content/uploads/2015/06/Cal-Vet-1.jpg
GEO:38.4015781;-122.3608105
END:VEVENT
BEGIN:VEVENT
DTSTART;TZID=America/Los_Angeles:20161020T130000
DTEND;TZID=America/Los_Angeles:20161020T140000
DTSTAMP:20260420T054957
CREATED:20161020T170335Z
LAST-MODIFIED:20161020T170335Z
UID:10002041-1476968400-1476972000@heroesvoices.org
SUMMARY:Drum Circle (Yountville\, CA)
DESCRIPTION:Participation is restricted. call 415-484-9852 for more information.
URL:https://heroesvoices.org/calendar/drum-circle-yountville-ca/2016-10-20/
LOCATION:CAL-VET Veteran’s Home\, Yountville\, CA\, Yountville\, CA\, United States
CATEGORIES:Drum Circle
ATTACH;FMTTYPE=image/jpeg:https://heroesvoices.org/wp-content/uploads/2015/06/Cal-Vet-1.jpg
GEO:38.4015781;-122.3608105
END:VEVENT
END:VCALENDAR