BEGIN:VCALENDAR
VERSION:2.0
PRODID:-//Heroes&#039; Voices - ECPv6.15.18//NONSGML v1.0//EN
CALSCALE:GREGORIAN
METHOD:PUBLISH
X-WR-CALNAME:Heroes&#039; Voices
X-ORIGINAL-URL:https://heroesvoices.org
X-WR-CALDESC:Events for Heroes&#039; Voices
REFRESH-INTERVAL;VALUE=DURATION:PT1H
X-Robots-Tag:noindex
X-PUBLISHED-TTL:PT1H
BEGIN:VTIMEZONE
TZID:America/Los_Angeles
BEGIN:DAYLIGHT
TZOFFSETFROM:-0800
TZOFFSETTO:-0700
TZNAME:PDT
DTSTART:20140309T100000
END:DAYLIGHT
BEGIN:STANDARD
TZOFFSETFROM:-0700
TZOFFSETTO:-0800
TZNAME:PST
DTSTART:20141102T090000
END:STANDARD
BEGIN:DAYLIGHT
TZOFFSETFROM:-0800
TZOFFSETTO:-0700
TZNAME:PDT
DTSTART:20150308T100000
END:DAYLIGHT
BEGIN:STANDARD
TZOFFSETFROM:-0700
TZOFFSETTO:-0800
TZNAME:PST
DTSTART:20151101T090000
END:STANDARD
BEGIN:DAYLIGHT
TZOFFSETFROM:-0800
TZOFFSETTO:-0700
TZNAME:PDT
DTSTART:20160313T100000
END:DAYLIGHT
BEGIN:STANDARD
TZOFFSETFROM:-0700
TZOFFSETTO:-0800
TZNAME:PST
DTSTART:20161106T090000
END:STANDARD
BEGIN:DAYLIGHT
TZOFFSETFROM:-0800
TZOFFSETTO:-0700
TZNAME:PDT
DTSTART:20170312T100000
END:DAYLIGHT
BEGIN:STANDARD
TZOFFSETFROM:-0700
TZOFFSETTO:-0800
TZNAME:PST
DTSTART:20171105T090000
END:STANDARD
BEGIN:DAYLIGHT
TZOFFSETFROM:-0800
TZOFFSETTO:-0700
TZNAME:PDT
DTSTART:20180311T100000
END:DAYLIGHT
BEGIN:STANDARD
TZOFFSETFROM:-0700
TZOFFSETTO:-0800
TZNAME:PST
DTSTART:20181104T090000
END:STANDARD
BEGIN:DAYLIGHT
TZOFFSETFROM:-0800
TZOFFSETTO:-0700
TZNAME:PDT
DTSTART:20190310T100000
END:DAYLIGHT
BEGIN:STANDARD
TZOFFSETFROM:-0700
TZOFFSETTO:-0800
TZNAME:PST
DTSTART:20191103T090000
END:STANDARD
BEGIN:DAYLIGHT
TZOFFSETFROM:-0800
TZOFFSETTO:-0700
TZNAME:PDT
DTSTART:20200308T100000
END:DAYLIGHT
BEGIN:STANDARD
TZOFFSETFROM:-0700
TZOFFSETTO:-0800
TZNAME:PST
DTSTART:20201101T090000
END:STANDARD
BEGIN:DAYLIGHT
TZOFFSETFROM:-0800
TZOFFSETTO:-0700
TZNAME:PDT
DTSTART:20210314T100000
END:DAYLIGHT
BEGIN:STANDARD
TZOFFSETFROM:-0700
TZOFFSETTO:-0800
TZNAME:PST
DTSTART:20211107T090000
END:STANDARD
END:VTIMEZONE
BEGIN:VEVENT
DTSTART;TZID=America/Los_Angeles:20150502T103000
DTEND;TZID=America/Los_Angeles:20150502T120000
DTSTAMP:20260419T080454
CREATED:20150609T231647Z
LAST-MODIFIED:20150609T231647Z
UID:10000005-1430562600-1430568000@heroesvoices.org
SUMMARY:Vets Singing with Vets (Menlo Park\, CA)
DESCRIPTION:Free event for all veterans and the public. Call 415-484-9652 to register.
URL:https://heroesvoices.org/calendar/menlo-park/2015-05-02/
LOCATION:VA Center\, Menlo Park\, CA\, 795 Willow Road\, Menlo Park\, CA\, 94025\, United States
CATEGORIES:Poetry Slam,Vets Singing with Vets
GEO:37.4655086;-122.1607757
X-APPLE-STRUCTURED-LOCATION;VALUE=URI;X-ADDRESS=VA Center Menlo Park CA 795 Willow Road Menlo Park CA 94025 United States;X-APPLE-RADIUS=500;X-TITLE=795 Willow Road:geo:-122.1607757,37.4655086
END:VEVENT
BEGIN:VEVENT
DTSTART;TZID=America/Los_Angeles:20150909T103000
DTEND;TZID=America/Los_Angeles:20150909T120000
DTSTAMP:20260419T080454
CREATED:20150611T222224Z
LAST-MODIFIED:20150611T222224Z
UID:10000009-1441794600-1441800000@heroesvoices.org
SUMMARY:Vets Singing with Vets & Poetry Slam (Menlo Park\, CA)
DESCRIPTION:Tentatively Scheduled. \nFree event for all veterans and the public. Call 415-484-9652 to register.
URL:https://heroesvoices.org/calendar/menlo-park-ca-vvps/2015-09-09/
LOCATION:VA Center\, Menlo Park\, CA\, 795 Willow Road\, Menlo Park\, CA\, 94025\, United States
CATEGORIES:Poetry Slam,Vets Singing with Vets
ATTACH;FMTTYPE=image/jpeg:https://heroesvoices.org/wp-content/uploads/2015/06/16108__4549-Low-Res-CMichael-Mustacchi-2-1.jpg
GEO:37.4655086;-122.1607757
X-APPLE-STRUCTURED-LOCATION;VALUE=URI;X-ADDRESS=VA Center Menlo Park CA 795 Willow Road Menlo Park CA 94025 United States;X-APPLE-RADIUS=500;X-TITLE=795 Willow Road:geo:-122.1607757,37.4655086
END:VEVENT
BEGIN:VEVENT
DTSTART;TZID=America/Los_Angeles:20160305T103000
DTEND;TZID=America/Los_Angeles:20160305T120000
DTSTAMP:20260419T080454
CREATED:20151206T190832Z
LAST-MODIFIED:20160406T145507Z
UID:10001822-1457173800-1457179200@heroesvoices.org
SUMMARY:Vets Singing with Vets and Poetry Slam (Menlo Park\, CA)
DESCRIPTION:Free event for all veterans and the public.  \nDates are subject to change. \n Call 415-484-9652 to register.
URL:https://heroesvoices.org/calendar/vets-singing-with-vets-and-poetry-slam-menlo-park-ca/2016-03-05/
LOCATION:VA Center\, Menlo Park\, CA\, 795 Willow Road\, Menlo Park\, CA\, 94025\, United States
CATEGORIES:Poetry Slam,Vets Singing with Vets
GEO:37.4655086;-122.1607757
X-APPLE-STRUCTURED-LOCATION;VALUE=URI;X-ADDRESS=VA Center Menlo Park CA 795 Willow Road Menlo Park CA 94025 United States;X-APPLE-RADIUS=500;X-TITLE=795 Willow Road:geo:-122.1607757,37.4655086
END:VEVENT
BEGIN:VEVENT
DTSTART;TZID=America/Los_Angeles:20160307T150000
DTEND;TZID=America/Los_Angeles:20160307T160000
DTSTAMP:20260419T080455
CREATED:20160406T144726Z
LAST-MODIFIED:20160606T194348Z
UID:10001825-1457362800-1457366400@heroesvoices.org
SUMMARY:Vets Singing with Vets and Poetry Slam (San Francisco County Jail)
DESCRIPTION:Participation is restricted. \nDates are subject to change. \nCall 415-484-9852 for more information.
URL:https://heroesvoices.org/calendar/vets-singing-with-vets-and-poetry-slam-san-francisco-county-jail/2016-03-07/
LOCATION:San Francisco County Jail\, San Bruno\, CA\, United States
CATEGORIES:Poetry Slam,Vets Singing with Vets
ATTACH;FMTTYPE=image/jpeg:https://heroesvoices.org/wp-content/uploads/2016/04/San-Francisco-County-Jail-5.jpg
GEO:37.6304904;-122.4110835
END:VEVENT
BEGIN:VEVENT
DTSTART;TZID=America/Los_Angeles:20161015T103000
DTEND;TZID=America/Los_Angeles:20161015T120000
DTSTAMP:20260419T080455
CREATED:20161020T171520Z
LAST-MODIFIED:20161020T171520Z
UID:10002042-1476527400-1476532800@heroesvoices.org
SUMMARY:Vets Singing with Vets and Poetry Slam (Menlo Park\, CA)
DESCRIPTION:Free event for all veterans and the public. \nDates are subject to change. \nCall 415-484-9652 to register.
URL:https://heroesvoices.org/calendar/vets-singing-with-vets-and-poetry-slam-menlo-park-ca-2/2016-10-15/
LOCATION:VA Center\, Menlo Park\, CA\, 795 Willow Road\, Menlo Park\, CA\, 94025\, United States
CATEGORIES:Guitar Corps,Poetry Slam
GEO:37.4655086;-122.1607757
X-APPLE-STRUCTURED-LOCATION;VALUE=URI;X-ADDRESS=VA Center Menlo Park CA 795 Willow Road Menlo Park CA 94025 United States;X-APPLE-RADIUS=500;X-TITLE=795 Willow Road:geo:-122.1607757,37.4655086
END:VEVENT
BEGIN:VEVENT
DTSTART;TZID=America/Los_Angeles:20170821T140000
DTEND;TZID=America/Los_Angeles:20170821T150000
DTSTAMP:20260419T080455
CREATED:20161126T180241Z
LAST-MODIFIED:20170810T205603Z
UID:10002088-1503324000-1503327600@heroesvoices.org
SUMMARY:Vets Singing with Vets with Country Joe McDonald (San Francisco County Jail)
DESCRIPTION:SPECIAL EVENT featuring Country Joe MacDonald \nParticipation is restricted. Dates are subject to change. Call 415-484-9852 for more information.
URL:https://heroesvoices.org/calendar/vets-singing-with-vets-and-poetry-slam-san-francisco-county-jail-2-2017-08-21/
LOCATION:San Francisco County Jail\, San Bruno\, CA\, United States
CATEGORIES:Poetry Slam,Vets Singing with Vets
ATTACH;FMTTYPE=image/jpeg:https://heroesvoices.org/wp-content/uploads/2016/11/Country-Joe.jpg
GEO:37.6304904;-122.4110835
END:VEVENT
BEGIN:VEVENT
DTSTART;TZID=America/Los_Angeles:20171111T103000
DTEND;TZID=America/Los_Angeles:20171111T120000
DTSTAMP:20260419T080455
CREATED:20170810T211106Z
LAST-MODIFIED:20170818T171905Z
UID:10003119-1510396200-1510401600@heroesvoices.org
SUMMARY:Vets Singing with Vets and Poetry Slam (Menlo Park\, CA)
DESCRIPTION:Free event for all veterans and the public. \nDates are subject to change. \nCall 415-484-9652 to register.
URL:https://heroesvoices.org/calendar/vets-singing-with-vets-and-poetry-slam-menlo-park-ca-3-2017-10-14/2017-11-11/
LOCATION:VA Center\, Menlo Park\, CA\, 795 Willow Road\, Menlo Park\, CA\, 94025\, United States
CATEGORIES:Guitar Corps,Poetry Slam,Vets Singing with Vets
ATTACH;FMTTYPE=image/jpeg:https://heroesvoices.org/wp-content/uploads/2015/06/16108__4525-Low-Res-CMichael-Mustacchi-1.jpg
GEO:37.4655086;-122.1607757
X-APPLE-STRUCTURED-LOCATION;VALUE=URI;X-ADDRESS=VA Center Menlo Park CA 795 Willow Road Menlo Park CA 94025 United States;X-APPLE-RADIUS=500;X-TITLE=795 Willow Road:geo:-122.1607757,37.4655086
END:VEVENT
BEGIN:VEVENT
DTSTART;TZID=America/Los_Angeles:20171211T140000
DTEND;TZID=America/Los_Angeles:20171211T150000
DTSTAMP:20260419T080455
CREATED:20161126T180241Z
LAST-MODIFIED:20170626T162704Z
UID:10002087-1513000800-1513004400@heroesvoices.org
SUMMARY:Vets Singing with Vets and Poetry Slam (San Francisco County Jail)
DESCRIPTION:Participation is restricted. Dates are subject to change. Call 415-484-9852 for more information.
URL:https://heroesvoices.org/calendar/vets-singing-with-vets-and-poetry-slam-san-francisco-county-jail-2/2017-12-11/
LOCATION:San Francisco County Jail\, San Bruno\, CA\, United States
CATEGORIES:Poetry Slam,Vets Singing with Vets
ATTACH;FMTTYPE=image/jpeg:https://heroesvoices.org/wp-content/uploads/2016/04/San-Francisco-County-Jail-5.jpg
GEO:37.6304904;-122.4110835
END:VEVENT
BEGIN:VEVENT
DTSTART;TZID=America/Los_Angeles:20201221T140000
DTEND;TZID=America/Los_Angeles:20201221T150000
DTSTAMP:20260419T080455
CREATED:20180801T204742Z
LAST-MODIFIED:20200212T232519Z
UID:10002360-1608559200-1608562800@heroesvoices.org
SUMMARY:Vets Singing with Vets and Poetry Workshop (San Francisco County Jail)
DESCRIPTION:Participation is restricted. Dates are subject to change. Call 415-484-9852 for more information.
URL:https://heroesvoices.org/calendar/vets-singing-with-vets-and-poetry-workshop-san-francisco-county-jail/2020-12-21/
LOCATION:San Francisco County Jail\, San Bruno\, CA\, United States
CATEGORIES:Poetry Slam,Vets Singing with Vets
ATTACH;FMTTYPE=image/jpeg:https://heroesvoices.org/wp-content/uploads/2016/04/San-Francisco-County-Jail-5.jpg
GEO:37.6304904;-122.4110835
END:VEVENT
END:VCALENDAR