BEGIN:VCALENDAR
VERSION:2.0
PRODID:-//Heroes&#039; Voices - ECPv6.15.18//NONSGML v1.0//EN
CALSCALE:GREGORIAN
METHOD:PUBLISH
X-WR-CALNAME:Heroes&#039; Voices
X-ORIGINAL-URL:https://heroesvoices.org
X-WR-CALDESC:Events for Heroes&#039; Voices
REFRESH-INTERVAL;VALUE=DURATION:PT1H
X-Robots-Tag:noindex
X-PUBLISHED-TTL:PT1H
BEGIN:VTIMEZONE
TZID:America/Los_Angeles
BEGIN:DAYLIGHT
TZOFFSETFROM:-0800
TZOFFSETTO:-0700
TZNAME:PDT
DTSTART:20240310T100000
END:DAYLIGHT
BEGIN:STANDARD
TZOFFSETFROM:-0700
TZOFFSETTO:-0800
TZNAME:PST
DTSTART:20241103T090000
END:STANDARD
BEGIN:DAYLIGHT
TZOFFSETFROM:-0800
TZOFFSETTO:-0700
TZNAME:PDT
DTSTART:20250309T100000
END:DAYLIGHT
BEGIN:STANDARD
TZOFFSETFROM:-0700
TZOFFSETTO:-0800
TZNAME:PST
DTSTART:20251102T090000
END:STANDARD
BEGIN:DAYLIGHT
TZOFFSETFROM:-0800
TZOFFSETTO:-0700
TZNAME:PDT
DTSTART:20260308T100000
END:DAYLIGHT
BEGIN:STANDARD
TZOFFSETFROM:-0700
TZOFFSETTO:-0800
TZNAME:PST
DTSTART:20261101T090000
END:STANDARD
END:VTIMEZONE
BEGIN:VEVENT
DTSTART;TZID=America/Los_Angeles:20251008T143000
DTEND;TZID=America/Los_Angeles:20251008T153000
DTSTAMP:20260420T181346
CREATED:20220322T173858Z
LAST-MODIFIED:20220322T174234Z
UID:10002797-1759933800-1759937400@heroesvoices.org
SUMMARY:Online Guitar Classes with Paul Young
DESCRIPTION:These group lessons are available at no charge to all US Veterans everywhere. \nContact us for information about how to participate in these online guitar classes.
URL:https://heroesvoices.org/calendar/online-guitar-lessons-with-paul-young/2025-10-08/
LOCATION:Online\, Register to get connection details
END:VEVENT
BEGIN:VEVENT
DTSTART;TZID=America/Los_Angeles:20251010T113000
DTEND;TZID=America/Los_Angeles:20251010T113000
DTSTAMP:20260420T181346
CREATED:20220322T174118Z
LAST-MODIFIED:20220322T175312Z
UID:10002558-1760095800-1760095800@heroesvoices.org
SUMMARY:Online Guitar Classes with Larry Chung
DESCRIPTION:These group lessons are available at no charge to all US Veterans everywhere. \nContact us for information about how to participate in these online guitar classes.
URL:https://heroesvoices.org/calendar/online-guitar-classes-with-larry-chung/2025-10-10/
LOCATION:Online\, Register to get connection details
END:VEVENT
BEGIN:VEVENT
DTSTART;TZID=America/Los_Angeles:20251010T113000
DTEND;TZID=America/Los_Angeles:20251010T113000
DTSTAMP:20260420T181346
CREATED:20220322T174118Z
LAST-MODIFIED:20250901T174533Z
UID:10003210-1760095800-1760095800@heroesvoices.org
SUMMARY:Online Guitar Classes with Larry Chung
DESCRIPTION:These group lessons are available at no charge to all US Veterans everywhere. \nContact us for information about how to participate in these online guitar classes.
URL:https://heroesvoices.org/calendar/online-guitar-classes-with-larry-chung/2025-10-10/
LOCATION:Online\, Register to get connection details
END:VEVENT
BEGIN:VEVENT
DTSTART;TZID=America/Los_Angeles:20251010T113000
DTEND;TZID=America/Los_Angeles:20251010T113000
DTSTAMP:20260420T181346
CREATED:20220322T174118Z
LAST-MODIFIED:20250901T174533Z
UID:10003536-1760095800-1760095800@heroesvoices.org
SUMMARY:Online Guitar Classes with Larry Chung
DESCRIPTION:These group lessons are available at no charge to all US Veterans everywhere. \nContact us for information about how to participate in these online guitar classes.
URL:https://heroesvoices.org/calendar/online-guitar-classes-with-larry-chung/2025-10-10/
LOCATION:Online\, Register to get connection details
END:VEVENT
BEGIN:VEVENT
DTSTART;TZID=America/Los_Angeles:20251010T113000
DTEND;TZID=America/Los_Angeles:20251010T113000
DTSTAMP:20260420T181346
CREATED:20220322T174118Z
LAST-MODIFIED:20250901T174533Z
UID:10003861-1760095800-1760095800@heroesvoices.org
SUMMARY:Online Guitar Classes with Larry Chung
DESCRIPTION:These group lessons are available at no charge to all US Veterans everywhere. \nContact us for information about how to participate in these online guitar classes.
URL:https://heroesvoices.org/calendar/online-guitar-classes-with-larry-chung/2025-10-10/
LOCATION:Online\, Register to get connection details
END:VEVENT
BEGIN:VEVENT
DTSTART;TZID=America/Los_Angeles:20251010T113000
DTEND;TZID=America/Los_Angeles:20251010T113000
DTSTAMP:20260420T181346
CREATED:20220322T174118Z
LAST-MODIFIED:20250901T174533Z
UID:10004185-1760095800-1760095800@heroesvoices.org
SUMMARY:Online Guitar Classes with Larry Chung
DESCRIPTION:These group lessons are available at no charge to all US Veterans everywhere. \nContact us for information about how to participate in these online guitar classes.
URL:https://heroesvoices.org/calendar/online-guitar-classes-with-larry-chung/2025-10-10/
LOCATION:Online\, Register to get connection details
END:VEVENT
BEGIN:VEVENT
DTSTART;TZID=America/Los_Angeles:20251017T113000
DTEND;TZID=America/Los_Angeles:20251017T113000
DTSTAMP:20260420T181346
CREATED:20220322T174118Z
LAST-MODIFIED:20250901T174533Z
UID:10003211-1760700600-1760700600@heroesvoices.org
SUMMARY:Online Guitar Classes with Larry Chung
DESCRIPTION:These group lessons are available at no charge to all US Veterans everywhere. \nContact us for information about how to participate in these online guitar classes.
URL:https://heroesvoices.org/calendar/online-guitar-classes-with-larry-chung/2025-10-17/
LOCATION:Online\, Register to get connection details
END:VEVENT
BEGIN:VEVENT
DTSTART;TZID=America/Los_Angeles:20251017T113000
DTEND;TZID=America/Los_Angeles:20251017T113000
DTSTAMP:20260420T181346
CREATED:20220322T174118Z
LAST-MODIFIED:20250901T174533Z
UID:10003537-1760700600-1760700600@heroesvoices.org
SUMMARY:Online Guitar Classes with Larry Chung
DESCRIPTION:These group lessons are available at no charge to all US Veterans everywhere. \nContact us for information about how to participate in these online guitar classes.
URL:https://heroesvoices.org/calendar/online-guitar-classes-with-larry-chung/2025-10-17/
LOCATION:Online\, Register to get connection details
END:VEVENT
BEGIN:VEVENT
DTSTART;TZID=America/Los_Angeles:20251017T113000
DTEND;TZID=America/Los_Angeles:20251017T113000
DTSTAMP:20260420T181346
CREATED:20220322T174118Z
LAST-MODIFIED:20250901T174533Z
UID:10003862-1760700600-1760700600@heroesvoices.org
SUMMARY:Online Guitar Classes with Larry Chung
DESCRIPTION:These group lessons are available at no charge to all US Veterans everywhere. \nContact us for information about how to participate in these online guitar classes.
URL:https://heroesvoices.org/calendar/online-guitar-classes-with-larry-chung/2025-10-17/
LOCATION:Online\, Register to get connection details
END:VEVENT
BEGIN:VEVENT
DTSTART;TZID=America/Los_Angeles:20251017T113000
DTEND;TZID=America/Los_Angeles:20251017T113000
DTSTAMP:20260420T181346
CREATED:20220322T174118Z
LAST-MODIFIED:20250901T174533Z
UID:10004186-1760700600-1760700600@heroesvoices.org
SUMMARY:Online Guitar Classes with Larry Chung
DESCRIPTION:These group lessons are available at no charge to all US Veterans everywhere. \nContact us for information about how to participate in these online guitar classes.
URL:https://heroesvoices.org/calendar/online-guitar-classes-with-larry-chung/2025-10-17/
LOCATION:Online\, Register to get connection details
END:VEVENT
BEGIN:VEVENT
DTSTART;TZID=America/Los_Angeles:20251024T113000
DTEND;TZID=America/Los_Angeles:20251024T113000
DTSTAMP:20260420T181346
CREATED:20220322T174118Z
LAST-MODIFIED:20250901T174533Z
UID:10003212-1761305400-1761305400@heroesvoices.org
SUMMARY:Online Guitar Classes with Larry Chung
DESCRIPTION:These group lessons are available at no charge to all US Veterans everywhere. \nContact us for information about how to participate in these online guitar classes.
URL:https://heroesvoices.org/calendar/online-guitar-classes-with-larry-chung/2025-10-24/
LOCATION:Online\, Register to get connection details
END:VEVENT
BEGIN:VEVENT
DTSTART;TZID=America/Los_Angeles:20251024T113000
DTEND;TZID=America/Los_Angeles:20251024T113000
DTSTAMP:20260420T181346
CREATED:20220322T174118Z
LAST-MODIFIED:20250901T174533Z
UID:10003538-1761305400-1761305400@heroesvoices.org
SUMMARY:Online Guitar Classes with Larry Chung
DESCRIPTION:These group lessons are available at no charge to all US Veterans everywhere. \nContact us for information about how to participate in these online guitar classes.
URL:https://heroesvoices.org/calendar/online-guitar-classes-with-larry-chung/2025-10-24/
LOCATION:Online\, Register to get connection details
END:VEVENT
BEGIN:VEVENT
DTSTART;TZID=America/Los_Angeles:20251024T113000
DTEND;TZID=America/Los_Angeles:20251024T113000
DTSTAMP:20260420T181346
CREATED:20220322T174118Z
LAST-MODIFIED:20250901T174533Z
UID:10003863-1761305400-1761305400@heroesvoices.org
SUMMARY:Online Guitar Classes with Larry Chung
DESCRIPTION:These group lessons are available at no charge to all US Veterans everywhere. \nContact us for information about how to participate in these online guitar classes.
URL:https://heroesvoices.org/calendar/online-guitar-classes-with-larry-chung/2025-10-24/
LOCATION:Online\, Register to get connection details
END:VEVENT
BEGIN:VEVENT
DTSTART;TZID=America/Los_Angeles:20251024T113000
DTEND;TZID=America/Los_Angeles:20251024T113000
DTSTAMP:20260420T181346
CREATED:20220322T174118Z
LAST-MODIFIED:20250901T174533Z
UID:10004187-1761305400-1761305400@heroesvoices.org
SUMMARY:Online Guitar Classes with Larry Chung
DESCRIPTION:These group lessons are available at no charge to all US Veterans everywhere. \nContact us for information about how to participate in these online guitar classes.
URL:https://heroesvoices.org/calendar/online-guitar-classes-with-larry-chung/2025-10-24/
LOCATION:Online\, Register to get connection details
END:VEVENT
BEGIN:VEVENT
DTSTART;TZID=America/Los_Angeles:20251031T113000
DTEND;TZID=America/Los_Angeles:20251031T113000
DTSTAMP:20260420T181346
CREATED:20220322T174118Z
LAST-MODIFIED:20250901T174533Z
UID:10003213-1761910200-1761910200@heroesvoices.org
SUMMARY:Online Guitar Classes with Larry Chung
DESCRIPTION:These group lessons are available at no charge to all US Veterans everywhere. \nContact us for information about how to participate in these online guitar classes.
URL:https://heroesvoices.org/calendar/online-guitar-classes-with-larry-chung/2025-10-31/
LOCATION:Online\, Register to get connection details
END:VEVENT
BEGIN:VEVENT
DTSTART;TZID=America/Los_Angeles:20251031T113000
DTEND;TZID=America/Los_Angeles:20251031T113000
DTSTAMP:20260420T181346
CREATED:20220322T174118Z
LAST-MODIFIED:20250901T174533Z
UID:10003539-1761910200-1761910200@heroesvoices.org
SUMMARY:Online Guitar Classes with Larry Chung
DESCRIPTION:These group lessons are available at no charge to all US Veterans everywhere. \nContact us for information about how to participate in these online guitar classes.
URL:https://heroesvoices.org/calendar/online-guitar-classes-with-larry-chung/2025-10-31/
LOCATION:Online\, Register to get connection details
END:VEVENT
BEGIN:VEVENT
DTSTART;TZID=America/Los_Angeles:20251031T113000
DTEND;TZID=America/Los_Angeles:20251031T113000
DTSTAMP:20260420T181346
CREATED:20220322T174118Z
LAST-MODIFIED:20250901T174533Z
UID:10003864-1761910200-1761910200@heroesvoices.org
SUMMARY:Online Guitar Classes with Larry Chung
DESCRIPTION:These group lessons are available at no charge to all US Veterans everywhere. \nContact us for information about how to participate in these online guitar classes.
URL:https://heroesvoices.org/calendar/online-guitar-classes-with-larry-chung/2025-10-31/
LOCATION:Online\, Register to get connection details
END:VEVENT
BEGIN:VEVENT
DTSTART;TZID=America/Los_Angeles:20251031T113000
DTEND;TZID=America/Los_Angeles:20251031T113000
DTSTAMP:20260420T181346
CREATED:20220322T174118Z
LAST-MODIFIED:20250901T174533Z
UID:10004188-1761910200-1761910200@heroesvoices.org
SUMMARY:Online Guitar Classes with Larry Chung
DESCRIPTION:These group lessons are available at no charge to all US Veterans everywhere. \nContact us for information about how to participate in these online guitar classes.
URL:https://heroesvoices.org/calendar/online-guitar-classes-with-larry-chung/2025-10-31/
LOCATION:Online\, Register to get connection details
END:VEVENT
BEGIN:VEVENT
DTSTART;TZID=America/Los_Angeles:20251107T113000
DTEND;TZID=America/Los_Angeles:20251107T113000
DTSTAMP:20260420T181346
CREATED:20220322T174118Z
LAST-MODIFIED:20250901T174533Z
UID:10003214-1762515000-1762515000@heroesvoices.org
SUMMARY:Online Guitar Classes with Larry Chung
DESCRIPTION:These group lessons are available at no charge to all US Veterans everywhere. \nContact us for information about how to participate in these online guitar classes.
URL:https://heroesvoices.org/calendar/online-guitar-classes-with-larry-chung/2025-11-07/
LOCATION:Online\, Register to get connection details
END:VEVENT
BEGIN:VEVENT
DTSTART;TZID=America/Los_Angeles:20251107T113000
DTEND;TZID=America/Los_Angeles:20251107T113000
DTSTAMP:20260420T181346
CREATED:20220322T174118Z
LAST-MODIFIED:20250901T174533Z
UID:10003540-1762515000-1762515000@heroesvoices.org
SUMMARY:Online Guitar Classes with Larry Chung
DESCRIPTION:These group lessons are available at no charge to all US Veterans everywhere. \nContact us for information about how to participate in these online guitar classes.
URL:https://heroesvoices.org/calendar/online-guitar-classes-with-larry-chung/2025-11-07/
LOCATION:Online\, Register to get connection details
END:VEVENT
BEGIN:VEVENT
DTSTART;TZID=America/Los_Angeles:20251107T113000
DTEND;TZID=America/Los_Angeles:20251107T113000
DTSTAMP:20260420T181346
CREATED:20220322T174118Z
LAST-MODIFIED:20250901T174533Z
UID:10003865-1762515000-1762515000@heroesvoices.org
SUMMARY:Online Guitar Classes with Larry Chung
DESCRIPTION:These group lessons are available at no charge to all US Veterans everywhere. \nContact us for information about how to participate in these online guitar classes.
URL:https://heroesvoices.org/calendar/online-guitar-classes-with-larry-chung/2025-11-07/
LOCATION:Online\, Register to get connection details
END:VEVENT
BEGIN:VEVENT
DTSTART;TZID=America/Los_Angeles:20251107T113000
DTEND;TZID=America/Los_Angeles:20251107T113000
DTSTAMP:20260420T181346
CREATED:20220322T174118Z
LAST-MODIFIED:20250901T174533Z
UID:10004189-1762515000-1762515000@heroesvoices.org
SUMMARY:Online Guitar Classes with Larry Chung
DESCRIPTION:These group lessons are available at no charge to all US Veterans everywhere. \nContact us for information about how to participate in these online guitar classes.
URL:https://heroesvoices.org/calendar/online-guitar-classes-with-larry-chung/2025-11-07/
LOCATION:Online\, Register to get connection details
END:VEVENT
BEGIN:VEVENT
DTSTART;TZID=America/Los_Angeles:20251114T113000
DTEND;TZID=America/Los_Angeles:20251114T113000
DTSTAMP:20260420T181346
CREATED:20220322T174118Z
LAST-MODIFIED:20250901T174533Z
UID:10003215-1763119800-1763119800@heroesvoices.org
SUMMARY:Online Guitar Classes with Larry Chung
DESCRIPTION:These group lessons are available at no charge to all US Veterans everywhere. \nContact us for information about how to participate in these online guitar classes.
URL:https://heroesvoices.org/calendar/online-guitar-classes-with-larry-chung/2025-11-14/
LOCATION:Online\, Register to get connection details
END:VEVENT
BEGIN:VEVENT
DTSTART;TZID=America/Los_Angeles:20251114T113000
DTEND;TZID=America/Los_Angeles:20251114T113000
DTSTAMP:20260420T181346
CREATED:20220322T174118Z
LAST-MODIFIED:20250901T174533Z
UID:10003541-1763119800-1763119800@heroesvoices.org
SUMMARY:Online Guitar Classes with Larry Chung
DESCRIPTION:These group lessons are available at no charge to all US Veterans everywhere. \nContact us for information about how to participate in these online guitar classes.
URL:https://heroesvoices.org/calendar/online-guitar-classes-with-larry-chung/2025-11-14/
LOCATION:Online\, Register to get connection details
END:VEVENT
BEGIN:VEVENT
DTSTART;TZID=America/Los_Angeles:20251114T113000
DTEND;TZID=America/Los_Angeles:20251114T113000
DTSTAMP:20260420T181346
CREATED:20220322T174118Z
LAST-MODIFIED:20250901T174533Z
UID:10003866-1763119800-1763119800@heroesvoices.org
SUMMARY:Online Guitar Classes with Larry Chung
DESCRIPTION:These group lessons are available at no charge to all US Veterans everywhere. \nContact us for information about how to participate in these online guitar classes.
URL:https://heroesvoices.org/calendar/online-guitar-classes-with-larry-chung/2025-11-14/
LOCATION:Online\, Register to get connection details
END:VEVENT
BEGIN:VEVENT
DTSTART;TZID=America/Los_Angeles:20251114T113000
DTEND;TZID=America/Los_Angeles:20251114T113000
DTSTAMP:20260420T181346
CREATED:20220322T174118Z
LAST-MODIFIED:20250901T174533Z
UID:10004190-1763119800-1763119800@heroesvoices.org
SUMMARY:Online Guitar Classes with Larry Chung
DESCRIPTION:These group lessons are available at no charge to all US Veterans everywhere. \nContact us for information about how to participate in these online guitar classes.
URL:https://heroesvoices.org/calendar/online-guitar-classes-with-larry-chung/2025-11-14/
LOCATION:Online\, Register to get connection details
END:VEVENT
BEGIN:VEVENT
DTSTART;TZID=America/Los_Angeles:20251121T113000
DTEND;TZID=America/Los_Angeles:20251121T113000
DTSTAMP:20260420T181346
CREATED:20220322T174118Z
LAST-MODIFIED:20250901T174533Z
UID:10003216-1763724600-1763724600@heroesvoices.org
SUMMARY:Online Guitar Classes with Larry Chung
DESCRIPTION:These group lessons are available at no charge to all US Veterans everywhere. \nContact us for information about how to participate in these online guitar classes.
URL:https://heroesvoices.org/calendar/online-guitar-classes-with-larry-chung/2025-11-21/
LOCATION:Online\, Register to get connection details
END:VEVENT
BEGIN:VEVENT
DTSTART;TZID=America/Los_Angeles:20251121T113000
DTEND;TZID=America/Los_Angeles:20251121T113000
DTSTAMP:20260420T181346
CREATED:20220322T174118Z
LAST-MODIFIED:20250901T174533Z
UID:10003542-1763724600-1763724600@heroesvoices.org
SUMMARY:Online Guitar Classes with Larry Chung
DESCRIPTION:These group lessons are available at no charge to all US Veterans everywhere. \nContact us for information about how to participate in these online guitar classes.
URL:https://heroesvoices.org/calendar/online-guitar-classes-with-larry-chung/2025-11-21/
LOCATION:Online\, Register to get connection details
END:VEVENT
BEGIN:VEVENT
DTSTART;TZID=America/Los_Angeles:20251121T113000
DTEND;TZID=America/Los_Angeles:20251121T113000
DTSTAMP:20260420T181346
CREATED:20220322T174118Z
LAST-MODIFIED:20250901T174533Z
UID:10003867-1763724600-1763724600@heroesvoices.org
SUMMARY:Online Guitar Classes with Larry Chung
DESCRIPTION:These group lessons are available at no charge to all US Veterans everywhere. \nContact us for information about how to participate in these online guitar classes.
URL:https://heroesvoices.org/calendar/online-guitar-classes-with-larry-chung/2025-11-21/
LOCATION:Online\, Register to get connection details
END:VEVENT
BEGIN:VEVENT
DTSTART;TZID=America/Los_Angeles:20251121T113000
DTEND;TZID=America/Los_Angeles:20251121T113000
DTSTAMP:20260420T181346
CREATED:20220322T174118Z
LAST-MODIFIED:20250901T174533Z
UID:10004191-1763724600-1763724600@heroesvoices.org
SUMMARY:Online Guitar Classes with Larry Chung
DESCRIPTION:These group lessons are available at no charge to all US Veterans everywhere. \nContact us for information about how to participate in these online guitar classes.
URL:https://heroesvoices.org/calendar/online-guitar-classes-with-larry-chung/2025-11-21/
LOCATION:Online\, Register to get connection details
END:VEVENT
END:VCALENDAR