BEGIN:VCALENDAR
VERSION:2.0
PRODID:-//Heroes&#039; Voices - ECPv6.15.18//NONSGML v1.0//EN
CALSCALE:GREGORIAN
METHOD:PUBLISH
X-ORIGINAL-URL:https://heroesvoices.org
X-WR-CALDESC:Events for Heroes&#039; Voices
REFRESH-INTERVAL;VALUE=DURATION:PT1H
X-Robots-Tag:noindex
X-PUBLISHED-TTL:PT1H
BEGIN:VTIMEZONE
TZID:America/Los_Angeles
BEGIN:DAYLIGHT
TZOFFSETFROM:-0800
TZOFFSETTO:-0700
TZNAME:PDT
DTSTART:20260308T100000
END:DAYLIGHT
BEGIN:STANDARD
TZOFFSETFROM:-0700
TZOFFSETTO:-0800
TZNAME:PST
DTSTART:20261101T090000
END:STANDARD
BEGIN:DAYLIGHT
TZOFFSETFROM:-0800
TZOFFSETTO:-0700
TZNAME:PDT
DTSTART:20270314T100000
END:DAYLIGHT
BEGIN:STANDARD
TZOFFSETFROM:-0700
TZOFFSETTO:-0800
TZNAME:PST
DTSTART:20271107T090000
END:STANDARD
BEGIN:DAYLIGHT
TZOFFSETFROM:-0800
TZOFFSETTO:-0700
TZNAME:PDT
DTSTART:20280312T100000
END:DAYLIGHT
BEGIN:STANDARD
TZOFFSETFROM:-0700
TZOFFSETTO:-0800
TZNAME:PST
DTSTART:20281105T090000
END:STANDARD
END:VTIMEZONE
BEGIN:VEVENT
DTSTART;TZID=America/Los_Angeles:20270702T113000
DTEND;TZID=America/Los_Angeles:20270702T113000
DTSTAMP:20260422T040753
CREATED:20220322T174118Z
LAST-MODIFIED:20250901T174533Z
UID:10003300-1814527800-1814527800@heroesvoices.org
SUMMARY:Online Guitar Classes with Larry Chung
DESCRIPTION:These group lessons are available at no charge to all US Veterans everywhere. \nContact us for information about how to participate in these online guitar classes.
URL:https://heroesvoices.org/calendar/online-guitar-classes-with-larry-chung/2027-07-02/
LOCATION:Online\, Register to get connection details
END:VEVENT
BEGIN:VEVENT
DTSTART;TZID=America/Los_Angeles:20270702T113000
DTEND;TZID=America/Los_Angeles:20270702T113000
DTSTAMP:20260422T040753
CREATED:20220322T174118Z
LAST-MODIFIED:20250901T174533Z
UID:10003626-1814527800-1814527800@heroesvoices.org
SUMMARY:Online Guitar Classes with Larry Chung
DESCRIPTION:These group lessons are available at no charge to all US Veterans everywhere. \nContact us for information about how to participate in these online guitar classes.
URL:https://heroesvoices.org/calendar/online-guitar-classes-with-larry-chung/2027-07-02/
LOCATION:Online\, Register to get connection details
END:VEVENT
BEGIN:VEVENT
DTSTART;TZID=America/Los_Angeles:20270702T113000
DTEND;TZID=America/Los_Angeles:20270702T113000
DTSTAMP:20260422T040753
CREATED:20220322T174118Z
LAST-MODIFIED:20250901T174533Z
UID:10003951-1814527800-1814527800@heroesvoices.org
SUMMARY:Online Guitar Classes with Larry Chung
DESCRIPTION:These group lessons are available at no charge to all US Veterans everywhere. \nContact us for information about how to participate in these online guitar classes.
URL:https://heroesvoices.org/calendar/online-guitar-classes-with-larry-chung/2027-07-02/
LOCATION:Online\, Register to get connection details
END:VEVENT
BEGIN:VEVENT
DTSTART;TZID=America/Los_Angeles:20270702T113000
DTEND;TZID=America/Los_Angeles:20270702T113000
DTSTAMP:20260422T040753
CREATED:20220322T174118Z
LAST-MODIFIED:20250901T174533Z
UID:10004275-1814527800-1814527800@heroesvoices.org
SUMMARY:Online Guitar Classes with Larry Chung
DESCRIPTION:These group lessons are available at no charge to all US Veterans everywhere. \nContact us for information about how to participate in these online guitar classes.
URL:https://heroesvoices.org/calendar/online-guitar-classes-with-larry-chung/2027-07-02/
LOCATION:Online\, Register to get connection details
END:VEVENT
BEGIN:VEVENT
DTSTART;TZID=America/Los_Angeles:20270709T113000
DTEND;TZID=America/Los_Angeles:20270709T113000
DTSTAMP:20260422T040753
CREATED:20220322T174118Z
LAST-MODIFIED:20250901T174533Z
UID:10003301-1815132600-1815132600@heroesvoices.org
SUMMARY:Online Guitar Classes with Larry Chung
DESCRIPTION:These group lessons are available at no charge to all US Veterans everywhere. \nContact us for information about how to participate in these online guitar classes.
URL:https://heroesvoices.org/calendar/online-guitar-classes-with-larry-chung/2027-07-09/
LOCATION:Online\, Register to get connection details
END:VEVENT
BEGIN:VEVENT
DTSTART;TZID=America/Los_Angeles:20270709T113000
DTEND;TZID=America/Los_Angeles:20270709T113000
DTSTAMP:20260422T040753
CREATED:20220322T174118Z
LAST-MODIFIED:20250901T174533Z
UID:10003627-1815132600-1815132600@heroesvoices.org
SUMMARY:Online Guitar Classes with Larry Chung
DESCRIPTION:These group lessons are available at no charge to all US Veterans everywhere. \nContact us for information about how to participate in these online guitar classes.
URL:https://heroesvoices.org/calendar/online-guitar-classes-with-larry-chung/2027-07-09/
LOCATION:Online\, Register to get connection details
END:VEVENT
BEGIN:VEVENT
DTSTART;TZID=America/Los_Angeles:20270709T113000
DTEND;TZID=America/Los_Angeles:20270709T113000
DTSTAMP:20260422T040753
CREATED:20220322T174118Z
LAST-MODIFIED:20250901T174533Z
UID:10003952-1815132600-1815132600@heroesvoices.org
SUMMARY:Online Guitar Classes with Larry Chung
DESCRIPTION:These group lessons are available at no charge to all US Veterans everywhere. \nContact us for information about how to participate in these online guitar classes.
URL:https://heroesvoices.org/calendar/online-guitar-classes-with-larry-chung/2027-07-09/
LOCATION:Online\, Register to get connection details
END:VEVENT
BEGIN:VEVENT
DTSTART;TZID=America/Los_Angeles:20270709T113000
DTEND;TZID=America/Los_Angeles:20270709T113000
DTSTAMP:20260422T040753
CREATED:20220322T174118Z
LAST-MODIFIED:20250901T174533Z
UID:10004276-1815132600-1815132600@heroesvoices.org
SUMMARY:Online Guitar Classes with Larry Chung
DESCRIPTION:These group lessons are available at no charge to all US Veterans everywhere. \nContact us for information about how to participate in these online guitar classes.
URL:https://heroesvoices.org/calendar/online-guitar-classes-with-larry-chung/2027-07-09/
LOCATION:Online\, Register to get connection details
END:VEVENT
BEGIN:VEVENT
DTSTART;TZID=America/Los_Angeles:20270716T113000
DTEND;TZID=America/Los_Angeles:20270716T113000
DTSTAMP:20260422T040753
CREATED:20220322T174118Z
LAST-MODIFIED:20250901T174533Z
UID:10003302-1815737400-1815737400@heroesvoices.org
SUMMARY:Online Guitar Classes with Larry Chung
DESCRIPTION:These group lessons are available at no charge to all US Veterans everywhere. \nContact us for information about how to participate in these online guitar classes.
URL:https://heroesvoices.org/calendar/online-guitar-classes-with-larry-chung/2027-07-16/
LOCATION:Online\, Register to get connection details
END:VEVENT
BEGIN:VEVENT
DTSTART;TZID=America/Los_Angeles:20270716T113000
DTEND;TZID=America/Los_Angeles:20270716T113000
DTSTAMP:20260422T040753
CREATED:20220322T174118Z
LAST-MODIFIED:20250901T174533Z
UID:10003628-1815737400-1815737400@heroesvoices.org
SUMMARY:Online Guitar Classes with Larry Chung
DESCRIPTION:These group lessons are available at no charge to all US Veterans everywhere. \nContact us for information about how to participate in these online guitar classes.
URL:https://heroesvoices.org/calendar/online-guitar-classes-with-larry-chung/2027-07-16/
LOCATION:Online\, Register to get connection details
END:VEVENT
BEGIN:VEVENT
DTSTART;TZID=America/Los_Angeles:20270716T113000
DTEND;TZID=America/Los_Angeles:20270716T113000
DTSTAMP:20260422T040753
CREATED:20220322T174118Z
LAST-MODIFIED:20250901T174533Z
UID:10003953-1815737400-1815737400@heroesvoices.org
SUMMARY:Online Guitar Classes with Larry Chung
DESCRIPTION:These group lessons are available at no charge to all US Veterans everywhere. \nContact us for information about how to participate in these online guitar classes.
URL:https://heroesvoices.org/calendar/online-guitar-classes-with-larry-chung/2027-07-16/
LOCATION:Online\, Register to get connection details
END:VEVENT
BEGIN:VEVENT
DTSTART;TZID=America/Los_Angeles:20270716T113000
DTEND;TZID=America/Los_Angeles:20270716T113000
DTSTAMP:20260422T040753
CREATED:20220322T174118Z
LAST-MODIFIED:20250901T174533Z
UID:10004277-1815737400-1815737400@heroesvoices.org
SUMMARY:Online Guitar Classes with Larry Chung
DESCRIPTION:These group lessons are available at no charge to all US Veterans everywhere. \nContact us for information about how to participate in these online guitar classes.
URL:https://heroesvoices.org/calendar/online-guitar-classes-with-larry-chung/2027-07-16/
LOCATION:Online\, Register to get connection details
END:VEVENT
BEGIN:VEVENT
DTSTART;TZID=America/Los_Angeles:20270723T113000
DTEND;TZID=America/Los_Angeles:20270723T113000
DTSTAMP:20260422T040753
CREATED:20220322T174118Z
LAST-MODIFIED:20250901T174533Z
UID:10003303-1816342200-1816342200@heroesvoices.org
SUMMARY:Online Guitar Classes with Larry Chung
DESCRIPTION:These group lessons are available at no charge to all US Veterans everywhere. \nContact us for information about how to participate in these online guitar classes.
URL:https://heroesvoices.org/calendar/online-guitar-classes-with-larry-chung/2027-07-23/
LOCATION:Online\, Register to get connection details
END:VEVENT
BEGIN:VEVENT
DTSTART;TZID=America/Los_Angeles:20270723T113000
DTEND;TZID=America/Los_Angeles:20270723T113000
DTSTAMP:20260422T040753
CREATED:20220322T174118Z
LAST-MODIFIED:20250901T174533Z
UID:10003629-1816342200-1816342200@heroesvoices.org
SUMMARY:Online Guitar Classes with Larry Chung
DESCRIPTION:These group lessons are available at no charge to all US Veterans everywhere. \nContact us for information about how to participate in these online guitar classes.
URL:https://heroesvoices.org/calendar/online-guitar-classes-with-larry-chung/2027-07-23/
LOCATION:Online\, Register to get connection details
END:VEVENT
BEGIN:VEVENT
DTSTART;TZID=America/Los_Angeles:20270723T113000
DTEND;TZID=America/Los_Angeles:20270723T113000
DTSTAMP:20260422T040753
CREATED:20220322T174118Z
LAST-MODIFIED:20250901T174533Z
UID:10003954-1816342200-1816342200@heroesvoices.org
SUMMARY:Online Guitar Classes with Larry Chung
DESCRIPTION:These group lessons are available at no charge to all US Veterans everywhere. \nContact us for information about how to participate in these online guitar classes.
URL:https://heroesvoices.org/calendar/online-guitar-classes-with-larry-chung/2027-07-23/
LOCATION:Online\, Register to get connection details
END:VEVENT
BEGIN:VEVENT
DTSTART;TZID=America/Los_Angeles:20270723T113000
DTEND;TZID=America/Los_Angeles:20270723T113000
DTSTAMP:20260422T040753
CREATED:20220322T174118Z
LAST-MODIFIED:20250901T174533Z
UID:10004278-1816342200-1816342200@heroesvoices.org
SUMMARY:Online Guitar Classes with Larry Chung
DESCRIPTION:These group lessons are available at no charge to all US Veterans everywhere. \nContact us for information about how to participate in these online guitar classes.
URL:https://heroesvoices.org/calendar/online-guitar-classes-with-larry-chung/2027-07-23/
LOCATION:Online\, Register to get connection details
END:VEVENT
BEGIN:VEVENT
DTSTART;TZID=America/Los_Angeles:20270730T113000
DTEND;TZID=America/Los_Angeles:20270730T113000
DTSTAMP:20260422T040753
CREATED:20220322T174118Z
LAST-MODIFIED:20250901T174533Z
UID:10003304-1816947000-1816947000@heroesvoices.org
SUMMARY:Online Guitar Classes with Larry Chung
DESCRIPTION:These group lessons are available at no charge to all US Veterans everywhere. \nContact us for information about how to participate in these online guitar classes.
URL:https://heroesvoices.org/calendar/online-guitar-classes-with-larry-chung/2027-07-30/
LOCATION:Online\, Register to get connection details
END:VEVENT
BEGIN:VEVENT
DTSTART;TZID=America/Los_Angeles:20270730T113000
DTEND;TZID=America/Los_Angeles:20270730T113000
DTSTAMP:20260422T040753
CREATED:20220322T174118Z
LAST-MODIFIED:20250901T174533Z
UID:10003630-1816947000-1816947000@heroesvoices.org
SUMMARY:Online Guitar Classes with Larry Chung
DESCRIPTION:These group lessons are available at no charge to all US Veterans everywhere. \nContact us for information about how to participate in these online guitar classes.
URL:https://heroesvoices.org/calendar/online-guitar-classes-with-larry-chung/2027-07-30/
LOCATION:Online\, Register to get connection details
END:VEVENT
BEGIN:VEVENT
DTSTART;TZID=America/Los_Angeles:20270730T113000
DTEND;TZID=America/Los_Angeles:20270730T113000
DTSTAMP:20260422T040753
CREATED:20220322T174118Z
LAST-MODIFIED:20250901T174533Z
UID:10003955-1816947000-1816947000@heroesvoices.org
SUMMARY:Online Guitar Classes with Larry Chung
DESCRIPTION:These group lessons are available at no charge to all US Veterans everywhere. \nContact us for information about how to participate in these online guitar classes.
URL:https://heroesvoices.org/calendar/online-guitar-classes-with-larry-chung/2027-07-30/
LOCATION:Online\, Register to get connection details
END:VEVENT
BEGIN:VEVENT
DTSTART;TZID=America/Los_Angeles:20270730T113000
DTEND;TZID=America/Los_Angeles:20270730T113000
DTSTAMP:20260422T040753
CREATED:20220322T174118Z
LAST-MODIFIED:20250901T174533Z
UID:10004279-1816947000-1816947000@heroesvoices.org
SUMMARY:Online Guitar Classes with Larry Chung
DESCRIPTION:These group lessons are available at no charge to all US Veterans everywhere. \nContact us for information about how to participate in these online guitar classes.
URL:https://heroesvoices.org/calendar/online-guitar-classes-with-larry-chung/2027-07-30/
LOCATION:Online\, Register to get connection details
END:VEVENT
BEGIN:VEVENT
DTSTART;TZID=America/Los_Angeles:20270806T113000
DTEND;TZID=America/Los_Angeles:20270806T113000
DTSTAMP:20260422T040753
CREATED:20220322T174118Z
LAST-MODIFIED:20250901T174533Z
UID:10003305-1817551800-1817551800@heroesvoices.org
SUMMARY:Online Guitar Classes with Larry Chung
DESCRIPTION:These group lessons are available at no charge to all US Veterans everywhere. \nContact us for information about how to participate in these online guitar classes.
URL:https://heroesvoices.org/calendar/online-guitar-classes-with-larry-chung/2027-08-06/
LOCATION:Online\, Register to get connection details
END:VEVENT
BEGIN:VEVENT
DTSTART;TZID=America/Los_Angeles:20270806T113000
DTEND;TZID=America/Los_Angeles:20270806T113000
DTSTAMP:20260422T040753
CREATED:20220322T174118Z
LAST-MODIFIED:20250901T174533Z
UID:10003631-1817551800-1817551800@heroesvoices.org
SUMMARY:Online Guitar Classes with Larry Chung
DESCRIPTION:These group lessons are available at no charge to all US Veterans everywhere. \nContact us for information about how to participate in these online guitar classes.
URL:https://heroesvoices.org/calendar/online-guitar-classes-with-larry-chung/2027-08-06/
LOCATION:Online\, Register to get connection details
END:VEVENT
BEGIN:VEVENT
DTSTART;TZID=America/Los_Angeles:20270806T113000
DTEND;TZID=America/Los_Angeles:20270806T113000
DTSTAMP:20260422T040753
CREATED:20220322T174118Z
LAST-MODIFIED:20250901T174533Z
UID:10003956-1817551800-1817551800@heroesvoices.org
SUMMARY:Online Guitar Classes with Larry Chung
DESCRIPTION:These group lessons are available at no charge to all US Veterans everywhere. \nContact us for information about how to participate in these online guitar classes.
URL:https://heroesvoices.org/calendar/online-guitar-classes-with-larry-chung/2027-08-06/
LOCATION:Online\, Register to get connection details
END:VEVENT
BEGIN:VEVENT
DTSTART;TZID=America/Los_Angeles:20270806T113000
DTEND;TZID=America/Los_Angeles:20270806T113000
DTSTAMP:20260422T040753
CREATED:20220322T174118Z
LAST-MODIFIED:20250901T174533Z
UID:10004280-1817551800-1817551800@heroesvoices.org
SUMMARY:Online Guitar Classes with Larry Chung
DESCRIPTION:These group lessons are available at no charge to all US Veterans everywhere. \nContact us for information about how to participate in these online guitar classes.
URL:https://heroesvoices.org/calendar/online-guitar-classes-with-larry-chung/2027-08-06/
LOCATION:Online\, Register to get connection details
END:VEVENT
BEGIN:VEVENT
DTSTART;TZID=America/Los_Angeles:20270813T113000
DTEND;TZID=America/Los_Angeles:20270813T113000
DTSTAMP:20260422T040753
CREATED:20220322T174118Z
LAST-MODIFIED:20250901T174533Z
UID:10003306-1818156600-1818156600@heroesvoices.org
SUMMARY:Online Guitar Classes with Larry Chung
DESCRIPTION:These group lessons are available at no charge to all US Veterans everywhere. \nContact us for information about how to participate in these online guitar classes.
URL:https://heroesvoices.org/calendar/online-guitar-classes-with-larry-chung/2027-08-13/
LOCATION:Online\, Register to get connection details
END:VEVENT
BEGIN:VEVENT
DTSTART;TZID=America/Los_Angeles:20270813T113000
DTEND;TZID=America/Los_Angeles:20270813T113000
DTSTAMP:20260422T040753
CREATED:20220322T174118Z
LAST-MODIFIED:20250901T174533Z
UID:10003632-1818156600-1818156600@heroesvoices.org
SUMMARY:Online Guitar Classes with Larry Chung
DESCRIPTION:These group lessons are available at no charge to all US Veterans everywhere. \nContact us for information about how to participate in these online guitar classes.
URL:https://heroesvoices.org/calendar/online-guitar-classes-with-larry-chung/2027-08-13/
LOCATION:Online\, Register to get connection details
END:VEVENT
BEGIN:VEVENT
DTSTART;TZID=America/Los_Angeles:20270813T113000
DTEND;TZID=America/Los_Angeles:20270813T113000
DTSTAMP:20260422T040753
CREATED:20220322T174118Z
LAST-MODIFIED:20250901T174533Z
UID:10003957-1818156600-1818156600@heroesvoices.org
SUMMARY:Online Guitar Classes with Larry Chung
DESCRIPTION:These group lessons are available at no charge to all US Veterans everywhere. \nContact us for information about how to participate in these online guitar classes.
URL:https://heroesvoices.org/calendar/online-guitar-classes-with-larry-chung/2027-08-13/
LOCATION:Online\, Register to get connection details
END:VEVENT
BEGIN:VEVENT
DTSTART;TZID=America/Los_Angeles:20270813T113000
DTEND;TZID=America/Los_Angeles:20270813T113000
DTSTAMP:20260422T040753
CREATED:20220322T174118Z
LAST-MODIFIED:20250901T174533Z
UID:10004281-1818156600-1818156600@heroesvoices.org
SUMMARY:Online Guitar Classes with Larry Chung
DESCRIPTION:These group lessons are available at no charge to all US Veterans everywhere. \nContact us for information about how to participate in these online guitar classes.
URL:https://heroesvoices.org/calendar/online-guitar-classes-with-larry-chung/2027-08-13/
LOCATION:Online\, Register to get connection details
END:VEVENT
BEGIN:VEVENT
DTSTART;TZID=America/Los_Angeles:20270820T113000
DTEND;TZID=America/Los_Angeles:20270820T113000
DTSTAMP:20260422T040753
CREATED:20220322T174118Z
LAST-MODIFIED:20250901T174533Z
UID:10003307-1818761400-1818761400@heroesvoices.org
SUMMARY:Online Guitar Classes with Larry Chung
DESCRIPTION:These group lessons are available at no charge to all US Veterans everywhere. \nContact us for information about how to participate in these online guitar classes.
URL:https://heroesvoices.org/calendar/online-guitar-classes-with-larry-chung/2027-08-20/
LOCATION:Online\, Register to get connection details
END:VEVENT
BEGIN:VEVENT
DTSTART;TZID=America/Los_Angeles:20270820T113000
DTEND;TZID=America/Los_Angeles:20270820T113000
DTSTAMP:20260422T040753
CREATED:20220322T174118Z
LAST-MODIFIED:20250901T174533Z
UID:10003633-1818761400-1818761400@heroesvoices.org
SUMMARY:Online Guitar Classes with Larry Chung
DESCRIPTION:These group lessons are available at no charge to all US Veterans everywhere. \nContact us for information about how to participate in these online guitar classes.
URL:https://heroesvoices.org/calendar/online-guitar-classes-with-larry-chung/2027-08-20/
LOCATION:Online\, Register to get connection details
END:VEVENT
END:VCALENDAR