BEGIN:VCALENDAR
VERSION:2.0
PRODID:-//Heroes&#039; Voices - ECPv6.15.18//NONSGML v1.0//EN
CALSCALE:GREGORIAN
METHOD:PUBLISH
X-WR-CALNAME:Heroes&#039; Voices
X-ORIGINAL-URL:https://heroesvoices.org
X-WR-CALDESC:Events for Heroes&#039; Voices
REFRESH-INTERVAL;VALUE=DURATION:PT1H
X-Robots-Tag:noindex
X-PUBLISHED-TTL:PT1H
BEGIN:VTIMEZONE
TZID:America/Los_Angeles
BEGIN:DAYLIGHT
TZOFFSETFROM:-0800
TZOFFSETTO:-0700
TZNAME:PDT
DTSTART:20230312T100000
END:DAYLIGHT
BEGIN:STANDARD
TZOFFSETFROM:-0700
TZOFFSETTO:-0800
TZNAME:PST
DTSTART:20231105T090000
END:STANDARD
BEGIN:DAYLIGHT
TZOFFSETFROM:-0800
TZOFFSETTO:-0700
TZNAME:PDT
DTSTART:20240310T100000
END:DAYLIGHT
BEGIN:STANDARD
TZOFFSETFROM:-0700
TZOFFSETTO:-0800
TZNAME:PST
DTSTART:20241103T090000
END:STANDARD
BEGIN:DAYLIGHT
TZOFFSETFROM:-0800
TZOFFSETTO:-0700
TZNAME:PDT
DTSTART:20250309T100000
END:DAYLIGHT
BEGIN:STANDARD
TZOFFSETFROM:-0700
TZOFFSETTO:-0800
TZNAME:PST
DTSTART:20251102T090000
END:STANDARD
END:VTIMEZONE
BEGIN:VEVENT
DTSTART;TZID=America/Los_Angeles:20240726T113000
DTEND;TZID=America/Los_Angeles:20240726T113000
DTSTAMP:20260420T174600
CREATED:20220322T174118Z
LAST-MODIFIED:20250901T174533Z
UID:10003147-1721993400-1721993400@heroesvoices.org
SUMMARY:Online Guitar Classes with Larry Chung
DESCRIPTION:These group lessons are available at no charge to all US Veterans everywhere. \nContact us for information about how to participate in these online guitar classes.
URL:https://heroesvoices.org/calendar/online-guitar-classes-with-larry-chung/2024-07-26/
LOCATION:Online\, Register to get connection details
END:VEVENT
BEGIN:VEVENT
DTSTART;TZID=America/Los_Angeles:20240726T113000
DTEND;TZID=America/Los_Angeles:20240726T113000
DTSTAMP:20260420T174600
CREATED:20220322T174118Z
LAST-MODIFIED:20250901T174533Z
UID:10003473-1721993400-1721993400@heroesvoices.org
SUMMARY:Online Guitar Classes with Larry Chung
DESCRIPTION:These group lessons are available at no charge to all US Veterans everywhere. \nContact us for information about how to participate in these online guitar classes.
URL:https://heroesvoices.org/calendar/online-guitar-classes-with-larry-chung/2024-07-26/
LOCATION:Online\, Register to get connection details
END:VEVENT
BEGIN:VEVENT
DTSTART;TZID=America/Los_Angeles:20240726T113000
DTEND;TZID=America/Los_Angeles:20240726T113000
DTSTAMP:20260420T174600
CREATED:20220322T174118Z
LAST-MODIFIED:20250901T174533Z
UID:10003798-1721993400-1721993400@heroesvoices.org
SUMMARY:Online Guitar Classes with Larry Chung
DESCRIPTION:These group lessons are available at no charge to all US Veterans everywhere. \nContact us for information about how to participate in these online guitar classes.
URL:https://heroesvoices.org/calendar/online-guitar-classes-with-larry-chung/2024-07-26/
LOCATION:Online\, Register to get connection details
END:VEVENT
BEGIN:VEVENT
DTSTART;TZID=America/Los_Angeles:20240726T113000
DTEND;TZID=America/Los_Angeles:20240726T113000
DTSTAMP:20260420T174600
CREATED:20220322T174118Z
LAST-MODIFIED:20250901T174533Z
UID:10004122-1721993400-1721993400@heroesvoices.org
SUMMARY:Online Guitar Classes with Larry Chung
DESCRIPTION:These group lessons are available at no charge to all US Veterans everywhere. \nContact us for information about how to participate in these online guitar classes.
URL:https://heroesvoices.org/calendar/online-guitar-classes-with-larry-chung/2024-07-26/
LOCATION:Online\, Register to get connection details
END:VEVENT
BEGIN:VEVENT
DTSTART;TZID=America/Los_Angeles:20240802T113000
DTEND;TZID=America/Los_Angeles:20240802T113000
DTSTAMP:20260420T174600
CREATED:20220322T174118Z
LAST-MODIFIED:20250901T174533Z
UID:10003148-1722598200-1722598200@heroesvoices.org
SUMMARY:Online Guitar Classes with Larry Chung
DESCRIPTION:These group lessons are available at no charge to all US Veterans everywhere. \nContact us for information about how to participate in these online guitar classes.
URL:https://heroesvoices.org/calendar/online-guitar-classes-with-larry-chung/2024-08-02/
LOCATION:Online\, Register to get connection details
END:VEVENT
BEGIN:VEVENT
DTSTART;TZID=America/Los_Angeles:20240802T113000
DTEND;TZID=America/Los_Angeles:20240802T113000
DTSTAMP:20260420T174600
CREATED:20220322T174118Z
LAST-MODIFIED:20250901T174533Z
UID:10003474-1722598200-1722598200@heroesvoices.org
SUMMARY:Online Guitar Classes with Larry Chung
DESCRIPTION:These group lessons are available at no charge to all US Veterans everywhere. \nContact us for information about how to participate in these online guitar classes.
URL:https://heroesvoices.org/calendar/online-guitar-classes-with-larry-chung/2024-08-02/
LOCATION:Online\, Register to get connection details
END:VEVENT
BEGIN:VEVENT
DTSTART;TZID=America/Los_Angeles:20240802T113000
DTEND;TZID=America/Los_Angeles:20240802T113000
DTSTAMP:20260420T174600
CREATED:20220322T174118Z
LAST-MODIFIED:20250901T174533Z
UID:10003799-1722598200-1722598200@heroesvoices.org
SUMMARY:Online Guitar Classes with Larry Chung
DESCRIPTION:These group lessons are available at no charge to all US Veterans everywhere. \nContact us for information about how to participate in these online guitar classes.
URL:https://heroesvoices.org/calendar/online-guitar-classes-with-larry-chung/2024-08-02/
LOCATION:Online\, Register to get connection details
END:VEVENT
BEGIN:VEVENT
DTSTART;TZID=America/Los_Angeles:20240802T113000
DTEND;TZID=America/Los_Angeles:20240802T113000
DTSTAMP:20260420T174600
CREATED:20220322T174118Z
LAST-MODIFIED:20250901T174533Z
UID:10004123-1722598200-1722598200@heroesvoices.org
SUMMARY:Online Guitar Classes with Larry Chung
DESCRIPTION:These group lessons are available at no charge to all US Veterans everywhere. \nContact us for information about how to participate in these online guitar classes.
URL:https://heroesvoices.org/calendar/online-guitar-classes-with-larry-chung/2024-08-02/
LOCATION:Online\, Register to get connection details
END:VEVENT
BEGIN:VEVENT
DTSTART;TZID=America/Los_Angeles:20240809T113000
DTEND;TZID=America/Los_Angeles:20240809T113000
DTSTAMP:20260420T174600
CREATED:20220322T174118Z
LAST-MODIFIED:20250901T174533Z
UID:10003149-1723203000-1723203000@heroesvoices.org
SUMMARY:Online Guitar Classes with Larry Chung
DESCRIPTION:These group lessons are available at no charge to all US Veterans everywhere. \nContact us for information about how to participate in these online guitar classes.
URL:https://heroesvoices.org/calendar/online-guitar-classes-with-larry-chung/2024-08-09/
LOCATION:Online\, Register to get connection details
END:VEVENT
BEGIN:VEVENT
DTSTART;TZID=America/Los_Angeles:20240809T113000
DTEND;TZID=America/Los_Angeles:20240809T113000
DTSTAMP:20260420T174600
CREATED:20220322T174118Z
LAST-MODIFIED:20250901T174533Z
UID:10003475-1723203000-1723203000@heroesvoices.org
SUMMARY:Online Guitar Classes with Larry Chung
DESCRIPTION:These group lessons are available at no charge to all US Veterans everywhere. \nContact us for information about how to participate in these online guitar classes.
URL:https://heroesvoices.org/calendar/online-guitar-classes-with-larry-chung/2024-08-09/
LOCATION:Online\, Register to get connection details
END:VEVENT
BEGIN:VEVENT
DTSTART;TZID=America/Los_Angeles:20240809T113000
DTEND;TZID=America/Los_Angeles:20240809T113000
DTSTAMP:20260420T174600
CREATED:20220322T174118Z
LAST-MODIFIED:20250901T174533Z
UID:10003800-1723203000-1723203000@heroesvoices.org
SUMMARY:Online Guitar Classes with Larry Chung
DESCRIPTION:These group lessons are available at no charge to all US Veterans everywhere. \nContact us for information about how to participate in these online guitar classes.
URL:https://heroesvoices.org/calendar/online-guitar-classes-with-larry-chung/2024-08-09/
LOCATION:Online\, Register to get connection details
END:VEVENT
BEGIN:VEVENT
DTSTART;TZID=America/Los_Angeles:20240809T113000
DTEND;TZID=America/Los_Angeles:20240809T113000
DTSTAMP:20260420T174600
CREATED:20220322T174118Z
LAST-MODIFIED:20250901T174533Z
UID:10004124-1723203000-1723203000@heroesvoices.org
SUMMARY:Online Guitar Classes with Larry Chung
DESCRIPTION:These group lessons are available at no charge to all US Veterans everywhere. \nContact us for information about how to participate in these online guitar classes.
URL:https://heroesvoices.org/calendar/online-guitar-classes-with-larry-chung/2024-08-09/
LOCATION:Online\, Register to get connection details
END:VEVENT
BEGIN:VEVENT
DTSTART;TZID=America/Los_Angeles:20240816T113000
DTEND;TZID=America/Los_Angeles:20240816T113000
DTSTAMP:20260420T174600
CREATED:20220322T174118Z
LAST-MODIFIED:20250901T174533Z
UID:10003150-1723807800-1723807800@heroesvoices.org
SUMMARY:Online Guitar Classes with Larry Chung
DESCRIPTION:These group lessons are available at no charge to all US Veterans everywhere. \nContact us for information about how to participate in these online guitar classes.
URL:https://heroesvoices.org/calendar/online-guitar-classes-with-larry-chung/2024-08-16/
LOCATION:Online\, Register to get connection details
END:VEVENT
BEGIN:VEVENT
DTSTART;TZID=America/Los_Angeles:20240816T113000
DTEND;TZID=America/Los_Angeles:20240816T113000
DTSTAMP:20260420T174600
CREATED:20220322T174118Z
LAST-MODIFIED:20250901T174533Z
UID:10003476-1723807800-1723807800@heroesvoices.org
SUMMARY:Online Guitar Classes with Larry Chung
DESCRIPTION:These group lessons are available at no charge to all US Veterans everywhere. \nContact us for information about how to participate in these online guitar classes.
URL:https://heroesvoices.org/calendar/online-guitar-classes-with-larry-chung/2024-08-16/
LOCATION:Online\, Register to get connection details
END:VEVENT
BEGIN:VEVENT
DTSTART;TZID=America/Los_Angeles:20240816T113000
DTEND;TZID=America/Los_Angeles:20240816T113000
DTSTAMP:20260420T174600
CREATED:20220322T174118Z
LAST-MODIFIED:20250901T174533Z
UID:10003801-1723807800-1723807800@heroesvoices.org
SUMMARY:Online Guitar Classes with Larry Chung
DESCRIPTION:These group lessons are available at no charge to all US Veterans everywhere. \nContact us for information about how to participate in these online guitar classes.
URL:https://heroesvoices.org/calendar/online-guitar-classes-with-larry-chung/2024-08-16/
LOCATION:Online\, Register to get connection details
END:VEVENT
BEGIN:VEVENT
DTSTART;TZID=America/Los_Angeles:20240816T113000
DTEND;TZID=America/Los_Angeles:20240816T113000
DTSTAMP:20260420T174600
CREATED:20220322T174118Z
LAST-MODIFIED:20250901T174533Z
UID:10004125-1723807800-1723807800@heroesvoices.org
SUMMARY:Online Guitar Classes with Larry Chung
DESCRIPTION:These group lessons are available at no charge to all US Veterans everywhere. \nContact us for information about how to participate in these online guitar classes.
URL:https://heroesvoices.org/calendar/online-guitar-classes-with-larry-chung/2024-08-16/
LOCATION:Online\, Register to get connection details
END:VEVENT
BEGIN:VEVENT
DTSTART;TZID=America/Los_Angeles:20240823T113000
DTEND;TZID=America/Los_Angeles:20240823T113000
DTSTAMP:20260420T174600
CREATED:20220322T174118Z
LAST-MODIFIED:20250901T174533Z
UID:10003151-1724412600-1724412600@heroesvoices.org
SUMMARY:Online Guitar Classes with Larry Chung
DESCRIPTION:These group lessons are available at no charge to all US Veterans everywhere. \nContact us for information about how to participate in these online guitar classes.
URL:https://heroesvoices.org/calendar/online-guitar-classes-with-larry-chung/2024-08-23/
LOCATION:Online\, Register to get connection details
END:VEVENT
BEGIN:VEVENT
DTSTART;TZID=America/Los_Angeles:20240823T113000
DTEND;TZID=America/Los_Angeles:20240823T113000
DTSTAMP:20260420T174600
CREATED:20220322T174118Z
LAST-MODIFIED:20250901T174533Z
UID:10003477-1724412600-1724412600@heroesvoices.org
SUMMARY:Online Guitar Classes with Larry Chung
DESCRIPTION:These group lessons are available at no charge to all US Veterans everywhere. \nContact us for information about how to participate in these online guitar classes.
URL:https://heroesvoices.org/calendar/online-guitar-classes-with-larry-chung/2024-08-23/
LOCATION:Online\, Register to get connection details
END:VEVENT
BEGIN:VEVENT
DTSTART;TZID=America/Los_Angeles:20240823T113000
DTEND;TZID=America/Los_Angeles:20240823T113000
DTSTAMP:20260420T174600
CREATED:20220322T174118Z
LAST-MODIFIED:20250901T174533Z
UID:10003802-1724412600-1724412600@heroesvoices.org
SUMMARY:Online Guitar Classes with Larry Chung
DESCRIPTION:These group lessons are available at no charge to all US Veterans everywhere. \nContact us for information about how to participate in these online guitar classes.
URL:https://heroesvoices.org/calendar/online-guitar-classes-with-larry-chung/2024-08-23/
LOCATION:Online\, Register to get connection details
END:VEVENT
BEGIN:VEVENT
DTSTART;TZID=America/Los_Angeles:20240823T113000
DTEND;TZID=America/Los_Angeles:20240823T113000
DTSTAMP:20260420T174600
CREATED:20220322T174118Z
LAST-MODIFIED:20250901T174533Z
UID:10004126-1724412600-1724412600@heroesvoices.org
SUMMARY:Online Guitar Classes with Larry Chung
DESCRIPTION:These group lessons are available at no charge to all US Veterans everywhere. \nContact us for information about how to participate in these online guitar classes.
URL:https://heroesvoices.org/calendar/online-guitar-classes-with-larry-chung/2024-08-23/
LOCATION:Online\, Register to get connection details
END:VEVENT
BEGIN:VEVENT
DTSTART;TZID=America/Los_Angeles:20240825T140000
DTEND;TZID=America/Los_Angeles:20240825T170000
DTSTAMP:20260420T174600
CREATED:20240801T153701Z
LAST-MODIFIED:20240801T153847Z
UID:10003123-1724594400-1724605200@heroesvoices.org
SUMMARY:Music from the Great American Songbook
DESCRIPTION:RICK HARRELL\, BARITONE\nFRANK JOHNSON\, PIANIST \nPlease join us on Sunday\, August 25th in the Kit Stewart Chapel\, as baritone Rick Harrell and pianist Frank Johnson present a recital featuring a celebration of America’s most beloved songs.  \nHighlights include music of Cole Porter\, George Gershwin\, Rodgers & Hart\, Irving Berlin\, Lerner & Loewe\, Rodgers & Hammerstein\, Henry Mancini\, Stephen Sondheim and many more! \nWith guest artists Victor Floyd and Michael Conley.
URL:https://heroesvoices.org/calendar/music-from-the-great-american-songbook/
LOCATION:Kit Stewart Chapel\, 2515 Fillmore Street\, San Francisco\, CA\, United States
CATEGORIES:Concert
ATTACH;FMTTYPE=image/jpeg:https://heroesvoices.org/wp-content/uploads/2024/08/Rick-Harrell-Recital-August-25-2024_1.jpg
END:VEVENT
BEGIN:VEVENT
DTSTART;TZID=America/Los_Angeles:20240830T113000
DTEND;TZID=America/Los_Angeles:20240830T113000
DTSTAMP:20260420T174600
CREATED:20220322T174118Z
LAST-MODIFIED:20250901T174533Z
UID:10003152-1725017400-1725017400@heroesvoices.org
SUMMARY:Online Guitar Classes with Larry Chung
DESCRIPTION:These group lessons are available at no charge to all US Veterans everywhere. \nContact us for information about how to participate in these online guitar classes.
URL:https://heroesvoices.org/calendar/online-guitar-classes-with-larry-chung/2024-08-30/
LOCATION:Online\, Register to get connection details
END:VEVENT
BEGIN:VEVENT
DTSTART;TZID=America/Los_Angeles:20240830T113000
DTEND;TZID=America/Los_Angeles:20240830T113000
DTSTAMP:20260420T174600
CREATED:20220322T174118Z
LAST-MODIFIED:20250901T174533Z
UID:10003478-1725017400-1725017400@heroesvoices.org
SUMMARY:Online Guitar Classes with Larry Chung
DESCRIPTION:These group lessons are available at no charge to all US Veterans everywhere. \nContact us for information about how to participate in these online guitar classes.
URL:https://heroesvoices.org/calendar/online-guitar-classes-with-larry-chung/2024-08-30/
LOCATION:Online\, Register to get connection details
END:VEVENT
BEGIN:VEVENT
DTSTART;TZID=America/Los_Angeles:20240830T113000
DTEND;TZID=America/Los_Angeles:20240830T113000
DTSTAMP:20260420T174600
CREATED:20220322T174118Z
LAST-MODIFIED:20250901T174533Z
UID:10003803-1725017400-1725017400@heroesvoices.org
SUMMARY:Online Guitar Classes with Larry Chung
DESCRIPTION:These group lessons are available at no charge to all US Veterans everywhere. \nContact us for information about how to participate in these online guitar classes.
URL:https://heroesvoices.org/calendar/online-guitar-classes-with-larry-chung/2024-08-30/
LOCATION:Online\, Register to get connection details
END:VEVENT
BEGIN:VEVENT
DTSTART;TZID=America/Los_Angeles:20240830T113000
DTEND;TZID=America/Los_Angeles:20240830T113000
DTSTAMP:20260420T174600
CREATED:20220322T174118Z
LAST-MODIFIED:20250901T174533Z
UID:10004127-1725017400-1725017400@heroesvoices.org
SUMMARY:Online Guitar Classes with Larry Chung
DESCRIPTION:These group lessons are available at no charge to all US Veterans everywhere. \nContact us for information about how to participate in these online guitar classes.
URL:https://heroesvoices.org/calendar/online-guitar-classes-with-larry-chung/2024-08-30/
LOCATION:Online\, Register to get connection details
END:VEVENT
BEGIN:VEVENT
DTSTART;TZID=America/Los_Angeles:20240906T113000
DTEND;TZID=America/Los_Angeles:20240906T113000
DTSTAMP:20260420T174600
CREATED:20220322T174118Z
LAST-MODIFIED:20250901T174533Z
UID:10003153-1725622200-1725622200@heroesvoices.org
SUMMARY:Online Guitar Classes with Larry Chung
DESCRIPTION:These group lessons are available at no charge to all US Veterans everywhere. \nContact us for information about how to participate in these online guitar classes.
URL:https://heroesvoices.org/calendar/online-guitar-classes-with-larry-chung/2024-09-06/
LOCATION:Online\, Register to get connection details
END:VEVENT
BEGIN:VEVENT
DTSTART;TZID=America/Los_Angeles:20240906T113000
DTEND;TZID=America/Los_Angeles:20240906T113000
DTSTAMP:20260420T174600
CREATED:20220322T174118Z
LAST-MODIFIED:20250901T174533Z
UID:10003479-1725622200-1725622200@heroesvoices.org
SUMMARY:Online Guitar Classes with Larry Chung
DESCRIPTION:These group lessons are available at no charge to all US Veterans everywhere. \nContact us for information about how to participate in these online guitar classes.
URL:https://heroesvoices.org/calendar/online-guitar-classes-with-larry-chung/2024-09-06/
LOCATION:Online\, Register to get connection details
END:VEVENT
BEGIN:VEVENT
DTSTART;TZID=America/Los_Angeles:20240906T113000
DTEND;TZID=America/Los_Angeles:20240906T113000
DTSTAMP:20260420T174600
CREATED:20220322T174118Z
LAST-MODIFIED:20250901T174533Z
UID:10003804-1725622200-1725622200@heroesvoices.org
SUMMARY:Online Guitar Classes with Larry Chung
DESCRIPTION:These group lessons are available at no charge to all US Veterans everywhere. \nContact us for information about how to participate in these online guitar classes.
URL:https://heroesvoices.org/calendar/online-guitar-classes-with-larry-chung/2024-09-06/
LOCATION:Online\, Register to get connection details
END:VEVENT
BEGIN:VEVENT
DTSTART;TZID=America/Los_Angeles:20240906T113000
DTEND;TZID=America/Los_Angeles:20240906T113000
DTSTAMP:20260420T174600
CREATED:20220322T174118Z
LAST-MODIFIED:20250901T174533Z
UID:10004128-1725622200-1725622200@heroesvoices.org
SUMMARY:Online Guitar Classes with Larry Chung
DESCRIPTION:These group lessons are available at no charge to all US Veterans everywhere. \nContact us for information about how to participate in these online guitar classes.
URL:https://heroesvoices.org/calendar/online-guitar-classes-with-larry-chung/2024-09-06/
LOCATION:Online\, Register to get connection details
END:VEVENT
BEGIN:VEVENT
DTSTART;TZID=America/Los_Angeles:20240913T113000
DTEND;TZID=America/Los_Angeles:20240913T113000
DTSTAMP:20260420T174600
CREATED:20220322T174118Z
LAST-MODIFIED:20250901T174533Z
UID:10003154-1726227000-1726227000@heroesvoices.org
SUMMARY:Online Guitar Classes with Larry Chung
DESCRIPTION:These group lessons are available at no charge to all US Veterans everywhere. \nContact us for information about how to participate in these online guitar classes.
URL:https://heroesvoices.org/calendar/online-guitar-classes-with-larry-chung/2024-09-13/
LOCATION:Online\, Register to get connection details
END:VEVENT
END:VCALENDAR