BEGIN:VCALENDAR
VERSION:2.0
PRODID:-//Heroes&#039; Voices - ECPv6.15.18//NONSGML v1.0//EN
CALSCALE:GREGORIAN
METHOD:PUBLISH
X-WR-CALNAME:Heroes&#039; Voices
X-ORIGINAL-URL:https://heroesvoices.org
X-WR-CALDESC:Events for Heroes&#039; Voices
REFRESH-INTERVAL;VALUE=DURATION:PT1H
X-Robots-Tag:noindex
X-PUBLISHED-TTL:PT1H
BEGIN:VTIMEZONE
TZID:America/Los_Angeles
BEGIN:DAYLIGHT
TZOFFSETFROM:-0800
TZOFFSETTO:-0700
TZNAME:PDT
DTSTART:20250309T100000
END:DAYLIGHT
BEGIN:STANDARD
TZOFFSETFROM:-0700
TZOFFSETTO:-0800
TZNAME:PST
DTSTART:20251102T090000
END:STANDARD
BEGIN:DAYLIGHT
TZOFFSETFROM:-0800
TZOFFSETTO:-0700
TZNAME:PDT
DTSTART:20260308T100000
END:DAYLIGHT
BEGIN:STANDARD
TZOFFSETFROM:-0700
TZOFFSETTO:-0800
TZNAME:PST
DTSTART:20261101T090000
END:STANDARD
BEGIN:DAYLIGHT
TZOFFSETFROM:-0800
TZOFFSETTO:-0700
TZNAME:PDT
DTSTART:20270314T100000
END:DAYLIGHT
BEGIN:STANDARD
TZOFFSETFROM:-0700
TZOFFSETTO:-0800
TZNAME:PST
DTSTART:20271107T090000
END:STANDARD
END:VTIMEZONE
BEGIN:VEVENT
DTSTART;TZID=America/Los_Angeles:20260116T113000
DTEND;TZID=America/Los_Angeles:20260116T113000
DTSTAMP:20260420T200235
CREATED:20220322T174118Z
LAST-MODIFIED:20250901T174533Z
UID:10003875-1768563000-1768563000@heroesvoices.org
SUMMARY:Online Guitar Classes with Larry Chung
DESCRIPTION:These group lessons are available at no charge to all US Veterans everywhere. \nContact us for information about how to participate in these online guitar classes.
URL:https://heroesvoices.org/calendar/online-guitar-classes-with-larry-chung/2026-01-16/
LOCATION:Online\, Register to get connection details
END:VEVENT
BEGIN:VEVENT
DTSTART;TZID=America/Los_Angeles:20260116T113000
DTEND;TZID=America/Los_Angeles:20260116T113000
DTSTAMP:20260420T200235
CREATED:20220322T174118Z
LAST-MODIFIED:20250901T174533Z
UID:10004199-1768563000-1768563000@heroesvoices.org
SUMMARY:Online Guitar Classes with Larry Chung
DESCRIPTION:These group lessons are available at no charge to all US Veterans everywhere. \nContact us for information about how to participate in these online guitar classes.
URL:https://heroesvoices.org/calendar/online-guitar-classes-with-larry-chung/2026-01-16/
LOCATION:Online\, Register to get connection details
END:VEVENT
BEGIN:VEVENT
DTSTART;TZID=America/Los_Angeles:20260123T113000
DTEND;TZID=America/Los_Angeles:20260123T113000
DTSTAMP:20260420T200235
CREATED:20220322T174118Z
LAST-MODIFIED:20250901T174533Z
UID:10003225-1769167800-1769167800@heroesvoices.org
SUMMARY:Online Guitar Classes with Larry Chung
DESCRIPTION:These group lessons are available at no charge to all US Veterans everywhere. \nContact us for information about how to participate in these online guitar classes.
URL:https://heroesvoices.org/calendar/online-guitar-classes-with-larry-chung/2026-01-23/
LOCATION:Online\, Register to get connection details
END:VEVENT
BEGIN:VEVENT
DTSTART;TZID=America/Los_Angeles:20260123T113000
DTEND;TZID=America/Los_Angeles:20260123T113000
DTSTAMP:20260420T200235
CREATED:20220322T174118Z
LAST-MODIFIED:20250901T174533Z
UID:10003551-1769167800-1769167800@heroesvoices.org
SUMMARY:Online Guitar Classes with Larry Chung
DESCRIPTION:These group lessons are available at no charge to all US Veterans everywhere. \nContact us for information about how to participate in these online guitar classes.
URL:https://heroesvoices.org/calendar/online-guitar-classes-with-larry-chung/2026-01-23/
LOCATION:Online\, Register to get connection details
END:VEVENT
BEGIN:VEVENT
DTSTART;TZID=America/Los_Angeles:20260123T113000
DTEND;TZID=America/Los_Angeles:20260123T113000
DTSTAMP:20260420T200235
CREATED:20220322T174118Z
LAST-MODIFIED:20250901T174533Z
UID:10003876-1769167800-1769167800@heroesvoices.org
SUMMARY:Online Guitar Classes with Larry Chung
DESCRIPTION:These group lessons are available at no charge to all US Veterans everywhere. \nContact us for information about how to participate in these online guitar classes.
URL:https://heroesvoices.org/calendar/online-guitar-classes-with-larry-chung/2026-01-23/
LOCATION:Online\, Register to get connection details
END:VEVENT
BEGIN:VEVENT
DTSTART;TZID=America/Los_Angeles:20260123T113000
DTEND;TZID=America/Los_Angeles:20260123T113000
DTSTAMP:20260420T200235
CREATED:20220322T174118Z
LAST-MODIFIED:20250901T174533Z
UID:10004200-1769167800-1769167800@heroesvoices.org
SUMMARY:Online Guitar Classes with Larry Chung
DESCRIPTION:These group lessons are available at no charge to all US Veterans everywhere. \nContact us for information about how to participate in these online guitar classes.
URL:https://heroesvoices.org/calendar/online-guitar-classes-with-larry-chung/2026-01-23/
LOCATION:Online\, Register to get connection details
END:VEVENT
BEGIN:VEVENT
DTSTART;TZID=America/Los_Angeles:20260130T113000
DTEND;TZID=America/Los_Angeles:20260130T113000
DTSTAMP:20260420T200235
CREATED:20220322T174118Z
LAST-MODIFIED:20250901T174533Z
UID:10003226-1769772600-1769772600@heroesvoices.org
SUMMARY:Online Guitar Classes with Larry Chung
DESCRIPTION:These group lessons are available at no charge to all US Veterans everywhere. \nContact us for information about how to participate in these online guitar classes.
URL:https://heroesvoices.org/calendar/online-guitar-classes-with-larry-chung/2026-01-30/
LOCATION:Online\, Register to get connection details
END:VEVENT
BEGIN:VEVENT
DTSTART;TZID=America/Los_Angeles:20260130T113000
DTEND;TZID=America/Los_Angeles:20260130T113000
DTSTAMP:20260420T200235
CREATED:20220322T174118Z
LAST-MODIFIED:20250901T174533Z
UID:10003552-1769772600-1769772600@heroesvoices.org
SUMMARY:Online Guitar Classes with Larry Chung
DESCRIPTION:These group lessons are available at no charge to all US Veterans everywhere. \nContact us for information about how to participate in these online guitar classes.
URL:https://heroesvoices.org/calendar/online-guitar-classes-with-larry-chung/2026-01-30/
LOCATION:Online\, Register to get connection details
END:VEVENT
BEGIN:VEVENT
DTSTART;TZID=America/Los_Angeles:20260130T113000
DTEND;TZID=America/Los_Angeles:20260130T113000
DTSTAMP:20260420T200235
CREATED:20220322T174118Z
LAST-MODIFIED:20250901T174533Z
UID:10003877-1769772600-1769772600@heroesvoices.org
SUMMARY:Online Guitar Classes with Larry Chung
DESCRIPTION:These group lessons are available at no charge to all US Veterans everywhere. \nContact us for information about how to participate in these online guitar classes.
URL:https://heroesvoices.org/calendar/online-guitar-classes-with-larry-chung/2026-01-30/
LOCATION:Online\, Register to get connection details
END:VEVENT
BEGIN:VEVENT
DTSTART;TZID=America/Los_Angeles:20260130T113000
DTEND;TZID=America/Los_Angeles:20260130T113000
DTSTAMP:20260420T200235
CREATED:20220322T174118Z
LAST-MODIFIED:20250901T174533Z
UID:10004201-1769772600-1769772600@heroesvoices.org
SUMMARY:Online Guitar Classes with Larry Chung
DESCRIPTION:These group lessons are available at no charge to all US Veterans everywhere. \nContact us for information about how to participate in these online guitar classes.
URL:https://heroesvoices.org/calendar/online-guitar-classes-with-larry-chung/2026-01-30/
LOCATION:Online\, Register to get connection details
END:VEVENT
BEGIN:VEVENT
DTSTART;TZID=America/Los_Angeles:20260206T113000
DTEND;TZID=America/Los_Angeles:20260206T113000
DTSTAMP:20260420T200235
CREATED:20220322T174118Z
LAST-MODIFIED:20250901T174533Z
UID:10003227-1770377400-1770377400@heroesvoices.org
SUMMARY:Online Guitar Classes with Larry Chung
DESCRIPTION:These group lessons are available at no charge to all US Veterans everywhere. \nContact us for information about how to participate in these online guitar classes.
URL:https://heroesvoices.org/calendar/online-guitar-classes-with-larry-chung/2026-02-06/
LOCATION:Online\, Register to get connection details
END:VEVENT
BEGIN:VEVENT
DTSTART;TZID=America/Los_Angeles:20260206T113000
DTEND;TZID=America/Los_Angeles:20260206T113000
DTSTAMP:20260420T200235
CREATED:20220322T174118Z
LAST-MODIFIED:20250901T174533Z
UID:10003553-1770377400-1770377400@heroesvoices.org
SUMMARY:Online Guitar Classes with Larry Chung
DESCRIPTION:These group lessons are available at no charge to all US Veterans everywhere. \nContact us for information about how to participate in these online guitar classes.
URL:https://heroesvoices.org/calendar/online-guitar-classes-with-larry-chung/2026-02-06/
LOCATION:Online\, Register to get connection details
END:VEVENT
BEGIN:VEVENT
DTSTART;TZID=America/Los_Angeles:20260206T113000
DTEND;TZID=America/Los_Angeles:20260206T113000
DTSTAMP:20260420T200235
CREATED:20220322T174118Z
LAST-MODIFIED:20250901T174533Z
UID:10003878-1770377400-1770377400@heroesvoices.org
SUMMARY:Online Guitar Classes with Larry Chung
DESCRIPTION:These group lessons are available at no charge to all US Veterans everywhere. \nContact us for information about how to participate in these online guitar classes.
URL:https://heroesvoices.org/calendar/online-guitar-classes-with-larry-chung/2026-02-06/
LOCATION:Online\, Register to get connection details
END:VEVENT
BEGIN:VEVENT
DTSTART;TZID=America/Los_Angeles:20260206T113000
DTEND;TZID=America/Los_Angeles:20260206T113000
DTSTAMP:20260420T200235
CREATED:20220322T174118Z
LAST-MODIFIED:20250901T174533Z
UID:10004202-1770377400-1770377400@heroesvoices.org
SUMMARY:Online Guitar Classes with Larry Chung
DESCRIPTION:These group lessons are available at no charge to all US Veterans everywhere. \nContact us for information about how to participate in these online guitar classes.
URL:https://heroesvoices.org/calendar/online-guitar-classes-with-larry-chung/2026-02-06/
LOCATION:Online\, Register to get connection details
END:VEVENT
BEGIN:VEVENT
DTSTART;TZID=America/Los_Angeles:20260213T113000
DTEND;TZID=America/Los_Angeles:20260213T113000
DTSTAMP:20260420T200235
CREATED:20220322T174118Z
LAST-MODIFIED:20250901T174533Z
UID:10003228-1770982200-1770982200@heroesvoices.org
SUMMARY:Online Guitar Classes with Larry Chung
DESCRIPTION:These group lessons are available at no charge to all US Veterans everywhere. \nContact us for information about how to participate in these online guitar classes.
URL:https://heroesvoices.org/calendar/online-guitar-classes-with-larry-chung/2026-02-13/
LOCATION:Online\, Register to get connection details
END:VEVENT
BEGIN:VEVENT
DTSTART;TZID=America/Los_Angeles:20260213T113000
DTEND;TZID=America/Los_Angeles:20260213T113000
DTSTAMP:20260420T200235
CREATED:20220322T174118Z
LAST-MODIFIED:20250901T174533Z
UID:10003554-1770982200-1770982200@heroesvoices.org
SUMMARY:Online Guitar Classes with Larry Chung
DESCRIPTION:These group lessons are available at no charge to all US Veterans everywhere. \nContact us for information about how to participate in these online guitar classes.
URL:https://heroesvoices.org/calendar/online-guitar-classes-with-larry-chung/2026-02-13/
LOCATION:Online\, Register to get connection details
END:VEVENT
BEGIN:VEVENT
DTSTART;TZID=America/Los_Angeles:20260213T113000
DTEND;TZID=America/Los_Angeles:20260213T113000
DTSTAMP:20260420T200235
CREATED:20220322T174118Z
LAST-MODIFIED:20250901T174533Z
UID:10003879-1770982200-1770982200@heroesvoices.org
SUMMARY:Online Guitar Classes with Larry Chung
DESCRIPTION:These group lessons are available at no charge to all US Veterans everywhere. \nContact us for information about how to participate in these online guitar classes.
URL:https://heroesvoices.org/calendar/online-guitar-classes-with-larry-chung/2026-02-13/
LOCATION:Online\, Register to get connection details
END:VEVENT
BEGIN:VEVENT
DTSTART;TZID=America/Los_Angeles:20260213T113000
DTEND;TZID=America/Los_Angeles:20260213T113000
DTSTAMP:20260420T200235
CREATED:20220322T174118Z
LAST-MODIFIED:20250901T174533Z
UID:10004203-1770982200-1770982200@heroesvoices.org
SUMMARY:Online Guitar Classes with Larry Chung
DESCRIPTION:These group lessons are available at no charge to all US Veterans everywhere. \nContact us for information about how to participate in these online guitar classes.
URL:https://heroesvoices.org/calendar/online-guitar-classes-with-larry-chung/2026-02-13/
LOCATION:Online\, Register to get connection details
END:VEVENT
BEGIN:VEVENT
DTSTART;TZID=America/Los_Angeles:20260220T113000
DTEND;TZID=America/Los_Angeles:20260220T113000
DTSTAMP:20260420T200235
CREATED:20220322T174118Z
LAST-MODIFIED:20250901T174533Z
UID:10003229-1771587000-1771587000@heroesvoices.org
SUMMARY:Online Guitar Classes with Larry Chung
DESCRIPTION:These group lessons are available at no charge to all US Veterans everywhere. \nContact us for information about how to participate in these online guitar classes.
URL:https://heroesvoices.org/calendar/online-guitar-classes-with-larry-chung/2026-02-20/
LOCATION:Online\, Register to get connection details
END:VEVENT
BEGIN:VEVENT
DTSTART;TZID=America/Los_Angeles:20260220T113000
DTEND;TZID=America/Los_Angeles:20260220T113000
DTSTAMP:20260420T200235
CREATED:20220322T174118Z
LAST-MODIFIED:20250901T174533Z
UID:10003555-1771587000-1771587000@heroesvoices.org
SUMMARY:Online Guitar Classes with Larry Chung
DESCRIPTION:These group lessons are available at no charge to all US Veterans everywhere. \nContact us for information about how to participate in these online guitar classes.
URL:https://heroesvoices.org/calendar/online-guitar-classes-with-larry-chung/2026-02-20/
LOCATION:Online\, Register to get connection details
END:VEVENT
BEGIN:VEVENT
DTSTART;TZID=America/Los_Angeles:20260220T113000
DTEND;TZID=America/Los_Angeles:20260220T113000
DTSTAMP:20260420T200235
CREATED:20220322T174118Z
LAST-MODIFIED:20250901T174533Z
UID:10003880-1771587000-1771587000@heroesvoices.org
SUMMARY:Online Guitar Classes with Larry Chung
DESCRIPTION:These group lessons are available at no charge to all US Veterans everywhere. \nContact us for information about how to participate in these online guitar classes.
URL:https://heroesvoices.org/calendar/online-guitar-classes-with-larry-chung/2026-02-20/
LOCATION:Online\, Register to get connection details
END:VEVENT
BEGIN:VEVENT
DTSTART;TZID=America/Los_Angeles:20260220T113000
DTEND;TZID=America/Los_Angeles:20260220T113000
DTSTAMP:20260420T200235
CREATED:20220322T174118Z
LAST-MODIFIED:20250901T174533Z
UID:10004204-1771587000-1771587000@heroesvoices.org
SUMMARY:Online Guitar Classes with Larry Chung
DESCRIPTION:These group lessons are available at no charge to all US Veterans everywhere. \nContact us for information about how to participate in these online guitar classes.
URL:https://heroesvoices.org/calendar/online-guitar-classes-with-larry-chung/2026-02-20/
LOCATION:Online\, Register to get connection details
END:VEVENT
BEGIN:VEVENT
DTSTART;TZID=America/Los_Angeles:20260227T113000
DTEND;TZID=America/Los_Angeles:20260227T113000
DTSTAMP:20260420T200235
CREATED:20220322T174118Z
LAST-MODIFIED:20250901T174533Z
UID:10003230-1772191800-1772191800@heroesvoices.org
SUMMARY:Online Guitar Classes with Larry Chung
DESCRIPTION:These group lessons are available at no charge to all US Veterans everywhere. \nContact us for information about how to participate in these online guitar classes.
URL:https://heroesvoices.org/calendar/online-guitar-classes-with-larry-chung/2026-02-27/
LOCATION:Online\, Register to get connection details
END:VEVENT
BEGIN:VEVENT
DTSTART;TZID=America/Los_Angeles:20260227T113000
DTEND;TZID=America/Los_Angeles:20260227T113000
DTSTAMP:20260420T200235
CREATED:20220322T174118Z
LAST-MODIFIED:20250901T174533Z
UID:10003556-1772191800-1772191800@heroesvoices.org
SUMMARY:Online Guitar Classes with Larry Chung
DESCRIPTION:These group lessons are available at no charge to all US Veterans everywhere. \nContact us for information about how to participate in these online guitar classes.
URL:https://heroesvoices.org/calendar/online-guitar-classes-with-larry-chung/2026-02-27/
LOCATION:Online\, Register to get connection details
END:VEVENT
BEGIN:VEVENT
DTSTART;TZID=America/Los_Angeles:20260227T113000
DTEND;TZID=America/Los_Angeles:20260227T113000
DTSTAMP:20260420T200235
CREATED:20220322T174118Z
LAST-MODIFIED:20250901T174533Z
UID:10003881-1772191800-1772191800@heroesvoices.org
SUMMARY:Online Guitar Classes with Larry Chung
DESCRIPTION:These group lessons are available at no charge to all US Veterans everywhere. \nContact us for information about how to participate in these online guitar classes.
URL:https://heroesvoices.org/calendar/online-guitar-classes-with-larry-chung/2026-02-27/
LOCATION:Online\, Register to get connection details
END:VEVENT
BEGIN:VEVENT
DTSTART;TZID=America/Los_Angeles:20260227T113000
DTEND;TZID=America/Los_Angeles:20260227T113000
DTSTAMP:20260420T200235
CREATED:20220322T174118Z
LAST-MODIFIED:20250901T174533Z
UID:10004205-1772191800-1772191800@heroesvoices.org
SUMMARY:Online Guitar Classes with Larry Chung
DESCRIPTION:These group lessons are available at no charge to all US Veterans everywhere. \nContact us for information about how to participate in these online guitar classes.
URL:https://heroesvoices.org/calendar/online-guitar-classes-with-larry-chung/2026-02-27/
LOCATION:Online\, Register to get connection details
END:VEVENT
BEGIN:VEVENT
DTSTART;TZID=America/Los_Angeles:20260306T113000
DTEND;TZID=America/Los_Angeles:20260306T113000
DTSTAMP:20260420T200235
CREATED:20220322T174118Z
LAST-MODIFIED:20250901T174533Z
UID:10003231-1772796600-1772796600@heroesvoices.org
SUMMARY:Online Guitar Classes with Larry Chung
DESCRIPTION:These group lessons are available at no charge to all US Veterans everywhere. \nContact us for information about how to participate in these online guitar classes.
URL:https://heroesvoices.org/calendar/online-guitar-classes-with-larry-chung/2026-03-06/
LOCATION:Online\, Register to get connection details
END:VEVENT
BEGIN:VEVENT
DTSTART;TZID=America/Los_Angeles:20260306T113000
DTEND;TZID=America/Los_Angeles:20260306T113000
DTSTAMP:20260420T200235
CREATED:20220322T174118Z
LAST-MODIFIED:20250901T174533Z
UID:10003557-1772796600-1772796600@heroesvoices.org
SUMMARY:Online Guitar Classes with Larry Chung
DESCRIPTION:These group lessons are available at no charge to all US Veterans everywhere. \nContact us for information about how to participate in these online guitar classes.
URL:https://heroesvoices.org/calendar/online-guitar-classes-with-larry-chung/2026-03-06/
LOCATION:Online\, Register to get connection details
END:VEVENT
BEGIN:VEVENT
DTSTART;TZID=America/Los_Angeles:20260306T113000
DTEND;TZID=America/Los_Angeles:20260306T113000
DTSTAMP:20260420T200235
CREATED:20220322T174118Z
LAST-MODIFIED:20250901T174533Z
UID:10003882-1772796600-1772796600@heroesvoices.org
SUMMARY:Online Guitar Classes with Larry Chung
DESCRIPTION:These group lessons are available at no charge to all US Veterans everywhere. \nContact us for information about how to participate in these online guitar classes.
URL:https://heroesvoices.org/calendar/online-guitar-classes-with-larry-chung/2026-03-06/
LOCATION:Online\, Register to get connection details
END:VEVENT
BEGIN:VEVENT
DTSTART;TZID=America/Los_Angeles:20260306T113000
DTEND;TZID=America/Los_Angeles:20260306T113000
DTSTAMP:20260420T200235
CREATED:20220322T174118Z
LAST-MODIFIED:20250901T174533Z
UID:10004206-1772796600-1772796600@heroesvoices.org
SUMMARY:Online Guitar Classes with Larry Chung
DESCRIPTION:These group lessons are available at no charge to all US Veterans everywhere. \nContact us for information about how to participate in these online guitar classes.
URL:https://heroesvoices.org/calendar/online-guitar-classes-with-larry-chung/2026-03-06/
LOCATION:Online\, Register to get connection details
END:VEVENT
END:VCALENDAR