BEGIN:VCALENDAR
VERSION:2.0
PRODID:-//Heroes&#039; Voices - ECPv6.15.18//NONSGML v1.0//EN
CALSCALE:GREGORIAN
METHOD:PUBLISH
X-WR-CALNAME:Heroes&#039; Voices
X-ORIGINAL-URL:https://heroesvoices.org
X-WR-CALDESC:Events for Heroes&#039; Voices
REFRESH-INTERVAL;VALUE=DURATION:PT1H
X-Robots-Tag:noindex
X-PUBLISHED-TTL:PT1H
BEGIN:VTIMEZONE
TZID:America/Los_Angeles
BEGIN:DAYLIGHT
TZOFFSETFROM:-0800
TZOFFSETTO:-0700
TZNAME:PDT
DTSTART:20240310T100000
END:DAYLIGHT
BEGIN:STANDARD
TZOFFSETFROM:-0700
TZOFFSETTO:-0800
TZNAME:PST
DTSTART:20241103T090000
END:STANDARD
BEGIN:DAYLIGHT
TZOFFSETFROM:-0800
TZOFFSETTO:-0700
TZNAME:PDT
DTSTART:20250309T100000
END:DAYLIGHT
BEGIN:STANDARD
TZOFFSETFROM:-0700
TZOFFSETTO:-0800
TZNAME:PST
DTSTART:20251102T090000
END:STANDARD
BEGIN:DAYLIGHT
TZOFFSETFROM:-0800
TZOFFSETTO:-0700
TZNAME:PDT
DTSTART:20260308T100000
END:DAYLIGHT
BEGIN:STANDARD
TZOFFSETFROM:-0700
TZOFFSETTO:-0800
TZNAME:PST
DTSTART:20261101T090000
END:STANDARD
END:VTIMEZONE
BEGIN:VEVENT
DTSTART;TZID=America/Los_Angeles:20250514T143000
DTEND;TZID=America/Los_Angeles:20250514T153000
DTSTAMP:20260420T055610
CREATED:20220322T173858Z
LAST-MODIFIED:20220322T174234Z
UID:10002776-1747233000-1747236600@heroesvoices.org
SUMMARY:Online Guitar Classes with Paul Young
DESCRIPTION:These group lessons are available at no charge to all US Veterans everywhere. \nContact us for information about how to participate in these online guitar classes.
URL:https://heroesvoices.org/calendar/online-guitar-lessons-with-paul-young/2025-05-14/
LOCATION:Online\, Register to get connection details
END:VEVENT
BEGIN:VEVENT
DTSTART;TZID=America/Los_Angeles:20250516T113000
DTEND;TZID=America/Los_Angeles:20250516T113000
DTSTAMP:20260420T055610
CREATED:20220322T174118Z
LAST-MODIFIED:20220322T175312Z
UID:10002537-1747395000-1747395000@heroesvoices.org
SUMMARY:Online Guitar Classes with Larry Chung
DESCRIPTION:These group lessons are available at no charge to all US Veterans everywhere. \nContact us for information about how to participate in these online guitar classes.
URL:https://heroesvoices.org/calendar/online-guitar-classes-with-larry-chung/2025-05-16/
LOCATION:Online\, Register to get connection details
END:VEVENT
BEGIN:VEVENT
DTSTART;TZID=America/Los_Angeles:20250516T113000
DTEND;TZID=America/Los_Angeles:20250516T113000
DTSTAMP:20260420T055610
CREATED:20220322T174118Z
LAST-MODIFIED:20250901T174533Z
UID:10003189-1747395000-1747395000@heroesvoices.org
SUMMARY:Online Guitar Classes with Larry Chung
DESCRIPTION:These group lessons are available at no charge to all US Veterans everywhere. \nContact us for information about how to participate in these online guitar classes.
URL:https://heroesvoices.org/calendar/online-guitar-classes-with-larry-chung/2025-05-16/
LOCATION:Online\, Register to get connection details
END:VEVENT
BEGIN:VEVENT
DTSTART;TZID=America/Los_Angeles:20250516T113000
DTEND;TZID=America/Los_Angeles:20250516T113000
DTSTAMP:20260420T055610
CREATED:20220322T174118Z
LAST-MODIFIED:20250901T174533Z
UID:10003515-1747395000-1747395000@heroesvoices.org
SUMMARY:Online Guitar Classes with Larry Chung
DESCRIPTION:These group lessons are available at no charge to all US Veterans everywhere. \nContact us for information about how to participate in these online guitar classes.
URL:https://heroesvoices.org/calendar/online-guitar-classes-with-larry-chung/2025-05-16/
LOCATION:Online\, Register to get connection details
END:VEVENT
BEGIN:VEVENT
DTSTART;TZID=America/Los_Angeles:20250516T113000
DTEND;TZID=America/Los_Angeles:20250516T113000
DTSTAMP:20260420T055610
CREATED:20220322T174118Z
LAST-MODIFIED:20250901T174533Z
UID:10003840-1747395000-1747395000@heroesvoices.org
SUMMARY:Online Guitar Classes with Larry Chung
DESCRIPTION:These group lessons are available at no charge to all US Veterans everywhere. \nContact us for information about how to participate in these online guitar classes.
URL:https://heroesvoices.org/calendar/online-guitar-classes-with-larry-chung/2025-05-16/
LOCATION:Online\, Register to get connection details
END:VEVENT
BEGIN:VEVENT
DTSTART;TZID=America/Los_Angeles:20250516T113000
DTEND;TZID=America/Los_Angeles:20250516T113000
DTSTAMP:20260420T055610
CREATED:20220322T174118Z
LAST-MODIFIED:20250901T174533Z
UID:10004164-1747395000-1747395000@heroesvoices.org
SUMMARY:Online Guitar Classes with Larry Chung
DESCRIPTION:These group lessons are available at no charge to all US Veterans everywhere. \nContact us for information about how to participate in these online guitar classes.
URL:https://heroesvoices.org/calendar/online-guitar-classes-with-larry-chung/2025-05-16/
LOCATION:Online\, Register to get connection details
END:VEVENT
BEGIN:VEVENT
DTSTART;TZID=America/Los_Angeles:20250523T113000
DTEND;TZID=America/Los_Angeles:20250523T113000
DTSTAMP:20260420T055610
CREATED:20220322T174118Z
LAST-MODIFIED:20250901T174533Z
UID:10003190-1747999800-1747999800@heroesvoices.org
SUMMARY:Online Guitar Classes with Larry Chung
DESCRIPTION:These group lessons are available at no charge to all US Veterans everywhere. \nContact us for information about how to participate in these online guitar classes.
URL:https://heroesvoices.org/calendar/online-guitar-classes-with-larry-chung/2025-05-23/
LOCATION:Online\, Register to get connection details
END:VEVENT
BEGIN:VEVENT
DTSTART;TZID=America/Los_Angeles:20250523T113000
DTEND;TZID=America/Los_Angeles:20250523T113000
DTSTAMP:20260420T055610
CREATED:20220322T174118Z
LAST-MODIFIED:20250901T174533Z
UID:10003516-1747999800-1747999800@heroesvoices.org
SUMMARY:Online Guitar Classes with Larry Chung
DESCRIPTION:These group lessons are available at no charge to all US Veterans everywhere. \nContact us for information about how to participate in these online guitar classes.
URL:https://heroesvoices.org/calendar/online-guitar-classes-with-larry-chung/2025-05-23/
LOCATION:Online\, Register to get connection details
END:VEVENT
BEGIN:VEVENT
DTSTART;TZID=America/Los_Angeles:20250523T113000
DTEND;TZID=America/Los_Angeles:20250523T113000
DTSTAMP:20260420T055610
CREATED:20220322T174118Z
LAST-MODIFIED:20250901T174533Z
UID:10003841-1747999800-1747999800@heroesvoices.org
SUMMARY:Online Guitar Classes with Larry Chung
DESCRIPTION:These group lessons are available at no charge to all US Veterans everywhere. \nContact us for information about how to participate in these online guitar classes.
URL:https://heroesvoices.org/calendar/online-guitar-classes-with-larry-chung/2025-05-23/
LOCATION:Online\, Register to get connection details
END:VEVENT
BEGIN:VEVENT
DTSTART;TZID=America/Los_Angeles:20250523T113000
DTEND;TZID=America/Los_Angeles:20250523T113000
DTSTAMP:20260420T055610
CREATED:20220322T174118Z
LAST-MODIFIED:20250901T174533Z
UID:10004165-1747999800-1747999800@heroesvoices.org
SUMMARY:Online Guitar Classes with Larry Chung
DESCRIPTION:These group lessons are available at no charge to all US Veterans everywhere. \nContact us for information about how to participate in these online guitar classes.
URL:https://heroesvoices.org/calendar/online-guitar-classes-with-larry-chung/2025-05-23/
LOCATION:Online\, Register to get connection details
END:VEVENT
BEGIN:VEVENT
DTSTART;TZID=America/Los_Angeles:20250530T113000
DTEND;TZID=America/Los_Angeles:20250530T113000
DTSTAMP:20260420T055610
CREATED:20220322T174118Z
LAST-MODIFIED:20250901T174533Z
UID:10003191-1748604600-1748604600@heroesvoices.org
SUMMARY:Online Guitar Classes with Larry Chung
DESCRIPTION:These group lessons are available at no charge to all US Veterans everywhere. \nContact us for information about how to participate in these online guitar classes.
URL:https://heroesvoices.org/calendar/online-guitar-classes-with-larry-chung/2025-05-30/
LOCATION:Online\, Register to get connection details
END:VEVENT
BEGIN:VEVENT
DTSTART;TZID=America/Los_Angeles:20250530T113000
DTEND;TZID=America/Los_Angeles:20250530T113000
DTSTAMP:20260420T055610
CREATED:20220322T174118Z
LAST-MODIFIED:20250901T174533Z
UID:10003517-1748604600-1748604600@heroesvoices.org
SUMMARY:Online Guitar Classes with Larry Chung
DESCRIPTION:These group lessons are available at no charge to all US Veterans everywhere. \nContact us for information about how to participate in these online guitar classes.
URL:https://heroesvoices.org/calendar/online-guitar-classes-with-larry-chung/2025-05-30/
LOCATION:Online\, Register to get connection details
END:VEVENT
BEGIN:VEVENT
DTSTART;TZID=America/Los_Angeles:20250530T113000
DTEND;TZID=America/Los_Angeles:20250530T113000
DTSTAMP:20260420T055610
CREATED:20220322T174118Z
LAST-MODIFIED:20250901T174533Z
UID:10003842-1748604600-1748604600@heroesvoices.org
SUMMARY:Online Guitar Classes with Larry Chung
DESCRIPTION:These group lessons are available at no charge to all US Veterans everywhere. \nContact us for information about how to participate in these online guitar classes.
URL:https://heroesvoices.org/calendar/online-guitar-classes-with-larry-chung/2025-05-30/
LOCATION:Online\, Register to get connection details
END:VEVENT
BEGIN:VEVENT
DTSTART;TZID=America/Los_Angeles:20250530T113000
DTEND;TZID=America/Los_Angeles:20250530T113000
DTSTAMP:20260420T055610
CREATED:20220322T174118Z
LAST-MODIFIED:20250901T174533Z
UID:10004166-1748604600-1748604600@heroesvoices.org
SUMMARY:Online Guitar Classes with Larry Chung
DESCRIPTION:These group lessons are available at no charge to all US Veterans everywhere. \nContact us for information about how to participate in these online guitar classes.
URL:https://heroesvoices.org/calendar/online-guitar-classes-with-larry-chung/2025-05-30/
LOCATION:Online\, Register to get connection details
END:VEVENT
BEGIN:VEVENT
DTSTART;TZID=America/Los_Angeles:20250606T113000
DTEND;TZID=America/Los_Angeles:20250606T113000
DTSTAMP:20260420T055610
CREATED:20220322T174118Z
LAST-MODIFIED:20250901T174533Z
UID:10003192-1749209400-1749209400@heroesvoices.org
SUMMARY:Online Guitar Classes with Larry Chung
DESCRIPTION:These group lessons are available at no charge to all US Veterans everywhere. \nContact us for information about how to participate in these online guitar classes.
URL:https://heroesvoices.org/calendar/online-guitar-classes-with-larry-chung/2025-06-06/
LOCATION:Online\, Register to get connection details
END:VEVENT
BEGIN:VEVENT
DTSTART;TZID=America/Los_Angeles:20250606T113000
DTEND;TZID=America/Los_Angeles:20250606T113000
DTSTAMP:20260420T055610
CREATED:20220322T174118Z
LAST-MODIFIED:20250901T174533Z
UID:10003518-1749209400-1749209400@heroesvoices.org
SUMMARY:Online Guitar Classes with Larry Chung
DESCRIPTION:These group lessons are available at no charge to all US Veterans everywhere. \nContact us for information about how to participate in these online guitar classes.
URL:https://heroesvoices.org/calendar/online-guitar-classes-with-larry-chung/2025-06-06/
LOCATION:Online\, Register to get connection details
END:VEVENT
BEGIN:VEVENT
DTSTART;TZID=America/Los_Angeles:20250606T113000
DTEND;TZID=America/Los_Angeles:20250606T113000
DTSTAMP:20260420T055610
CREATED:20220322T174118Z
LAST-MODIFIED:20250901T174533Z
UID:10003843-1749209400-1749209400@heroesvoices.org
SUMMARY:Online Guitar Classes with Larry Chung
DESCRIPTION:These group lessons are available at no charge to all US Veterans everywhere. \nContact us for information about how to participate in these online guitar classes.
URL:https://heroesvoices.org/calendar/online-guitar-classes-with-larry-chung/2025-06-06/
LOCATION:Online\, Register to get connection details
END:VEVENT
BEGIN:VEVENT
DTSTART;TZID=America/Los_Angeles:20250606T113000
DTEND;TZID=America/Los_Angeles:20250606T113000
DTSTAMP:20260420T055610
CREATED:20220322T174118Z
LAST-MODIFIED:20250901T174533Z
UID:10004167-1749209400-1749209400@heroesvoices.org
SUMMARY:Online Guitar Classes with Larry Chung
DESCRIPTION:These group lessons are available at no charge to all US Veterans everywhere. \nContact us for information about how to participate in these online guitar classes.
URL:https://heroesvoices.org/calendar/online-guitar-classes-with-larry-chung/2025-06-06/
LOCATION:Online\, Register to get connection details
END:VEVENT
BEGIN:VEVENT
DTSTART;TZID=America/Los_Angeles:20250613T113000
DTEND;TZID=America/Los_Angeles:20250613T113000
DTSTAMP:20260420T055610
CREATED:20220322T174118Z
LAST-MODIFIED:20250901T174533Z
UID:10003193-1749814200-1749814200@heroesvoices.org
SUMMARY:Online Guitar Classes with Larry Chung
DESCRIPTION:These group lessons are available at no charge to all US Veterans everywhere. \nContact us for information about how to participate in these online guitar classes.
URL:https://heroesvoices.org/calendar/online-guitar-classes-with-larry-chung/2025-06-13/
LOCATION:Online\, Register to get connection details
END:VEVENT
BEGIN:VEVENT
DTSTART;TZID=America/Los_Angeles:20250613T113000
DTEND;TZID=America/Los_Angeles:20250613T113000
DTSTAMP:20260420T055610
CREATED:20220322T174118Z
LAST-MODIFIED:20250901T174533Z
UID:10003519-1749814200-1749814200@heroesvoices.org
SUMMARY:Online Guitar Classes with Larry Chung
DESCRIPTION:These group lessons are available at no charge to all US Veterans everywhere. \nContact us for information about how to participate in these online guitar classes.
URL:https://heroesvoices.org/calendar/online-guitar-classes-with-larry-chung/2025-06-13/
LOCATION:Online\, Register to get connection details
END:VEVENT
BEGIN:VEVENT
DTSTART;TZID=America/Los_Angeles:20250613T113000
DTEND;TZID=America/Los_Angeles:20250613T113000
DTSTAMP:20260420T055610
CREATED:20220322T174118Z
LAST-MODIFIED:20250901T174533Z
UID:10003844-1749814200-1749814200@heroesvoices.org
SUMMARY:Online Guitar Classes with Larry Chung
DESCRIPTION:These group lessons are available at no charge to all US Veterans everywhere. \nContact us for information about how to participate in these online guitar classes.
URL:https://heroesvoices.org/calendar/online-guitar-classes-with-larry-chung/2025-06-13/
LOCATION:Online\, Register to get connection details
END:VEVENT
BEGIN:VEVENT
DTSTART;TZID=America/Los_Angeles:20250613T113000
DTEND;TZID=America/Los_Angeles:20250613T113000
DTSTAMP:20260420T055610
CREATED:20220322T174118Z
LAST-MODIFIED:20250901T174533Z
UID:10004168-1749814200-1749814200@heroesvoices.org
SUMMARY:Online Guitar Classes with Larry Chung
DESCRIPTION:These group lessons are available at no charge to all US Veterans everywhere. \nContact us for information about how to participate in these online guitar classes.
URL:https://heroesvoices.org/calendar/online-guitar-classes-with-larry-chung/2025-06-13/
LOCATION:Online\, Register to get connection details
END:VEVENT
BEGIN:VEVENT
DTSTART;TZID=America/Los_Angeles:20250620T113000
DTEND;TZID=America/Los_Angeles:20250620T113000
DTSTAMP:20260420T055610
CREATED:20220322T174118Z
LAST-MODIFIED:20250901T174533Z
UID:10003194-1750419000-1750419000@heroesvoices.org
SUMMARY:Online Guitar Classes with Larry Chung
DESCRIPTION:These group lessons are available at no charge to all US Veterans everywhere. \nContact us for information about how to participate in these online guitar classes.
URL:https://heroesvoices.org/calendar/online-guitar-classes-with-larry-chung/2025-06-20/
LOCATION:Online\, Register to get connection details
END:VEVENT
BEGIN:VEVENT
DTSTART;TZID=America/Los_Angeles:20250620T113000
DTEND;TZID=America/Los_Angeles:20250620T113000
DTSTAMP:20260420T055610
CREATED:20220322T174118Z
LAST-MODIFIED:20250901T174533Z
UID:10003520-1750419000-1750419000@heroesvoices.org
SUMMARY:Online Guitar Classes with Larry Chung
DESCRIPTION:These group lessons are available at no charge to all US Veterans everywhere. \nContact us for information about how to participate in these online guitar classes.
URL:https://heroesvoices.org/calendar/online-guitar-classes-with-larry-chung/2025-06-20/
LOCATION:Online\, Register to get connection details
END:VEVENT
BEGIN:VEVENT
DTSTART;TZID=America/Los_Angeles:20250620T113000
DTEND;TZID=America/Los_Angeles:20250620T113000
DTSTAMP:20260420T055610
CREATED:20220322T174118Z
LAST-MODIFIED:20250901T174533Z
UID:10003845-1750419000-1750419000@heroesvoices.org
SUMMARY:Online Guitar Classes with Larry Chung
DESCRIPTION:These group lessons are available at no charge to all US Veterans everywhere. \nContact us for information about how to participate in these online guitar classes.
URL:https://heroesvoices.org/calendar/online-guitar-classes-with-larry-chung/2025-06-20/
LOCATION:Online\, Register to get connection details
END:VEVENT
BEGIN:VEVENT
DTSTART;TZID=America/Los_Angeles:20250620T113000
DTEND;TZID=America/Los_Angeles:20250620T113000
DTSTAMP:20260420T055610
CREATED:20220322T174118Z
LAST-MODIFIED:20250901T174533Z
UID:10004169-1750419000-1750419000@heroesvoices.org
SUMMARY:Online Guitar Classes with Larry Chung
DESCRIPTION:These group lessons are available at no charge to all US Veterans everywhere. \nContact us for information about how to participate in these online guitar classes.
URL:https://heroesvoices.org/calendar/online-guitar-classes-with-larry-chung/2025-06-20/
LOCATION:Online\, Register to get connection details
END:VEVENT
BEGIN:VEVENT
DTSTART;TZID=America/Los_Angeles:20250627T113000
DTEND;TZID=America/Los_Angeles:20250627T113000
DTSTAMP:20260420T055610
CREATED:20220322T174118Z
LAST-MODIFIED:20250901T174533Z
UID:10003195-1751023800-1751023800@heroesvoices.org
SUMMARY:Online Guitar Classes with Larry Chung
DESCRIPTION:These group lessons are available at no charge to all US Veterans everywhere. \nContact us for information about how to participate in these online guitar classes.
URL:https://heroesvoices.org/calendar/online-guitar-classes-with-larry-chung/2025-06-27/
LOCATION:Online\, Register to get connection details
END:VEVENT
BEGIN:VEVENT
DTSTART;TZID=America/Los_Angeles:20250627T113000
DTEND;TZID=America/Los_Angeles:20250627T113000
DTSTAMP:20260420T055610
CREATED:20220322T174118Z
LAST-MODIFIED:20250901T174533Z
UID:10003521-1751023800-1751023800@heroesvoices.org
SUMMARY:Online Guitar Classes with Larry Chung
DESCRIPTION:These group lessons are available at no charge to all US Veterans everywhere. \nContact us for information about how to participate in these online guitar classes.
URL:https://heroesvoices.org/calendar/online-guitar-classes-with-larry-chung/2025-06-27/
LOCATION:Online\, Register to get connection details
END:VEVENT
BEGIN:VEVENT
DTSTART;TZID=America/Los_Angeles:20250627T113000
DTEND;TZID=America/Los_Angeles:20250627T113000
DTSTAMP:20260420T055610
CREATED:20220322T174118Z
LAST-MODIFIED:20250901T174533Z
UID:10003846-1751023800-1751023800@heroesvoices.org
SUMMARY:Online Guitar Classes with Larry Chung
DESCRIPTION:These group lessons are available at no charge to all US Veterans everywhere. \nContact us for information about how to participate in these online guitar classes.
URL:https://heroesvoices.org/calendar/online-guitar-classes-with-larry-chung/2025-06-27/
LOCATION:Online\, Register to get connection details
END:VEVENT
BEGIN:VEVENT
DTSTART;TZID=America/Los_Angeles:20250627T113000
DTEND;TZID=America/Los_Angeles:20250627T113000
DTSTAMP:20260420T055610
CREATED:20220322T174118Z
LAST-MODIFIED:20250901T174533Z
UID:10004170-1751023800-1751023800@heroesvoices.org
SUMMARY:Online Guitar Classes with Larry Chung
DESCRIPTION:These group lessons are available at no charge to all US Veterans everywhere. \nContact us for information about how to participate in these online guitar classes.
URL:https://heroesvoices.org/calendar/online-guitar-classes-with-larry-chung/2025-06-27/
LOCATION:Online\, Register to get connection details
END:VEVENT
END:VCALENDAR