BEGIN:VCALENDAR
VERSION:2.0
PRODID:-//Heroes&#039; Voices - ECPv6.15.18//NONSGML v1.0//EN
CALSCALE:GREGORIAN
METHOD:PUBLISH
X-ORIGINAL-URL:https://heroesvoices.org
X-WR-CALDESC:Events for Heroes&#039; Voices
REFRESH-INTERVAL;VALUE=DURATION:PT1H
X-Robots-Tag:noindex
X-PUBLISHED-TTL:PT1H
BEGIN:VTIMEZONE
TZID:America/Los_Angeles
BEGIN:DAYLIGHT
TZOFFSETFROM:-0800
TZOFFSETTO:-0700
TZNAME:PDT
DTSTART:20250309T100000
END:DAYLIGHT
BEGIN:STANDARD
TZOFFSETFROM:-0700
TZOFFSETTO:-0800
TZNAME:PST
DTSTART:20251102T090000
END:STANDARD
BEGIN:DAYLIGHT
TZOFFSETFROM:-0800
TZOFFSETTO:-0700
TZNAME:PDT
DTSTART:20260308T100000
END:DAYLIGHT
BEGIN:STANDARD
TZOFFSETFROM:-0700
TZOFFSETTO:-0800
TZNAME:PST
DTSTART:20261101T090000
END:STANDARD
BEGIN:DAYLIGHT
TZOFFSETFROM:-0800
TZOFFSETTO:-0700
TZNAME:PDT
DTSTART:20270314T100000
END:DAYLIGHT
BEGIN:STANDARD
TZOFFSETFROM:-0700
TZOFFSETTO:-0800
TZNAME:PST
DTSTART:20271107T090000
END:STANDARD
END:VTIMEZONE
BEGIN:VEVENT
DTSTART;TZID=America/Los_Angeles:20260325T143000
DTEND;TZID=America/Los_Angeles:20260325T153000
DTSTAMP:20260420T133650
CREATED:20220322T173858Z
LAST-MODIFIED:20220322T174234Z
UID:10002821-1774449000-1774452600@heroesvoices.org
SUMMARY:Online Guitar Classes with Paul Young
DESCRIPTION:These group lessons are available at no charge to all US Veterans everywhere. \nContact us for information about how to participate in these online guitar classes.
URL:https://heroesvoices.org/calendar/online-guitar-lessons-with-paul-young/2026-03-25/
LOCATION:Online\, Register to get connection details
END:VEVENT
BEGIN:VEVENT
DTSTART;TZID=America/Los_Angeles:20260327T113000
DTEND;TZID=America/Los_Angeles:20260327T113000
DTSTAMP:20260420T133650
CREATED:20220322T174118Z
LAST-MODIFIED:20220322T175312Z
UID:10002582-1774611000-1774611000@heroesvoices.org
SUMMARY:Online Guitar Classes with Larry Chung
DESCRIPTION:These group lessons are available at no charge to all US Veterans everywhere. \nContact us for information about how to participate in these online guitar classes.
URL:https://heroesvoices.org/calendar/online-guitar-classes-with-larry-chung/2026-03-27/
LOCATION:Online\, Register to get connection details
END:VEVENT
BEGIN:VEVENT
DTSTART;TZID=America/Los_Angeles:20260327T113000
DTEND;TZID=America/Los_Angeles:20260327T113000
DTSTAMP:20260420T133650
CREATED:20220322T174118Z
LAST-MODIFIED:20250901T174533Z
UID:10003234-1774611000-1774611000@heroesvoices.org
SUMMARY:Online Guitar Classes with Larry Chung
DESCRIPTION:These group lessons are available at no charge to all US Veterans everywhere. \nContact us for information about how to participate in these online guitar classes.
URL:https://heroesvoices.org/calendar/online-guitar-classes-with-larry-chung/2026-03-27/
LOCATION:Online\, Register to get connection details
END:VEVENT
BEGIN:VEVENT
DTSTART;TZID=America/Los_Angeles:20260327T113000
DTEND;TZID=America/Los_Angeles:20260327T113000
DTSTAMP:20260420T133650
CREATED:20220322T174118Z
LAST-MODIFIED:20250901T174533Z
UID:10003560-1774611000-1774611000@heroesvoices.org
SUMMARY:Online Guitar Classes with Larry Chung
DESCRIPTION:These group lessons are available at no charge to all US Veterans everywhere. \nContact us for information about how to participate in these online guitar classes.
URL:https://heroesvoices.org/calendar/online-guitar-classes-with-larry-chung/2026-03-27/
LOCATION:Online\, Register to get connection details
END:VEVENT
BEGIN:VEVENT
DTSTART;TZID=America/Los_Angeles:20260327T113000
DTEND;TZID=America/Los_Angeles:20260327T113000
DTSTAMP:20260420T133650
CREATED:20220322T174118Z
LAST-MODIFIED:20250901T174533Z
UID:10003885-1774611000-1774611000@heroesvoices.org
SUMMARY:Online Guitar Classes with Larry Chung
DESCRIPTION:These group lessons are available at no charge to all US Veterans everywhere. \nContact us for information about how to participate in these online guitar classes.
URL:https://heroesvoices.org/calendar/online-guitar-classes-with-larry-chung/2026-03-27/
LOCATION:Online\, Register to get connection details
END:VEVENT
BEGIN:VEVENT
DTSTART;TZID=America/Los_Angeles:20260327T113000
DTEND;TZID=America/Los_Angeles:20260327T113000
DTSTAMP:20260420T133650
CREATED:20220322T174118Z
LAST-MODIFIED:20250901T174533Z
UID:10004209-1774611000-1774611000@heroesvoices.org
SUMMARY:Online Guitar Classes with Larry Chung
DESCRIPTION:These group lessons are available at no charge to all US Veterans everywhere. \nContact us for information about how to participate in these online guitar classes.
URL:https://heroesvoices.org/calendar/online-guitar-classes-with-larry-chung/2026-03-27/
LOCATION:Online\, Register to get connection details
END:VEVENT
BEGIN:VEVENT
DTSTART;TZID=America/Los_Angeles:20260403T113000
DTEND;TZID=America/Los_Angeles:20260403T113000
DTSTAMP:20260420T133650
CREATED:20220322T174118Z
LAST-MODIFIED:20250901T174533Z
UID:10003235-1775215800-1775215800@heroesvoices.org
SUMMARY:Online Guitar Classes with Larry Chung
DESCRIPTION:These group lessons are available at no charge to all US Veterans everywhere. \nContact us for information about how to participate in these online guitar classes.
URL:https://heroesvoices.org/calendar/online-guitar-classes-with-larry-chung/2026-04-03/
LOCATION:Online\, Register to get connection details
END:VEVENT
BEGIN:VEVENT
DTSTART;TZID=America/Los_Angeles:20260403T113000
DTEND;TZID=America/Los_Angeles:20260403T113000
DTSTAMP:20260420T133650
CREATED:20220322T174118Z
LAST-MODIFIED:20250901T174533Z
UID:10003561-1775215800-1775215800@heroesvoices.org
SUMMARY:Online Guitar Classes with Larry Chung
DESCRIPTION:These group lessons are available at no charge to all US Veterans everywhere. \nContact us for information about how to participate in these online guitar classes.
URL:https://heroesvoices.org/calendar/online-guitar-classes-with-larry-chung/2026-04-03/
LOCATION:Online\, Register to get connection details
END:VEVENT
BEGIN:VEVENT
DTSTART;TZID=America/Los_Angeles:20260403T113000
DTEND;TZID=America/Los_Angeles:20260403T113000
DTSTAMP:20260420T133650
CREATED:20220322T174118Z
LAST-MODIFIED:20250901T174533Z
UID:10003886-1775215800-1775215800@heroesvoices.org
SUMMARY:Online Guitar Classes with Larry Chung
DESCRIPTION:These group lessons are available at no charge to all US Veterans everywhere. \nContact us for information about how to participate in these online guitar classes.
URL:https://heroesvoices.org/calendar/online-guitar-classes-with-larry-chung/2026-04-03/
LOCATION:Online\, Register to get connection details
END:VEVENT
BEGIN:VEVENT
DTSTART;TZID=America/Los_Angeles:20260403T113000
DTEND;TZID=America/Los_Angeles:20260403T113000
DTSTAMP:20260420T133650
CREATED:20220322T174118Z
LAST-MODIFIED:20250901T174533Z
UID:10004210-1775215800-1775215800@heroesvoices.org
SUMMARY:Online Guitar Classes with Larry Chung
DESCRIPTION:These group lessons are available at no charge to all US Veterans everywhere. \nContact us for information about how to participate in these online guitar classes.
URL:https://heroesvoices.org/calendar/online-guitar-classes-with-larry-chung/2026-04-03/
LOCATION:Online\, Register to get connection details
END:VEVENT
BEGIN:VEVENT
DTSTART;TZID=America/Los_Angeles:20260410T113000
DTEND;TZID=America/Los_Angeles:20260410T113000
DTSTAMP:20260420T133650
CREATED:20220322T174118Z
LAST-MODIFIED:20250901T174533Z
UID:10003236-1775820600-1775820600@heroesvoices.org
SUMMARY:Online Guitar Classes with Larry Chung
DESCRIPTION:These group lessons are available at no charge to all US Veterans everywhere. \nContact us for information about how to participate in these online guitar classes.
URL:https://heroesvoices.org/calendar/online-guitar-classes-with-larry-chung/2026-04-10/
LOCATION:Online\, Register to get connection details
END:VEVENT
BEGIN:VEVENT
DTSTART;TZID=America/Los_Angeles:20260410T113000
DTEND;TZID=America/Los_Angeles:20260410T113000
DTSTAMP:20260420T133650
CREATED:20220322T174118Z
LAST-MODIFIED:20250901T174533Z
UID:10003562-1775820600-1775820600@heroesvoices.org
SUMMARY:Online Guitar Classes with Larry Chung
DESCRIPTION:These group lessons are available at no charge to all US Veterans everywhere. \nContact us for information about how to participate in these online guitar classes.
URL:https://heroesvoices.org/calendar/online-guitar-classes-with-larry-chung/2026-04-10/
LOCATION:Online\, Register to get connection details
END:VEVENT
BEGIN:VEVENT
DTSTART;TZID=America/Los_Angeles:20260410T113000
DTEND;TZID=America/Los_Angeles:20260410T113000
DTSTAMP:20260420T133650
CREATED:20220322T174118Z
LAST-MODIFIED:20250901T174533Z
UID:10003887-1775820600-1775820600@heroesvoices.org
SUMMARY:Online Guitar Classes with Larry Chung
DESCRIPTION:These group lessons are available at no charge to all US Veterans everywhere. \nContact us for information about how to participate in these online guitar classes.
URL:https://heroesvoices.org/calendar/online-guitar-classes-with-larry-chung/2026-04-10/
LOCATION:Online\, Register to get connection details
END:VEVENT
BEGIN:VEVENT
DTSTART;TZID=America/Los_Angeles:20260410T113000
DTEND;TZID=America/Los_Angeles:20260410T113000
DTSTAMP:20260420T133650
CREATED:20220322T174118Z
LAST-MODIFIED:20250901T174533Z
UID:10004211-1775820600-1775820600@heroesvoices.org
SUMMARY:Online Guitar Classes with Larry Chung
DESCRIPTION:These group lessons are available at no charge to all US Veterans everywhere. \nContact us for information about how to participate in these online guitar classes.
URL:https://heroesvoices.org/calendar/online-guitar-classes-with-larry-chung/2026-04-10/
LOCATION:Online\, Register to get connection details
END:VEVENT
BEGIN:VEVENT
DTSTART;TZID=America/Los_Angeles:20260417T113000
DTEND;TZID=America/Los_Angeles:20260417T113000
DTSTAMP:20260420T133650
CREATED:20220322T174118Z
LAST-MODIFIED:20250901T174533Z
UID:10003237-1776425400-1776425400@heroesvoices.org
SUMMARY:Online Guitar Classes with Larry Chung
DESCRIPTION:These group lessons are available at no charge to all US Veterans everywhere. \nContact us for information about how to participate in these online guitar classes.
URL:https://heroesvoices.org/calendar/online-guitar-classes-with-larry-chung/2026-04-17/
LOCATION:Online\, Register to get connection details
END:VEVENT
BEGIN:VEVENT
DTSTART;TZID=America/Los_Angeles:20260417T113000
DTEND;TZID=America/Los_Angeles:20260417T113000
DTSTAMP:20260420T133650
CREATED:20220322T174118Z
LAST-MODIFIED:20250901T174533Z
UID:10003563-1776425400-1776425400@heroesvoices.org
SUMMARY:Online Guitar Classes with Larry Chung
DESCRIPTION:These group lessons are available at no charge to all US Veterans everywhere. \nContact us for information about how to participate in these online guitar classes.
URL:https://heroesvoices.org/calendar/online-guitar-classes-with-larry-chung/2026-04-17/
LOCATION:Online\, Register to get connection details
END:VEVENT
BEGIN:VEVENT
DTSTART;TZID=America/Los_Angeles:20260417T113000
DTEND;TZID=America/Los_Angeles:20260417T113000
DTSTAMP:20260420T133650
CREATED:20220322T174118Z
LAST-MODIFIED:20250901T174533Z
UID:10003888-1776425400-1776425400@heroesvoices.org
SUMMARY:Online Guitar Classes with Larry Chung
DESCRIPTION:These group lessons are available at no charge to all US Veterans everywhere. \nContact us for information about how to participate in these online guitar classes.
URL:https://heroesvoices.org/calendar/online-guitar-classes-with-larry-chung/2026-04-17/
LOCATION:Online\, Register to get connection details
END:VEVENT
BEGIN:VEVENT
DTSTART;TZID=America/Los_Angeles:20260417T113000
DTEND;TZID=America/Los_Angeles:20260417T113000
DTSTAMP:20260420T133650
CREATED:20220322T174118Z
LAST-MODIFIED:20250901T174533Z
UID:10004212-1776425400-1776425400@heroesvoices.org
SUMMARY:Online Guitar Classes with Larry Chung
DESCRIPTION:These group lessons are available at no charge to all US Veterans everywhere. \nContact us for information about how to participate in these online guitar classes.
URL:https://heroesvoices.org/calendar/online-guitar-classes-with-larry-chung/2026-04-17/
LOCATION:Online\, Register to get connection details
END:VEVENT
BEGIN:VEVENT
DTSTART;TZID=America/Los_Angeles:20260424T113000
DTEND;TZID=America/Los_Angeles:20260424T113000
DTSTAMP:20260420T133650
CREATED:20220322T174118Z
LAST-MODIFIED:20250901T174533Z
UID:10003238-1777030200-1777030200@heroesvoices.org
SUMMARY:Online Guitar Classes with Larry Chung
DESCRIPTION:These group lessons are available at no charge to all US Veterans everywhere. \nContact us for information about how to participate in these online guitar classes.
URL:https://heroesvoices.org/calendar/online-guitar-classes-with-larry-chung/2026-04-24/
LOCATION:Online\, Register to get connection details
END:VEVENT
BEGIN:VEVENT
DTSTART;TZID=America/Los_Angeles:20260424T113000
DTEND;TZID=America/Los_Angeles:20260424T113000
DTSTAMP:20260420T133650
CREATED:20220322T174118Z
LAST-MODIFIED:20250901T174533Z
UID:10003564-1777030200-1777030200@heroesvoices.org
SUMMARY:Online Guitar Classes with Larry Chung
DESCRIPTION:These group lessons are available at no charge to all US Veterans everywhere. \nContact us for information about how to participate in these online guitar classes.
URL:https://heroesvoices.org/calendar/online-guitar-classes-with-larry-chung/2026-04-24/
LOCATION:Online\, Register to get connection details
END:VEVENT
BEGIN:VEVENT
DTSTART;TZID=America/Los_Angeles:20260424T113000
DTEND;TZID=America/Los_Angeles:20260424T113000
DTSTAMP:20260420T133650
CREATED:20220322T174118Z
LAST-MODIFIED:20250901T174533Z
UID:10003889-1777030200-1777030200@heroesvoices.org
SUMMARY:Online Guitar Classes with Larry Chung
DESCRIPTION:These group lessons are available at no charge to all US Veterans everywhere. \nContact us for information about how to participate in these online guitar classes.
URL:https://heroesvoices.org/calendar/online-guitar-classes-with-larry-chung/2026-04-24/
LOCATION:Online\, Register to get connection details
END:VEVENT
BEGIN:VEVENT
DTSTART;TZID=America/Los_Angeles:20260424T113000
DTEND;TZID=America/Los_Angeles:20260424T113000
DTSTAMP:20260420T133650
CREATED:20220322T174118Z
LAST-MODIFIED:20250901T174533Z
UID:10004213-1777030200-1777030200@heroesvoices.org
SUMMARY:Online Guitar Classes with Larry Chung
DESCRIPTION:These group lessons are available at no charge to all US Veterans everywhere. \nContact us for information about how to participate in these online guitar classes.
URL:https://heroesvoices.org/calendar/online-guitar-classes-with-larry-chung/2026-04-24/
LOCATION:Online\, Register to get connection details
END:VEVENT
BEGIN:VEVENT
DTSTART;TZID=America/Los_Angeles:20260501T113000
DTEND;TZID=America/Los_Angeles:20260501T113000
DTSTAMP:20260420T133650
CREATED:20220322T174118Z
LAST-MODIFIED:20250901T174533Z
UID:10003239-1777635000-1777635000@heroesvoices.org
SUMMARY:Online Guitar Classes with Larry Chung
DESCRIPTION:These group lessons are available at no charge to all US Veterans everywhere. \nContact us for information about how to participate in these online guitar classes.
URL:https://heroesvoices.org/calendar/online-guitar-classes-with-larry-chung/2026-05-01/
LOCATION:Online\, Register to get connection details
END:VEVENT
BEGIN:VEVENT
DTSTART;TZID=America/Los_Angeles:20260501T113000
DTEND;TZID=America/Los_Angeles:20260501T113000
DTSTAMP:20260420T133650
CREATED:20220322T174118Z
LAST-MODIFIED:20250901T174533Z
UID:10003565-1777635000-1777635000@heroesvoices.org
SUMMARY:Online Guitar Classes with Larry Chung
DESCRIPTION:These group lessons are available at no charge to all US Veterans everywhere. \nContact us for information about how to participate in these online guitar classes.
URL:https://heroesvoices.org/calendar/online-guitar-classes-with-larry-chung/2026-05-01/
LOCATION:Online\, Register to get connection details
END:VEVENT
BEGIN:VEVENT
DTSTART;TZID=America/Los_Angeles:20260501T113000
DTEND;TZID=America/Los_Angeles:20260501T113000
DTSTAMP:20260420T133650
CREATED:20220322T174118Z
LAST-MODIFIED:20250901T174533Z
UID:10003890-1777635000-1777635000@heroesvoices.org
SUMMARY:Online Guitar Classes with Larry Chung
DESCRIPTION:These group lessons are available at no charge to all US Veterans everywhere. \nContact us for information about how to participate in these online guitar classes.
URL:https://heroesvoices.org/calendar/online-guitar-classes-with-larry-chung/2026-05-01/
LOCATION:Online\, Register to get connection details
END:VEVENT
BEGIN:VEVENT
DTSTART;TZID=America/Los_Angeles:20260501T113000
DTEND;TZID=America/Los_Angeles:20260501T113000
DTSTAMP:20260420T133650
CREATED:20220322T174118Z
LAST-MODIFIED:20250901T174533Z
UID:10004214-1777635000-1777635000@heroesvoices.org
SUMMARY:Online Guitar Classes with Larry Chung
DESCRIPTION:These group lessons are available at no charge to all US Veterans everywhere. \nContact us for information about how to participate in these online guitar classes.
URL:https://heroesvoices.org/calendar/online-guitar-classes-with-larry-chung/2026-05-01/
LOCATION:Online\, Register to get connection details
END:VEVENT
BEGIN:VEVENT
DTSTART;TZID=America/Los_Angeles:20260508T113000
DTEND;TZID=America/Los_Angeles:20260508T113000
DTSTAMP:20260420T133650
CREATED:20220322T174118Z
LAST-MODIFIED:20250901T174533Z
UID:10003240-1778239800-1778239800@heroesvoices.org
SUMMARY:Online Guitar Classes with Larry Chung
DESCRIPTION:These group lessons are available at no charge to all US Veterans everywhere. \nContact us for information about how to participate in these online guitar classes.
URL:https://heroesvoices.org/calendar/online-guitar-classes-with-larry-chung/2026-05-08/
LOCATION:Online\, Register to get connection details
END:VEVENT
BEGIN:VEVENT
DTSTART;TZID=America/Los_Angeles:20260508T113000
DTEND;TZID=America/Los_Angeles:20260508T113000
DTSTAMP:20260420T133650
CREATED:20220322T174118Z
LAST-MODIFIED:20250901T174533Z
UID:10003566-1778239800-1778239800@heroesvoices.org
SUMMARY:Online Guitar Classes with Larry Chung
DESCRIPTION:These group lessons are available at no charge to all US Veterans everywhere. \nContact us for information about how to participate in these online guitar classes.
URL:https://heroesvoices.org/calendar/online-guitar-classes-with-larry-chung/2026-05-08/
LOCATION:Online\, Register to get connection details
END:VEVENT
BEGIN:VEVENT
DTSTART;TZID=America/Los_Angeles:20260508T113000
DTEND;TZID=America/Los_Angeles:20260508T113000
DTSTAMP:20260420T133650
CREATED:20220322T174118Z
LAST-MODIFIED:20250901T174533Z
UID:10003891-1778239800-1778239800@heroesvoices.org
SUMMARY:Online Guitar Classes with Larry Chung
DESCRIPTION:These group lessons are available at no charge to all US Veterans everywhere. \nContact us for information about how to participate in these online guitar classes.
URL:https://heroesvoices.org/calendar/online-guitar-classes-with-larry-chung/2026-05-08/
LOCATION:Online\, Register to get connection details
END:VEVENT
BEGIN:VEVENT
DTSTART;TZID=America/Los_Angeles:20260508T113000
DTEND;TZID=America/Los_Angeles:20260508T113000
DTSTAMP:20260420T133650
CREATED:20220322T174118Z
LAST-MODIFIED:20250901T174533Z
UID:10004215-1778239800-1778239800@heroesvoices.org
SUMMARY:Online Guitar Classes with Larry Chung
DESCRIPTION:These group lessons are available at no charge to all US Veterans everywhere. \nContact us for information about how to participate in these online guitar classes.
URL:https://heroesvoices.org/calendar/online-guitar-classes-with-larry-chung/2026-05-08/
LOCATION:Online\, Register to get connection details
END:VEVENT
END:VCALENDAR