BEGIN:VCALENDAR
VERSION:2.0
PRODID:-//Heroes&#039; Voices - ECPv6.15.18//NONSGML v1.0//EN
CALSCALE:GREGORIAN
METHOD:PUBLISH
X-WR-CALNAME:Heroes&#039; Voices
X-ORIGINAL-URL:https://heroesvoices.org
X-WR-CALDESC:Events for Heroes&#039; Voices
REFRESH-INTERVAL;VALUE=DURATION:PT1H
X-Robots-Tag:noindex
X-PUBLISHED-TTL:PT1H
BEGIN:VTIMEZONE
TZID:America/Los_Angeles
BEGIN:DAYLIGHT
TZOFFSETFROM:-0800
TZOFFSETTO:-0700
TZNAME:PDT
DTSTART:20260308T100000
END:DAYLIGHT
BEGIN:STANDARD
TZOFFSETFROM:-0700
TZOFFSETTO:-0800
TZNAME:PST
DTSTART:20261101T090000
END:STANDARD
BEGIN:DAYLIGHT
TZOFFSETFROM:-0800
TZOFFSETTO:-0700
TZNAME:PDT
DTSTART:20270314T100000
END:DAYLIGHT
BEGIN:STANDARD
TZOFFSETFROM:-0700
TZOFFSETTO:-0800
TZNAME:PST
DTSTART:20271107T090000
END:STANDARD
BEGIN:DAYLIGHT
TZOFFSETFROM:-0800
TZOFFSETTO:-0700
TZNAME:PDT
DTSTART:20280312T100000
END:DAYLIGHT
BEGIN:STANDARD
TZOFFSETFROM:-0700
TZOFFSETTO:-0800
TZNAME:PST
DTSTART:20281105T090000
END:STANDARD
END:VTIMEZONE
BEGIN:VEVENT
DTSTART;TZID=America/Los_Angeles:20270924T113000
DTEND;TZID=America/Los_Angeles:20270924T113000
DTSTAMP:20260424T201556
CREATED:20220322T174118Z
LAST-MODIFIED:20250901T174533Z
UID:10003963-1821785400-1821785400@heroesvoices.org
SUMMARY:Online Guitar Classes with Larry Chung
DESCRIPTION:These group lessons are available at no charge to all US Veterans everywhere. \nContact us for information about how to participate in these online guitar classes.
URL:https://heroesvoices.org/calendar/online-guitar-classes-with-larry-chung/2027-09-24/
LOCATION:Online\, Register to get connection details
END:VEVENT
BEGIN:VEVENT
DTSTART;TZID=America/Los_Angeles:20270924T113000
DTEND;TZID=America/Los_Angeles:20270924T113000
DTSTAMP:20260424T201556
CREATED:20220322T174118Z
LAST-MODIFIED:20250901T174533Z
UID:10004287-1821785400-1821785400@heroesvoices.org
SUMMARY:Online Guitar Classes with Larry Chung
DESCRIPTION:These group lessons are available at no charge to all US Veterans everywhere. \nContact us for information about how to participate in these online guitar classes.
URL:https://heroesvoices.org/calendar/online-guitar-classes-with-larry-chung/2027-09-24/
LOCATION:Online\, Register to get connection details
END:VEVENT
BEGIN:VEVENT
DTSTART;TZID=America/Los_Angeles:20271001T113000
DTEND;TZID=America/Los_Angeles:20271001T113000
DTSTAMP:20260424T201556
CREATED:20220322T174118Z
LAST-MODIFIED:20250901T174533Z
UID:10003313-1822390200-1822390200@heroesvoices.org
SUMMARY:Online Guitar Classes with Larry Chung
DESCRIPTION:These group lessons are available at no charge to all US Veterans everywhere. \nContact us for information about how to participate in these online guitar classes.
URL:https://heroesvoices.org/calendar/online-guitar-classes-with-larry-chung/2027-10-01/
LOCATION:Online\, Register to get connection details
END:VEVENT
BEGIN:VEVENT
DTSTART;TZID=America/Los_Angeles:20271001T113000
DTEND;TZID=America/Los_Angeles:20271001T113000
DTSTAMP:20260424T201556
CREATED:20220322T174118Z
LAST-MODIFIED:20250901T174533Z
UID:10003639-1822390200-1822390200@heroesvoices.org
SUMMARY:Online Guitar Classes with Larry Chung
DESCRIPTION:These group lessons are available at no charge to all US Veterans everywhere. \nContact us for information about how to participate in these online guitar classes.
URL:https://heroesvoices.org/calendar/online-guitar-classes-with-larry-chung/2027-10-01/
LOCATION:Online\, Register to get connection details
END:VEVENT
BEGIN:VEVENT
DTSTART;TZID=America/Los_Angeles:20271001T113000
DTEND;TZID=America/Los_Angeles:20271001T113000
DTSTAMP:20260424T201556
CREATED:20220322T174118Z
LAST-MODIFIED:20250901T174533Z
UID:10003964-1822390200-1822390200@heroesvoices.org
SUMMARY:Online Guitar Classes with Larry Chung
DESCRIPTION:These group lessons are available at no charge to all US Veterans everywhere. \nContact us for information about how to participate in these online guitar classes.
URL:https://heroesvoices.org/calendar/online-guitar-classes-with-larry-chung/2027-10-01/
LOCATION:Online\, Register to get connection details
END:VEVENT
BEGIN:VEVENT
DTSTART;TZID=America/Los_Angeles:20271001T113000
DTEND;TZID=America/Los_Angeles:20271001T113000
DTSTAMP:20260424T201556
CREATED:20220322T174118Z
LAST-MODIFIED:20250901T174533Z
UID:10004288-1822390200-1822390200@heroesvoices.org
SUMMARY:Online Guitar Classes with Larry Chung
DESCRIPTION:These group lessons are available at no charge to all US Veterans everywhere. \nContact us for information about how to participate in these online guitar classes.
URL:https://heroesvoices.org/calendar/online-guitar-classes-with-larry-chung/2027-10-01/
LOCATION:Online\, Register to get connection details
END:VEVENT
BEGIN:VEVENT
DTSTART;TZID=America/Los_Angeles:20271008T113000
DTEND;TZID=America/Los_Angeles:20271008T113000
DTSTAMP:20260424T201556
CREATED:20220322T174118Z
LAST-MODIFIED:20250901T174533Z
UID:10003314-1822995000-1822995000@heroesvoices.org
SUMMARY:Online Guitar Classes with Larry Chung
DESCRIPTION:These group lessons are available at no charge to all US Veterans everywhere. \nContact us for information about how to participate in these online guitar classes.
URL:https://heroesvoices.org/calendar/online-guitar-classes-with-larry-chung/2027-10-08/
LOCATION:Online\, Register to get connection details
END:VEVENT
BEGIN:VEVENT
DTSTART;TZID=America/Los_Angeles:20271008T113000
DTEND;TZID=America/Los_Angeles:20271008T113000
DTSTAMP:20260424T201556
CREATED:20220322T174118Z
LAST-MODIFIED:20250901T174533Z
UID:10003640-1822995000-1822995000@heroesvoices.org
SUMMARY:Online Guitar Classes with Larry Chung
DESCRIPTION:These group lessons are available at no charge to all US Veterans everywhere. \nContact us for information about how to participate in these online guitar classes.
URL:https://heroesvoices.org/calendar/online-guitar-classes-with-larry-chung/2027-10-08/
LOCATION:Online\, Register to get connection details
END:VEVENT
BEGIN:VEVENT
DTSTART;TZID=America/Los_Angeles:20271008T113000
DTEND;TZID=America/Los_Angeles:20271008T113000
DTSTAMP:20260424T201556
CREATED:20220322T174118Z
LAST-MODIFIED:20250901T174533Z
UID:10003965-1822995000-1822995000@heroesvoices.org
SUMMARY:Online Guitar Classes with Larry Chung
DESCRIPTION:These group lessons are available at no charge to all US Veterans everywhere. \nContact us for information about how to participate in these online guitar classes.
URL:https://heroesvoices.org/calendar/online-guitar-classes-with-larry-chung/2027-10-08/
LOCATION:Online\, Register to get connection details
END:VEVENT
BEGIN:VEVENT
DTSTART;TZID=America/Los_Angeles:20271008T113000
DTEND;TZID=America/Los_Angeles:20271008T113000
DTSTAMP:20260424T201556
CREATED:20220322T174118Z
LAST-MODIFIED:20250901T174533Z
UID:10004289-1822995000-1822995000@heroesvoices.org
SUMMARY:Online Guitar Classes with Larry Chung
DESCRIPTION:These group lessons are available at no charge to all US Veterans everywhere. \nContact us for information about how to participate in these online guitar classes.
URL:https://heroesvoices.org/calendar/online-guitar-classes-with-larry-chung/2027-10-08/
LOCATION:Online\, Register to get connection details
END:VEVENT
BEGIN:VEVENT
DTSTART;TZID=America/Los_Angeles:20271015T113000
DTEND;TZID=America/Los_Angeles:20271015T113000
DTSTAMP:20260424T201556
CREATED:20220322T174118Z
LAST-MODIFIED:20250901T174533Z
UID:10003315-1823599800-1823599800@heroesvoices.org
SUMMARY:Online Guitar Classes with Larry Chung
DESCRIPTION:These group lessons are available at no charge to all US Veterans everywhere. \nContact us for information about how to participate in these online guitar classes.
URL:https://heroesvoices.org/calendar/online-guitar-classes-with-larry-chung/2027-10-15/
LOCATION:Online\, Register to get connection details
END:VEVENT
BEGIN:VEVENT
DTSTART;TZID=America/Los_Angeles:20271015T113000
DTEND;TZID=America/Los_Angeles:20271015T113000
DTSTAMP:20260424T201556
CREATED:20220322T174118Z
LAST-MODIFIED:20250901T174533Z
UID:10003641-1823599800-1823599800@heroesvoices.org
SUMMARY:Online Guitar Classes with Larry Chung
DESCRIPTION:These group lessons are available at no charge to all US Veterans everywhere. \nContact us for information about how to participate in these online guitar classes.
URL:https://heroesvoices.org/calendar/online-guitar-classes-with-larry-chung/2027-10-15/
LOCATION:Online\, Register to get connection details
END:VEVENT
BEGIN:VEVENT
DTSTART;TZID=America/Los_Angeles:20271015T113000
DTEND;TZID=America/Los_Angeles:20271015T113000
DTSTAMP:20260424T201556
CREATED:20220322T174118Z
LAST-MODIFIED:20250901T174533Z
UID:10003966-1823599800-1823599800@heroesvoices.org
SUMMARY:Online Guitar Classes with Larry Chung
DESCRIPTION:These group lessons are available at no charge to all US Veterans everywhere. \nContact us for information about how to participate in these online guitar classes.
URL:https://heroesvoices.org/calendar/online-guitar-classes-with-larry-chung/2027-10-15/
LOCATION:Online\, Register to get connection details
END:VEVENT
BEGIN:VEVENT
DTSTART;TZID=America/Los_Angeles:20271015T113000
DTEND;TZID=America/Los_Angeles:20271015T113000
DTSTAMP:20260424T201556
CREATED:20220322T174118Z
LAST-MODIFIED:20250901T174533Z
UID:10004290-1823599800-1823599800@heroesvoices.org
SUMMARY:Online Guitar Classes with Larry Chung
DESCRIPTION:These group lessons are available at no charge to all US Veterans everywhere. \nContact us for information about how to participate in these online guitar classes.
URL:https://heroesvoices.org/calendar/online-guitar-classes-with-larry-chung/2027-10-15/
LOCATION:Online\, Register to get connection details
END:VEVENT
BEGIN:VEVENT
DTSTART;TZID=America/Los_Angeles:20271022T113000
DTEND;TZID=America/Los_Angeles:20271022T113000
DTSTAMP:20260424T201556
CREATED:20220322T174118Z
LAST-MODIFIED:20250901T174533Z
UID:10003316-1824204600-1824204600@heroesvoices.org
SUMMARY:Online Guitar Classes with Larry Chung
DESCRIPTION:These group lessons are available at no charge to all US Veterans everywhere. \nContact us for information about how to participate in these online guitar classes.
URL:https://heroesvoices.org/calendar/online-guitar-classes-with-larry-chung/2027-10-22/
LOCATION:Online\, Register to get connection details
END:VEVENT
BEGIN:VEVENT
DTSTART;TZID=America/Los_Angeles:20271022T113000
DTEND;TZID=America/Los_Angeles:20271022T113000
DTSTAMP:20260424T201556
CREATED:20220322T174118Z
LAST-MODIFIED:20250901T174533Z
UID:10003642-1824204600-1824204600@heroesvoices.org
SUMMARY:Online Guitar Classes with Larry Chung
DESCRIPTION:These group lessons are available at no charge to all US Veterans everywhere. \nContact us for information about how to participate in these online guitar classes.
URL:https://heroesvoices.org/calendar/online-guitar-classes-with-larry-chung/2027-10-22/
LOCATION:Online\, Register to get connection details
END:VEVENT
BEGIN:VEVENT
DTSTART;TZID=America/Los_Angeles:20271022T113000
DTEND;TZID=America/Los_Angeles:20271022T113000
DTSTAMP:20260424T201556
CREATED:20220322T174118Z
LAST-MODIFIED:20250901T174533Z
UID:10003967-1824204600-1824204600@heroesvoices.org
SUMMARY:Online Guitar Classes with Larry Chung
DESCRIPTION:These group lessons are available at no charge to all US Veterans everywhere. \nContact us for information about how to participate in these online guitar classes.
URL:https://heroesvoices.org/calendar/online-guitar-classes-with-larry-chung/2027-10-22/
LOCATION:Online\, Register to get connection details
END:VEVENT
BEGIN:VEVENT
DTSTART;TZID=America/Los_Angeles:20271022T113000
DTEND;TZID=America/Los_Angeles:20271022T113000
DTSTAMP:20260424T201556
CREATED:20220322T174118Z
LAST-MODIFIED:20250901T174533Z
UID:10004291-1824204600-1824204600@heroesvoices.org
SUMMARY:Online Guitar Classes with Larry Chung
DESCRIPTION:These group lessons are available at no charge to all US Veterans everywhere. \nContact us for information about how to participate in these online guitar classes.
URL:https://heroesvoices.org/calendar/online-guitar-classes-with-larry-chung/2027-10-22/
LOCATION:Online\, Register to get connection details
END:VEVENT
BEGIN:VEVENT
DTSTART;TZID=America/Los_Angeles:20271029T113000
DTEND;TZID=America/Los_Angeles:20271029T113000
DTSTAMP:20260424T201556
CREATED:20220322T174118Z
LAST-MODIFIED:20250901T174533Z
UID:10003317-1824809400-1824809400@heroesvoices.org
SUMMARY:Online Guitar Classes with Larry Chung
DESCRIPTION:These group lessons are available at no charge to all US Veterans everywhere. \nContact us for information about how to participate in these online guitar classes.
URL:https://heroesvoices.org/calendar/online-guitar-classes-with-larry-chung/2027-10-29/
LOCATION:Online\, Register to get connection details
END:VEVENT
BEGIN:VEVENT
DTSTART;TZID=America/Los_Angeles:20271029T113000
DTEND;TZID=America/Los_Angeles:20271029T113000
DTSTAMP:20260424T201556
CREATED:20220322T174118Z
LAST-MODIFIED:20250901T174533Z
UID:10003643-1824809400-1824809400@heroesvoices.org
SUMMARY:Online Guitar Classes with Larry Chung
DESCRIPTION:These group lessons are available at no charge to all US Veterans everywhere. \nContact us for information about how to participate in these online guitar classes.
URL:https://heroesvoices.org/calendar/online-guitar-classes-with-larry-chung/2027-10-29/
LOCATION:Online\, Register to get connection details
END:VEVENT
BEGIN:VEVENT
DTSTART;TZID=America/Los_Angeles:20271029T113000
DTEND;TZID=America/Los_Angeles:20271029T113000
DTSTAMP:20260424T201556
CREATED:20220322T174118Z
LAST-MODIFIED:20250901T174533Z
UID:10003968-1824809400-1824809400@heroesvoices.org
SUMMARY:Online Guitar Classes with Larry Chung
DESCRIPTION:These group lessons are available at no charge to all US Veterans everywhere. \nContact us for information about how to participate in these online guitar classes.
URL:https://heroesvoices.org/calendar/online-guitar-classes-with-larry-chung/2027-10-29/
LOCATION:Online\, Register to get connection details
END:VEVENT
BEGIN:VEVENT
DTSTART;TZID=America/Los_Angeles:20271029T113000
DTEND;TZID=America/Los_Angeles:20271029T113000
DTSTAMP:20260424T201556
CREATED:20220322T174118Z
LAST-MODIFIED:20250901T174533Z
UID:10004292-1824809400-1824809400@heroesvoices.org
SUMMARY:Online Guitar Classes with Larry Chung
DESCRIPTION:These group lessons are available at no charge to all US Veterans everywhere. \nContact us for information about how to participate in these online guitar classes.
URL:https://heroesvoices.org/calendar/online-guitar-classes-with-larry-chung/2027-10-29/
LOCATION:Online\, Register to get connection details
END:VEVENT
BEGIN:VEVENT
DTSTART;TZID=America/Los_Angeles:20271105T113000
DTEND;TZID=America/Los_Angeles:20271105T113000
DTSTAMP:20260424T201556
CREATED:20220322T174118Z
LAST-MODIFIED:20250901T174533Z
UID:10003318-1825414200-1825414200@heroesvoices.org
SUMMARY:Online Guitar Classes with Larry Chung
DESCRIPTION:These group lessons are available at no charge to all US Veterans everywhere. \nContact us for information about how to participate in these online guitar classes.
URL:https://heroesvoices.org/calendar/online-guitar-classes-with-larry-chung/2027-11-05/
LOCATION:Online\, Register to get connection details
END:VEVENT
BEGIN:VEVENT
DTSTART;TZID=America/Los_Angeles:20271105T113000
DTEND;TZID=America/Los_Angeles:20271105T113000
DTSTAMP:20260424T201556
CREATED:20220322T174118Z
LAST-MODIFIED:20250901T174533Z
UID:10003644-1825414200-1825414200@heroesvoices.org
SUMMARY:Online Guitar Classes with Larry Chung
DESCRIPTION:These group lessons are available at no charge to all US Veterans everywhere. \nContact us for information about how to participate in these online guitar classes.
URL:https://heroesvoices.org/calendar/online-guitar-classes-with-larry-chung/2027-11-05/
LOCATION:Online\, Register to get connection details
END:VEVENT
BEGIN:VEVENT
DTSTART;TZID=America/Los_Angeles:20271105T113000
DTEND;TZID=America/Los_Angeles:20271105T113000
DTSTAMP:20260424T201556
CREATED:20220322T174118Z
LAST-MODIFIED:20250901T174533Z
UID:10003969-1825414200-1825414200@heroesvoices.org
SUMMARY:Online Guitar Classes with Larry Chung
DESCRIPTION:These group lessons are available at no charge to all US Veterans everywhere. \nContact us for information about how to participate in these online guitar classes.
URL:https://heroesvoices.org/calendar/online-guitar-classes-with-larry-chung/2027-11-05/
LOCATION:Online\, Register to get connection details
END:VEVENT
BEGIN:VEVENT
DTSTART;TZID=America/Los_Angeles:20271105T113000
DTEND;TZID=America/Los_Angeles:20271105T113000
DTSTAMP:20260424T201556
CREATED:20220322T174118Z
LAST-MODIFIED:20250901T174533Z
UID:10004293-1825414200-1825414200@heroesvoices.org
SUMMARY:Online Guitar Classes with Larry Chung
DESCRIPTION:These group lessons are available at no charge to all US Veterans everywhere. \nContact us for information about how to participate in these online guitar classes.
URL:https://heroesvoices.org/calendar/online-guitar-classes-with-larry-chung/2027-11-05/
LOCATION:Online\, Register to get connection details
END:VEVENT
BEGIN:VEVENT
DTSTART;TZID=America/Los_Angeles:20271112T113000
DTEND;TZID=America/Los_Angeles:20271112T113000
DTSTAMP:20260424T201556
CREATED:20220322T174118Z
LAST-MODIFIED:20250901T174533Z
UID:10003319-1826019000-1826019000@heroesvoices.org
SUMMARY:Online Guitar Classes with Larry Chung
DESCRIPTION:These group lessons are available at no charge to all US Veterans everywhere. \nContact us for information about how to participate in these online guitar classes.
URL:https://heroesvoices.org/calendar/online-guitar-classes-with-larry-chung/2027-11-12/
LOCATION:Online\, Register to get connection details
END:VEVENT
BEGIN:VEVENT
DTSTART;TZID=America/Los_Angeles:20271112T113000
DTEND;TZID=America/Los_Angeles:20271112T113000
DTSTAMP:20260424T201556
CREATED:20220322T174118Z
LAST-MODIFIED:20250901T174533Z
UID:10003645-1826019000-1826019000@heroesvoices.org
SUMMARY:Online Guitar Classes with Larry Chung
DESCRIPTION:These group lessons are available at no charge to all US Veterans everywhere. \nContact us for information about how to participate in these online guitar classes.
URL:https://heroesvoices.org/calendar/online-guitar-classes-with-larry-chung/2027-11-12/
LOCATION:Online\, Register to get connection details
END:VEVENT
BEGIN:VEVENT
DTSTART;TZID=America/Los_Angeles:20271112T113000
DTEND;TZID=America/Los_Angeles:20271112T113000
DTSTAMP:20260424T201556
CREATED:20220322T174118Z
LAST-MODIFIED:20250901T174533Z
UID:10003970-1826019000-1826019000@heroesvoices.org
SUMMARY:Online Guitar Classes with Larry Chung
DESCRIPTION:These group lessons are available at no charge to all US Veterans everywhere. \nContact us for information about how to participate in these online guitar classes.
URL:https://heroesvoices.org/calendar/online-guitar-classes-with-larry-chung/2027-11-12/
LOCATION:Online\, Register to get connection details
END:VEVENT
BEGIN:VEVENT
DTSTART;TZID=America/Los_Angeles:20271112T113000
DTEND;TZID=America/Los_Angeles:20271112T113000
DTSTAMP:20260424T201556
CREATED:20220322T174118Z
LAST-MODIFIED:20250901T174533Z
UID:10004294-1826019000-1826019000@heroesvoices.org
SUMMARY:Online Guitar Classes with Larry Chung
DESCRIPTION:These group lessons are available at no charge to all US Veterans everywhere. \nContact us for information about how to participate in these online guitar classes.
URL:https://heroesvoices.org/calendar/online-guitar-classes-with-larry-chung/2027-11-12/
LOCATION:Online\, Register to get connection details
END:VEVENT
END:VCALENDAR