BEGIN:VCALENDAR
VERSION:2.0
PRODID:-//Heroes&#039; Voices - ECPv6.15.18//NONSGML v1.0//EN
CALSCALE:GREGORIAN
METHOD:PUBLISH
X-ORIGINAL-URL:https://heroesvoices.org
X-WR-CALDESC:Events for Heroes&#039; Voices
REFRESH-INTERVAL;VALUE=DURATION:PT1H
X-Robots-Tag:noindex
X-PUBLISHED-TTL:PT1H
BEGIN:VTIMEZONE
TZID:America/Los_Angeles
BEGIN:DAYLIGHT
TZOFFSETFROM:-0800
TZOFFSETTO:-0700
TZNAME:PDT
DTSTART:20230312T100000
END:DAYLIGHT
BEGIN:STANDARD
TZOFFSETFROM:-0700
TZOFFSETTO:-0800
TZNAME:PST
DTSTART:20231105T090000
END:STANDARD
BEGIN:DAYLIGHT
TZOFFSETFROM:-0800
TZOFFSETTO:-0700
TZNAME:PDT
DTSTART:20240310T100000
END:DAYLIGHT
BEGIN:STANDARD
TZOFFSETFROM:-0700
TZOFFSETTO:-0800
TZNAME:PST
DTSTART:20241103T090000
END:STANDARD
BEGIN:DAYLIGHT
TZOFFSETFROM:-0800
TZOFFSETTO:-0700
TZNAME:PDT
DTSTART:20250309T100000
END:DAYLIGHT
BEGIN:STANDARD
TZOFFSETFROM:-0700
TZOFFSETTO:-0800
TZNAME:PST
DTSTART:20251102T090000
END:STANDARD
END:VTIMEZONE
BEGIN:VEVENT
DTSTART;TZID=America/Los_Angeles:20241108T113000
DTEND;TZID=America/Los_Angeles:20241108T113000
DTSTAMP:20260420T180630
CREATED:20220322T174118Z
LAST-MODIFIED:20250901T174533Z
UID:10003813-1731065400-1731065400@heroesvoices.org
SUMMARY:Online Guitar Classes with Larry Chung
DESCRIPTION:These group lessons are available at no charge to all US Veterans everywhere. \nContact us for information about how to participate in these online guitar classes.
URL:https://heroesvoices.org/calendar/online-guitar-classes-with-larry-chung/2024-11-08/
LOCATION:Online\, Register to get connection details
END:VEVENT
BEGIN:VEVENT
DTSTART;TZID=America/Los_Angeles:20241108T113000
DTEND;TZID=America/Los_Angeles:20241108T113000
DTSTAMP:20260420T180630
CREATED:20220322T174118Z
LAST-MODIFIED:20250901T174533Z
UID:10004137-1731065400-1731065400@heroesvoices.org
SUMMARY:Online Guitar Classes with Larry Chung
DESCRIPTION:These group lessons are available at no charge to all US Veterans everywhere. \nContact us for information about how to participate in these online guitar classes.
URL:https://heroesvoices.org/calendar/online-guitar-classes-with-larry-chung/2024-11-08/
LOCATION:Online\, Register to get connection details
END:VEVENT
BEGIN:VEVENT
DTSTART;TZID=America/Los_Angeles:20241109T190000
DTEND;TZID=America/Los_Angeles:20241109T210000
DTSTAMP:20260420T180630
CREATED:20241107T165936Z
LAST-MODIFIED:20241107T165936Z
UID:10003124-1731178800-1731186000@heroesvoices.org
SUMMARY:SOLDIER'S JOURNEY: A Celebration Of Veterans
DESCRIPTION:Saturday\, November 9th\n7:00pm\nJarvis Conservatory\nTickets are $20\nFree Admission for Veterans \nOn November 9th\, the Saturday of Veterans Day weekend\, the Jarvis Conservatory in Napa will host “Soldier’s Journey\,” a\nbenefit presentation celebrating the history of\, and giving voice to\, veterans of military service. \nRenowned director and singer\, Richard Harrell\, and Jarvis music director\, Frank Johnson\, have teamed up to prepare\na program of music and poetry which will explore perspectives of service\, dedication and sacrifice\, soldiers’ and family experience during war and peacetime. Singers and actors\nfrom around the Bay Area and Napa will offer familiar songs\, classic and new poems and readings to inspire and to encourage appreciation and support. \nSOLDIER’S JOURNEY happens Saturday\, November 9th at 7pm at the Jarvis Conservatory located at 1711 Main Street in historic downtown Napa. Tickets are $20 for\ngeneral public and free for veterans and can be purchased at the box office beginning at 6pm\, with doors opening for\nGeneral Seating at 6:30pm.
URL:https://heroesvoices.org/calendar/soldiers-journey-a-celebration-of-veterans/
LOCATION:Jarvis Conservatory\, 1711 Main Street\, Napa\, CA\, United States
END:VEVENT
BEGIN:VEVENT
DTSTART;TZID=America/Los_Angeles:20241115T113000
DTEND;TZID=America/Los_Angeles:20241115T113000
DTSTAMP:20260420T180630
CREATED:20220322T174118Z
LAST-MODIFIED:20250901T174533Z
UID:10003163-1731670200-1731670200@heroesvoices.org
SUMMARY:Online Guitar Classes with Larry Chung
DESCRIPTION:These group lessons are available at no charge to all US Veterans everywhere. \nContact us for information about how to participate in these online guitar classes.
URL:https://heroesvoices.org/calendar/online-guitar-classes-with-larry-chung/2024-11-15/
LOCATION:Online\, Register to get connection details
END:VEVENT
BEGIN:VEVENT
DTSTART;TZID=America/Los_Angeles:20241115T113000
DTEND;TZID=America/Los_Angeles:20241115T113000
DTSTAMP:20260420T180630
CREATED:20220322T174118Z
LAST-MODIFIED:20250901T174533Z
UID:10003489-1731670200-1731670200@heroesvoices.org
SUMMARY:Online Guitar Classes with Larry Chung
DESCRIPTION:These group lessons are available at no charge to all US Veterans everywhere. \nContact us for information about how to participate in these online guitar classes.
URL:https://heroesvoices.org/calendar/online-guitar-classes-with-larry-chung/2024-11-15/
LOCATION:Online\, Register to get connection details
END:VEVENT
BEGIN:VEVENT
DTSTART;TZID=America/Los_Angeles:20241115T113000
DTEND;TZID=America/Los_Angeles:20241115T113000
DTSTAMP:20260420T180630
CREATED:20220322T174118Z
LAST-MODIFIED:20250901T174533Z
UID:10003814-1731670200-1731670200@heroesvoices.org
SUMMARY:Online Guitar Classes with Larry Chung
DESCRIPTION:These group lessons are available at no charge to all US Veterans everywhere. \nContact us for information about how to participate in these online guitar classes.
URL:https://heroesvoices.org/calendar/online-guitar-classes-with-larry-chung/2024-11-15/
LOCATION:Online\, Register to get connection details
END:VEVENT
BEGIN:VEVENT
DTSTART;TZID=America/Los_Angeles:20241115T113000
DTEND;TZID=America/Los_Angeles:20241115T113000
DTSTAMP:20260420T180630
CREATED:20220322T174118Z
LAST-MODIFIED:20250901T174533Z
UID:10004138-1731670200-1731670200@heroesvoices.org
SUMMARY:Online Guitar Classes with Larry Chung
DESCRIPTION:These group lessons are available at no charge to all US Veterans everywhere. \nContact us for information about how to participate in these online guitar classes.
URL:https://heroesvoices.org/calendar/online-guitar-classes-with-larry-chung/2024-11-15/
LOCATION:Online\, Register to get connection details
END:VEVENT
BEGIN:VEVENT
DTSTART;TZID=America/Los_Angeles:20241122T113000
DTEND;TZID=America/Los_Angeles:20241122T113000
DTSTAMP:20260420T180630
CREATED:20220322T174118Z
LAST-MODIFIED:20250901T174533Z
UID:10003164-1732275000-1732275000@heroesvoices.org
SUMMARY:Online Guitar Classes with Larry Chung
DESCRIPTION:These group lessons are available at no charge to all US Veterans everywhere. \nContact us for information about how to participate in these online guitar classes.
URL:https://heroesvoices.org/calendar/online-guitar-classes-with-larry-chung/2024-11-22/
LOCATION:Online\, Register to get connection details
END:VEVENT
BEGIN:VEVENT
DTSTART;TZID=America/Los_Angeles:20241122T113000
DTEND;TZID=America/Los_Angeles:20241122T113000
DTSTAMP:20260420T180630
CREATED:20220322T174118Z
LAST-MODIFIED:20250901T174533Z
UID:10003490-1732275000-1732275000@heroesvoices.org
SUMMARY:Online Guitar Classes with Larry Chung
DESCRIPTION:These group lessons are available at no charge to all US Veterans everywhere. \nContact us for information about how to participate in these online guitar classes.
URL:https://heroesvoices.org/calendar/online-guitar-classes-with-larry-chung/2024-11-22/
LOCATION:Online\, Register to get connection details
END:VEVENT
BEGIN:VEVENT
DTSTART;TZID=America/Los_Angeles:20241122T113000
DTEND;TZID=America/Los_Angeles:20241122T113000
DTSTAMP:20260420T180630
CREATED:20220322T174118Z
LAST-MODIFIED:20250901T174533Z
UID:10003815-1732275000-1732275000@heroesvoices.org
SUMMARY:Online Guitar Classes with Larry Chung
DESCRIPTION:These group lessons are available at no charge to all US Veterans everywhere. \nContact us for information about how to participate in these online guitar classes.
URL:https://heroesvoices.org/calendar/online-guitar-classes-with-larry-chung/2024-11-22/
LOCATION:Online\, Register to get connection details
END:VEVENT
BEGIN:VEVENT
DTSTART;TZID=America/Los_Angeles:20241122T113000
DTEND;TZID=America/Los_Angeles:20241122T113000
DTSTAMP:20260420T180630
CREATED:20220322T174118Z
LAST-MODIFIED:20250901T174533Z
UID:10004139-1732275000-1732275000@heroesvoices.org
SUMMARY:Online Guitar Classes with Larry Chung
DESCRIPTION:These group lessons are available at no charge to all US Veterans everywhere. \nContact us for information about how to participate in these online guitar classes.
URL:https://heroesvoices.org/calendar/online-guitar-classes-with-larry-chung/2024-11-22/
LOCATION:Online\, Register to get connection details
END:VEVENT
BEGIN:VEVENT
DTSTART;TZID=America/Los_Angeles:20241129T113000
DTEND;TZID=America/Los_Angeles:20241129T113000
DTSTAMP:20260420T180630
CREATED:20220322T174118Z
LAST-MODIFIED:20250901T174533Z
UID:10003165-1732879800-1732879800@heroesvoices.org
SUMMARY:Online Guitar Classes with Larry Chung
DESCRIPTION:These group lessons are available at no charge to all US Veterans everywhere. \nContact us for information about how to participate in these online guitar classes.
URL:https://heroesvoices.org/calendar/online-guitar-classes-with-larry-chung/2024-11-29/
LOCATION:Online\, Register to get connection details
END:VEVENT
BEGIN:VEVENT
DTSTART;TZID=America/Los_Angeles:20241129T113000
DTEND;TZID=America/Los_Angeles:20241129T113000
DTSTAMP:20260420T180630
CREATED:20220322T174118Z
LAST-MODIFIED:20250901T174533Z
UID:10003491-1732879800-1732879800@heroesvoices.org
SUMMARY:Online Guitar Classes with Larry Chung
DESCRIPTION:These group lessons are available at no charge to all US Veterans everywhere. \nContact us for information about how to participate in these online guitar classes.
URL:https://heroesvoices.org/calendar/online-guitar-classes-with-larry-chung/2024-11-29/
LOCATION:Online\, Register to get connection details
END:VEVENT
BEGIN:VEVENT
DTSTART;TZID=America/Los_Angeles:20241129T113000
DTEND;TZID=America/Los_Angeles:20241129T113000
DTSTAMP:20260420T180630
CREATED:20220322T174118Z
LAST-MODIFIED:20250901T174533Z
UID:10003816-1732879800-1732879800@heroesvoices.org
SUMMARY:Online Guitar Classes with Larry Chung
DESCRIPTION:These group lessons are available at no charge to all US Veterans everywhere. \nContact us for information about how to participate in these online guitar classes.
URL:https://heroesvoices.org/calendar/online-guitar-classes-with-larry-chung/2024-11-29/
LOCATION:Online\, Register to get connection details
END:VEVENT
BEGIN:VEVENT
DTSTART;TZID=America/Los_Angeles:20241129T113000
DTEND;TZID=America/Los_Angeles:20241129T113000
DTSTAMP:20260420T180630
CREATED:20220322T174118Z
LAST-MODIFIED:20250901T174533Z
UID:10004140-1732879800-1732879800@heroesvoices.org
SUMMARY:Online Guitar Classes with Larry Chung
DESCRIPTION:These group lessons are available at no charge to all US Veterans everywhere. \nContact us for information about how to participate in these online guitar classes.
URL:https://heroesvoices.org/calendar/online-guitar-classes-with-larry-chung/2024-11-29/
LOCATION:Online\, Register to get connection details
END:VEVENT
BEGIN:VEVENT
DTSTART;TZID=America/Los_Angeles:20241206T113000
DTEND;TZID=America/Los_Angeles:20241206T113000
DTSTAMP:20260420T180630
CREATED:20220322T174118Z
LAST-MODIFIED:20250901T174533Z
UID:10003166-1733484600-1733484600@heroesvoices.org
SUMMARY:Online Guitar Classes with Larry Chung
DESCRIPTION:These group lessons are available at no charge to all US Veterans everywhere. \nContact us for information about how to participate in these online guitar classes.
URL:https://heroesvoices.org/calendar/online-guitar-classes-with-larry-chung/2024-12-06/
LOCATION:Online\, Register to get connection details
END:VEVENT
BEGIN:VEVENT
DTSTART;TZID=America/Los_Angeles:20241206T113000
DTEND;TZID=America/Los_Angeles:20241206T113000
DTSTAMP:20260420T180630
CREATED:20220322T174118Z
LAST-MODIFIED:20250901T174533Z
UID:10003492-1733484600-1733484600@heroesvoices.org
SUMMARY:Online Guitar Classes with Larry Chung
DESCRIPTION:These group lessons are available at no charge to all US Veterans everywhere. \nContact us for information about how to participate in these online guitar classes.
URL:https://heroesvoices.org/calendar/online-guitar-classes-with-larry-chung/2024-12-06/
LOCATION:Online\, Register to get connection details
END:VEVENT
BEGIN:VEVENT
DTSTART;TZID=America/Los_Angeles:20241206T113000
DTEND;TZID=America/Los_Angeles:20241206T113000
DTSTAMP:20260420T180630
CREATED:20220322T174118Z
LAST-MODIFIED:20250901T174533Z
UID:10003817-1733484600-1733484600@heroesvoices.org
SUMMARY:Online Guitar Classes with Larry Chung
DESCRIPTION:These group lessons are available at no charge to all US Veterans everywhere. \nContact us for information about how to participate in these online guitar classes.
URL:https://heroesvoices.org/calendar/online-guitar-classes-with-larry-chung/2024-12-06/
LOCATION:Online\, Register to get connection details
END:VEVENT
BEGIN:VEVENT
DTSTART;TZID=America/Los_Angeles:20241206T113000
DTEND;TZID=America/Los_Angeles:20241206T113000
DTSTAMP:20260420T180630
CREATED:20220322T174118Z
LAST-MODIFIED:20250901T174533Z
UID:10004141-1733484600-1733484600@heroesvoices.org
SUMMARY:Online Guitar Classes with Larry Chung
DESCRIPTION:These group lessons are available at no charge to all US Veterans everywhere. \nContact us for information about how to participate in these online guitar classes.
URL:https://heroesvoices.org/calendar/online-guitar-classes-with-larry-chung/2024-12-06/
LOCATION:Online\, Register to get connection details
END:VEVENT
BEGIN:VEVENT
DTSTART;TZID=America/Los_Angeles:20241213T113000
DTEND;TZID=America/Los_Angeles:20241213T113000
DTSTAMP:20260420T180630
CREATED:20220322T174118Z
LAST-MODIFIED:20250901T174533Z
UID:10003167-1734089400-1734089400@heroesvoices.org
SUMMARY:Online Guitar Classes with Larry Chung
DESCRIPTION:These group lessons are available at no charge to all US Veterans everywhere. \nContact us for information about how to participate in these online guitar classes.
URL:https://heroesvoices.org/calendar/online-guitar-classes-with-larry-chung/2024-12-13/
LOCATION:Online\, Register to get connection details
END:VEVENT
BEGIN:VEVENT
DTSTART;TZID=America/Los_Angeles:20241213T113000
DTEND;TZID=America/Los_Angeles:20241213T113000
DTSTAMP:20260420T180630
CREATED:20220322T174118Z
LAST-MODIFIED:20250901T174533Z
UID:10003493-1734089400-1734089400@heroesvoices.org
SUMMARY:Online Guitar Classes with Larry Chung
DESCRIPTION:These group lessons are available at no charge to all US Veterans everywhere. \nContact us for information about how to participate in these online guitar classes.
URL:https://heroesvoices.org/calendar/online-guitar-classes-with-larry-chung/2024-12-13/
LOCATION:Online\, Register to get connection details
END:VEVENT
BEGIN:VEVENT
DTSTART;TZID=America/Los_Angeles:20241213T113000
DTEND;TZID=America/Los_Angeles:20241213T113000
DTSTAMP:20260420T180630
CREATED:20220322T174118Z
LAST-MODIFIED:20250901T174533Z
UID:10003818-1734089400-1734089400@heroesvoices.org
SUMMARY:Online Guitar Classes with Larry Chung
DESCRIPTION:These group lessons are available at no charge to all US Veterans everywhere. \nContact us for information about how to participate in these online guitar classes.
URL:https://heroesvoices.org/calendar/online-guitar-classes-with-larry-chung/2024-12-13/
LOCATION:Online\, Register to get connection details
END:VEVENT
BEGIN:VEVENT
DTSTART;TZID=America/Los_Angeles:20241213T113000
DTEND;TZID=America/Los_Angeles:20241213T113000
DTSTAMP:20260420T180630
CREATED:20220322T174118Z
LAST-MODIFIED:20250901T174533Z
UID:10004142-1734089400-1734089400@heroesvoices.org
SUMMARY:Online Guitar Classes with Larry Chung
DESCRIPTION:These group lessons are available at no charge to all US Veterans everywhere. \nContact us for information about how to participate in these online guitar classes.
URL:https://heroesvoices.org/calendar/online-guitar-classes-with-larry-chung/2024-12-13/
LOCATION:Online\, Register to get connection details
END:VEVENT
BEGIN:VEVENT
DTSTART;TZID=America/Los_Angeles:20241220T113000
DTEND;TZID=America/Los_Angeles:20241220T113000
DTSTAMP:20260420T180630
CREATED:20220322T174118Z
LAST-MODIFIED:20250901T174533Z
UID:10003168-1734694200-1734694200@heroesvoices.org
SUMMARY:Online Guitar Classes with Larry Chung
DESCRIPTION:These group lessons are available at no charge to all US Veterans everywhere. \nContact us for information about how to participate in these online guitar classes.
URL:https://heroesvoices.org/calendar/online-guitar-classes-with-larry-chung/2024-12-20/
LOCATION:Online\, Register to get connection details
END:VEVENT
BEGIN:VEVENT
DTSTART;TZID=America/Los_Angeles:20241220T113000
DTEND;TZID=America/Los_Angeles:20241220T113000
DTSTAMP:20260420T180630
CREATED:20220322T174118Z
LAST-MODIFIED:20250901T174533Z
UID:10003494-1734694200-1734694200@heroesvoices.org
SUMMARY:Online Guitar Classes with Larry Chung
DESCRIPTION:These group lessons are available at no charge to all US Veterans everywhere. \nContact us for information about how to participate in these online guitar classes.
URL:https://heroesvoices.org/calendar/online-guitar-classes-with-larry-chung/2024-12-20/
LOCATION:Online\, Register to get connection details
END:VEVENT
BEGIN:VEVENT
DTSTART;TZID=America/Los_Angeles:20241220T113000
DTEND;TZID=America/Los_Angeles:20241220T113000
DTSTAMP:20260420T180630
CREATED:20220322T174118Z
LAST-MODIFIED:20250901T174533Z
UID:10003819-1734694200-1734694200@heroesvoices.org
SUMMARY:Online Guitar Classes with Larry Chung
DESCRIPTION:These group lessons are available at no charge to all US Veterans everywhere. \nContact us for information about how to participate in these online guitar classes.
URL:https://heroesvoices.org/calendar/online-guitar-classes-with-larry-chung/2024-12-20/
LOCATION:Online\, Register to get connection details
END:VEVENT
BEGIN:VEVENT
DTSTART;TZID=America/Los_Angeles:20241220T113000
DTEND;TZID=America/Los_Angeles:20241220T113000
DTSTAMP:20260420T180630
CREATED:20220322T174118Z
LAST-MODIFIED:20250901T174533Z
UID:10004143-1734694200-1734694200@heroesvoices.org
SUMMARY:Online Guitar Classes with Larry Chung
DESCRIPTION:These group lessons are available at no charge to all US Veterans everywhere. \nContact us for information about how to participate in these online guitar classes.
URL:https://heroesvoices.org/calendar/online-guitar-classes-with-larry-chung/2024-12-20/
LOCATION:Online\, Register to get connection details
END:VEVENT
BEGIN:VEVENT
DTSTART;TZID=America/Los_Angeles:20241227T113000
DTEND;TZID=America/Los_Angeles:20241227T113000
DTSTAMP:20260420T180630
CREATED:20220322T174118Z
LAST-MODIFIED:20250901T174533Z
UID:10003169-1735299000-1735299000@heroesvoices.org
SUMMARY:Online Guitar Classes with Larry Chung
DESCRIPTION:These group lessons are available at no charge to all US Veterans everywhere. \nContact us for information about how to participate in these online guitar classes.
URL:https://heroesvoices.org/calendar/online-guitar-classes-with-larry-chung/2024-12-27/
LOCATION:Online\, Register to get connection details
END:VEVENT
BEGIN:VEVENT
DTSTART;TZID=America/Los_Angeles:20241227T113000
DTEND;TZID=America/Los_Angeles:20241227T113000
DTSTAMP:20260420T180630
CREATED:20220322T174118Z
LAST-MODIFIED:20250901T174533Z
UID:10003495-1735299000-1735299000@heroesvoices.org
SUMMARY:Online Guitar Classes with Larry Chung
DESCRIPTION:These group lessons are available at no charge to all US Veterans everywhere. \nContact us for information about how to participate in these online guitar classes.
URL:https://heroesvoices.org/calendar/online-guitar-classes-with-larry-chung/2024-12-27/
LOCATION:Online\, Register to get connection details
END:VEVENT
BEGIN:VEVENT
DTSTART;TZID=America/Los_Angeles:20241227T113000
DTEND;TZID=America/Los_Angeles:20241227T113000
DTSTAMP:20260420T180630
CREATED:20220322T174118Z
LAST-MODIFIED:20250901T174533Z
UID:10003820-1735299000-1735299000@heroesvoices.org
SUMMARY:Online Guitar Classes with Larry Chung
DESCRIPTION:These group lessons are available at no charge to all US Veterans everywhere. \nContact us for information about how to participate in these online guitar classes.
URL:https://heroesvoices.org/calendar/online-guitar-classes-with-larry-chung/2024-12-27/
LOCATION:Online\, Register to get connection details
END:VEVENT
END:VCALENDAR