BEGIN:VCALENDAR
VERSION:2.0
PRODID:-//Heroes&#039; Voices - ECPv6.15.18//NONSGML v1.0//EN
CALSCALE:GREGORIAN
METHOD:PUBLISH
X-WR-CALNAME:Heroes&#039; Voices
X-ORIGINAL-URL:https://heroesvoices.org
X-WR-CALDESC:Events for Heroes&#039; Voices
REFRESH-INTERVAL;VALUE=DURATION:PT1H
X-Robots-Tag:noindex
X-PUBLISHED-TTL:PT1H
BEGIN:VTIMEZONE
TZID:America/Los_Angeles
BEGIN:DAYLIGHT
TZOFFSETFROM:-0800
TZOFFSETTO:-0700
TZNAME:PDT
DTSTART:20220313T100000
END:DAYLIGHT
BEGIN:STANDARD
TZOFFSETFROM:-0700
TZOFFSETTO:-0800
TZNAME:PST
DTSTART:20221106T090000
END:STANDARD
BEGIN:DAYLIGHT
TZOFFSETFROM:-0800
TZOFFSETTO:-0700
TZNAME:PDT
DTSTART:20230312T100000
END:DAYLIGHT
BEGIN:STANDARD
TZOFFSETFROM:-0700
TZOFFSETTO:-0800
TZNAME:PST
DTSTART:20231105T090000
END:STANDARD
BEGIN:DAYLIGHT
TZOFFSETFROM:-0800
TZOFFSETTO:-0700
TZNAME:PDT
DTSTART:20240310T100000
END:DAYLIGHT
BEGIN:STANDARD
TZOFFSETFROM:-0700
TZOFFSETTO:-0800
TZNAME:PST
DTSTART:20241103T090000
END:STANDARD
END:VTIMEZONE
BEGIN:VEVENT
DTSTART;TZID=America/Los_Angeles:20230201T143000
DTEND;TZID=America/Los_Angeles:20230201T153000
DTSTAMP:20260421T081218
CREATED:20220322T173858Z
LAST-MODIFIED:20220322T174234Z
UID:10002657-1675261800-1675265400@heroesvoices.org
SUMMARY:Online Guitar Classes with Paul Young
DESCRIPTION:These group lessons are available at no charge to all US Veterans everywhere. \nContact us for information about how to participate in these online guitar classes.
URL:https://heroesvoices.org/calendar/online-guitar-lessons-with-paul-young/2023-02-01/
LOCATION:Online\, Register to get connection details
END:VEVENT
BEGIN:VEVENT
DTSTART;TZID=America/Los_Angeles:20230203T113000
DTEND;TZID=America/Los_Angeles:20230203T113000
DTSTAMP:20260421T081218
CREATED:20220322T174118Z
LAST-MODIFIED:20220322T175312Z
UID:10002418-1675423800-1675423800@heroesvoices.org
SUMMARY:Online Guitar Classes with Larry Chung
DESCRIPTION:These group lessons are available at no charge to all US Veterans everywhere. \nContact us for information about how to participate in these online guitar classes.
URL:https://heroesvoices.org/calendar/online-guitar-classes-with-larry-chung/2023-02-03/
LOCATION:Online\, Register to get connection details
END:VEVENT
BEGIN:VEVENT
DTSTART;TZID=America/Los_Angeles:20230208T143000
DTEND;TZID=America/Los_Angeles:20230208T153000
DTSTAMP:20260421T081218
CREATED:20220322T173858Z
LAST-MODIFIED:20220322T174234Z
UID:10002658-1675866600-1675870200@heroesvoices.org
SUMMARY:Online Guitar Classes with Paul Young
DESCRIPTION:These group lessons are available at no charge to all US Veterans everywhere. \nContact us for information about how to participate in these online guitar classes.
URL:https://heroesvoices.org/calendar/online-guitar-lessons-with-paul-young/2023-02-08/
LOCATION:Online\, Register to get connection details
END:VEVENT
BEGIN:VEVENT
DTSTART;TZID=America/Los_Angeles:20230210T113000
DTEND;TZID=America/Los_Angeles:20230210T113000
DTSTAMP:20260421T081218
CREATED:20220322T174118Z
LAST-MODIFIED:20220322T175312Z
UID:10002419-1676028600-1676028600@heroesvoices.org
SUMMARY:Online Guitar Classes with Larry Chung
DESCRIPTION:These group lessons are available at no charge to all US Veterans everywhere. \nContact us for information about how to participate in these online guitar classes.
URL:https://heroesvoices.org/calendar/online-guitar-classes-with-larry-chung/2023-02-10/
LOCATION:Online\, Register to get connection details
END:VEVENT
BEGIN:VEVENT
DTSTART;TZID=America/Los_Angeles:20230215T143000
DTEND;TZID=America/Los_Angeles:20230215T153000
DTSTAMP:20260421T081219
CREATED:20220322T173858Z
LAST-MODIFIED:20220322T174234Z
UID:10002659-1676471400-1676475000@heroesvoices.org
SUMMARY:Online Guitar Classes with Paul Young
DESCRIPTION:These group lessons are available at no charge to all US Veterans everywhere. \nContact us for information about how to participate in these online guitar classes.
URL:https://heroesvoices.org/calendar/online-guitar-lessons-with-paul-young/2023-02-15/
LOCATION:Online\, Register to get connection details
END:VEVENT
BEGIN:VEVENT
DTSTART;TZID=America/Los_Angeles:20230217T113000
DTEND;TZID=America/Los_Angeles:20230217T113000
DTSTAMP:20260421T081219
CREATED:20220322T174118Z
LAST-MODIFIED:20220322T175312Z
UID:10002420-1676633400-1676633400@heroesvoices.org
SUMMARY:Online Guitar Classes with Larry Chung
DESCRIPTION:These group lessons are available at no charge to all US Veterans everywhere. \nContact us for information about how to participate in these online guitar classes.
URL:https://heroesvoices.org/calendar/online-guitar-classes-with-larry-chung/2023-02-17/
LOCATION:Online\, Register to get connection details
END:VEVENT
BEGIN:VEVENT
DTSTART;TZID=America/Los_Angeles:20230222T143000
DTEND;TZID=America/Los_Angeles:20230222T153000
DTSTAMP:20260421T081219
CREATED:20220322T173858Z
LAST-MODIFIED:20220322T174234Z
UID:10002660-1677076200-1677079800@heroesvoices.org
SUMMARY:Online Guitar Classes with Paul Young
DESCRIPTION:These group lessons are available at no charge to all US Veterans everywhere. \nContact us for information about how to participate in these online guitar classes.
URL:https://heroesvoices.org/calendar/online-guitar-lessons-with-paul-young/2023-02-22/
LOCATION:Online\, Register to get connection details
END:VEVENT
BEGIN:VEVENT
DTSTART;TZID=America/Los_Angeles:20230224T113000
DTEND;TZID=America/Los_Angeles:20230224T113000
DTSTAMP:20260421T081219
CREATED:20220322T174118Z
LAST-MODIFIED:20220322T175312Z
UID:10002421-1677238200-1677238200@heroesvoices.org
SUMMARY:Online Guitar Classes with Larry Chung
DESCRIPTION:These group lessons are available at no charge to all US Veterans everywhere. \nContact us for information about how to participate in these online guitar classes.
URL:https://heroesvoices.org/calendar/online-guitar-classes-with-larry-chung/2023-02-24/
LOCATION:Online\, Register to get connection details
END:VEVENT
END:VCALENDAR