BEGIN:VCALENDAR
VERSION:2.0
PRODID:-//Heroes&#039; Voices - ECPv6.15.18//NONSGML v1.0//EN
CALSCALE:GREGORIAN
METHOD:PUBLISH
X-ORIGINAL-URL:https://heroesvoices.org
X-WR-CALDESC:Events for Heroes&#039; Voices
REFRESH-INTERVAL;VALUE=DURATION:PT1H
X-Robots-Tag:noindex
X-PUBLISHED-TTL:PT1H
BEGIN:VTIMEZONE
TZID:America/Los_Angeles
BEGIN:DAYLIGHT
TZOFFSETFROM:-0800
TZOFFSETTO:-0700
TZNAME:PDT
DTSTART:20230312T100000
END:DAYLIGHT
BEGIN:STANDARD
TZOFFSETFROM:-0700
TZOFFSETTO:-0800
TZNAME:PST
DTSTART:20231105T090000
END:STANDARD
BEGIN:DAYLIGHT
TZOFFSETFROM:-0800
TZOFFSETTO:-0700
TZNAME:PDT
DTSTART:20240310T100000
END:DAYLIGHT
BEGIN:STANDARD
TZOFFSETFROM:-0700
TZOFFSETTO:-0800
TZNAME:PST
DTSTART:20241103T090000
END:STANDARD
BEGIN:DAYLIGHT
TZOFFSETFROM:-0800
TZOFFSETTO:-0700
TZNAME:PDT
DTSTART:20250309T100000
END:DAYLIGHT
BEGIN:STANDARD
TZOFFSETFROM:-0700
TZOFFSETTO:-0800
TZNAME:PST
DTSTART:20251102T090000
END:STANDARD
END:VTIMEZONE
BEGIN:VEVENT
DTSTART;TZID=America/Los_Angeles:20240501T143000
DTEND;TZID=America/Los_Angeles:20240501T153000
DTSTAMP:20260420T194742
CREATED:20220322T173858Z
LAST-MODIFIED:20220322T174234Z
UID:10002722-1714573800-1714577400@heroesvoices.org
SUMMARY:Online Guitar Classes with Paul Young
DESCRIPTION:These group lessons are available at no charge to all US Veterans everywhere. \nContact us for information about how to participate in these online guitar classes.
URL:https://heroesvoices.org/calendar/online-guitar-lessons-with-paul-young/2024-05-01/
LOCATION:Online\, Register to get connection details
END:VEVENT
BEGIN:VEVENT
DTSTART;TZID=America/Los_Angeles:20240503T113000
DTEND;TZID=America/Los_Angeles:20240503T113000
DTSTAMP:20260420T194742
CREATED:20220322T174118Z
LAST-MODIFIED:20250901T174533Z
UID:10004110-1714735800-1714735800@heroesvoices.org
SUMMARY:Online Guitar Classes with Larry Chung
DESCRIPTION:These group lessons are available at no charge to all US Veterans everywhere. \nContact us for information about how to participate in these online guitar classes.
URL:https://heroesvoices.org/calendar/online-guitar-classes-with-larry-chung/2024-05-03/
LOCATION:Online\, Register to get connection details
END:VEVENT
BEGIN:VEVENT
DTSTART;TZID=America/Los_Angeles:20240503T113000
DTEND;TZID=America/Los_Angeles:20240503T113000
DTSTAMP:20260420T194742
CREATED:20220322T174118Z
LAST-MODIFIED:20250901T174533Z
UID:10003786-1714735800-1714735800@heroesvoices.org
SUMMARY:Online Guitar Classes with Larry Chung
DESCRIPTION:These group lessons are available at no charge to all US Veterans everywhere. \nContact us for information about how to participate in these online guitar classes.
URL:https://heroesvoices.org/calendar/online-guitar-classes-with-larry-chung/2024-05-03/
LOCATION:Online\, Register to get connection details
END:VEVENT
BEGIN:VEVENT
DTSTART;TZID=America/Los_Angeles:20240503T113000
DTEND;TZID=America/Los_Angeles:20240503T113000
DTSTAMP:20260420T194742
CREATED:20220322T174118Z
LAST-MODIFIED:20250901T174533Z
UID:10003461-1714735800-1714735800@heroesvoices.org
SUMMARY:Online Guitar Classes with Larry Chung
DESCRIPTION:These group lessons are available at no charge to all US Veterans everywhere. \nContact us for information about how to participate in these online guitar classes.
URL:https://heroesvoices.org/calendar/online-guitar-classes-with-larry-chung/2024-05-03/
LOCATION:Online\, Register to get connection details
END:VEVENT
BEGIN:VEVENT
DTSTART;TZID=America/Los_Angeles:20240503T113000
DTEND;TZID=America/Los_Angeles:20240503T113000
DTSTAMP:20260420T194742
CREATED:20220322T174118Z
LAST-MODIFIED:20220322T175312Z
UID:10002483-1714735800-1714735800@heroesvoices.org
SUMMARY:Online Guitar Classes with Larry Chung
DESCRIPTION:These group lessons are available at no charge to all US Veterans everywhere. \nContact us for information about how to participate in these online guitar classes.
URL:https://heroesvoices.org/calendar/online-guitar-classes-with-larry-chung/2024-05-03/
LOCATION:Online\, Register to get connection details
END:VEVENT
BEGIN:VEVENT
DTSTART;TZID=America/Los_Angeles:20240503T113000
DTEND;TZID=America/Los_Angeles:20240503T113000
DTSTAMP:20260420T194742
CREATED:20220322T174118Z
LAST-MODIFIED:20250901T174533Z
UID:10003135-1714735800-1714735800@heroesvoices.org
SUMMARY:Online Guitar Classes with Larry Chung
DESCRIPTION:These group lessons are available at no charge to all US Veterans everywhere. \nContact us for information about how to participate in these online guitar classes.
URL:https://heroesvoices.org/calendar/online-guitar-classes-with-larry-chung/2024-05-03/
LOCATION:Online\, Register to get connection details
END:VEVENT
BEGIN:VEVENT
DTSTART;TZID=America/Los_Angeles:20240508T143000
DTEND;TZID=America/Los_Angeles:20240508T153000
DTSTAMP:20260420T194742
CREATED:20220322T173858Z
LAST-MODIFIED:20220322T174234Z
UID:10002723-1715178600-1715182200@heroesvoices.org
SUMMARY:Online Guitar Classes with Paul Young
DESCRIPTION:These group lessons are available at no charge to all US Veterans everywhere. \nContact us for information about how to participate in these online guitar classes.
URL:https://heroesvoices.org/calendar/online-guitar-lessons-with-paul-young/2024-05-08/
LOCATION:Online\, Register to get connection details
END:VEVENT
BEGIN:VEVENT
DTSTART;TZID=America/Los_Angeles:20240510T113000
DTEND;TZID=America/Los_Angeles:20240510T113000
DTSTAMP:20260420T194742
CREATED:20220322T174118Z
LAST-MODIFIED:20220322T175312Z
UID:10002484-1715340600-1715340600@heroesvoices.org
SUMMARY:Online Guitar Classes with Larry Chung
DESCRIPTION:These group lessons are available at no charge to all US Veterans everywhere. \nContact us for information about how to participate in these online guitar classes.
URL:https://heroesvoices.org/calendar/online-guitar-classes-with-larry-chung/2024-05-10/
LOCATION:Online\, Register to get connection details
END:VEVENT
BEGIN:VEVENT
DTSTART;TZID=America/Los_Angeles:20240510T113000
DTEND;TZID=America/Los_Angeles:20240510T113000
DTSTAMP:20260420T194742
CREATED:20220322T174118Z
LAST-MODIFIED:20250901T174533Z
UID:10003136-1715340600-1715340600@heroesvoices.org
SUMMARY:Online Guitar Classes with Larry Chung
DESCRIPTION:These group lessons are available at no charge to all US Veterans everywhere. \nContact us for information about how to participate in these online guitar classes.
URL:https://heroesvoices.org/calendar/online-guitar-classes-with-larry-chung/2024-05-10/
LOCATION:Online\, Register to get connection details
END:VEVENT
BEGIN:VEVENT
DTSTART;TZID=America/Los_Angeles:20240510T113000
DTEND;TZID=America/Los_Angeles:20240510T113000
DTSTAMP:20260420T194742
CREATED:20220322T174118Z
LAST-MODIFIED:20250901T174533Z
UID:10004111-1715340600-1715340600@heroesvoices.org
SUMMARY:Online Guitar Classes with Larry Chung
DESCRIPTION:These group lessons are available at no charge to all US Veterans everywhere. \nContact us for information about how to participate in these online guitar classes.
URL:https://heroesvoices.org/calendar/online-guitar-classes-with-larry-chung/2024-05-10/
LOCATION:Online\, Register to get connection details
END:VEVENT
BEGIN:VEVENT
DTSTART;TZID=America/Los_Angeles:20240510T113000
DTEND;TZID=America/Los_Angeles:20240510T113000
DTSTAMP:20260420T194742
CREATED:20220322T174118Z
LAST-MODIFIED:20250901T174533Z
UID:10003462-1715340600-1715340600@heroesvoices.org
SUMMARY:Online Guitar Classes with Larry Chung
DESCRIPTION:These group lessons are available at no charge to all US Veterans everywhere. \nContact us for information about how to participate in these online guitar classes.
URL:https://heroesvoices.org/calendar/online-guitar-classes-with-larry-chung/2024-05-10/
LOCATION:Online\, Register to get connection details
END:VEVENT
BEGIN:VEVENT
DTSTART;TZID=America/Los_Angeles:20240510T113000
DTEND;TZID=America/Los_Angeles:20240510T113000
DTSTAMP:20260420T194742
CREATED:20220322T174118Z
LAST-MODIFIED:20250901T174533Z
UID:10003787-1715340600-1715340600@heroesvoices.org
SUMMARY:Online Guitar Classes with Larry Chung
DESCRIPTION:These group lessons are available at no charge to all US Veterans everywhere. \nContact us for information about how to participate in these online guitar classes.
URL:https://heroesvoices.org/calendar/online-guitar-classes-with-larry-chung/2024-05-10/
LOCATION:Online\, Register to get connection details
END:VEVENT
BEGIN:VEVENT
DTSTART;TZID=America/Los_Angeles:20240515T143000
DTEND;TZID=America/Los_Angeles:20240515T153000
DTSTAMP:20260420T194742
CREATED:20220322T173858Z
LAST-MODIFIED:20220322T174234Z
UID:10002724-1715783400-1715787000@heroesvoices.org
SUMMARY:Online Guitar Classes with Paul Young
DESCRIPTION:These group lessons are available at no charge to all US Veterans everywhere. \nContact us for information about how to participate in these online guitar classes.
URL:https://heroesvoices.org/calendar/online-guitar-lessons-with-paul-young/2024-05-15/
LOCATION:Online\, Register to get connection details
END:VEVENT
BEGIN:VEVENT
DTSTART;TZID=America/Los_Angeles:20240517T113000
DTEND;TZID=America/Los_Angeles:20240517T113000
DTSTAMP:20260420T194742
CREATED:20220322T174118Z
LAST-MODIFIED:20220322T175312Z
UID:10002485-1715945400-1715945400@heroesvoices.org
SUMMARY:Online Guitar Classes with Larry Chung
DESCRIPTION:These group lessons are available at no charge to all US Veterans everywhere. \nContact us for information about how to participate in these online guitar classes.
URL:https://heroesvoices.org/calendar/online-guitar-classes-with-larry-chung/2024-05-17/
LOCATION:Online\, Register to get connection details
END:VEVENT
BEGIN:VEVENT
DTSTART;TZID=America/Los_Angeles:20240517T113000
DTEND;TZID=America/Los_Angeles:20240517T113000
DTSTAMP:20260420T194742
CREATED:20220322T174118Z
LAST-MODIFIED:20250901T174533Z
UID:10003137-1715945400-1715945400@heroesvoices.org
SUMMARY:Online Guitar Classes with Larry Chung
DESCRIPTION:These group lessons are available at no charge to all US Veterans everywhere. \nContact us for information about how to participate in these online guitar classes.
URL:https://heroesvoices.org/calendar/online-guitar-classes-with-larry-chung/2024-05-17/
LOCATION:Online\, Register to get connection details
END:VEVENT
BEGIN:VEVENT
DTSTART;TZID=America/Los_Angeles:20240517T113000
DTEND;TZID=America/Los_Angeles:20240517T113000
DTSTAMP:20260420T194742
CREATED:20220322T174118Z
LAST-MODIFIED:20250901T174533Z
UID:10004112-1715945400-1715945400@heroesvoices.org
SUMMARY:Online Guitar Classes with Larry Chung
DESCRIPTION:These group lessons are available at no charge to all US Veterans everywhere. \nContact us for information about how to participate in these online guitar classes.
URL:https://heroesvoices.org/calendar/online-guitar-classes-with-larry-chung/2024-05-17/
LOCATION:Online\, Register to get connection details
END:VEVENT
BEGIN:VEVENT
DTSTART;TZID=America/Los_Angeles:20240517T113000
DTEND;TZID=America/Los_Angeles:20240517T113000
DTSTAMP:20260420T194742
CREATED:20220322T174118Z
LAST-MODIFIED:20250901T174533Z
UID:10003463-1715945400-1715945400@heroesvoices.org
SUMMARY:Online Guitar Classes with Larry Chung
DESCRIPTION:These group lessons are available at no charge to all US Veterans everywhere. \nContact us for information about how to participate in these online guitar classes.
URL:https://heroesvoices.org/calendar/online-guitar-classes-with-larry-chung/2024-05-17/
LOCATION:Online\, Register to get connection details
END:VEVENT
BEGIN:VEVENT
DTSTART;TZID=America/Los_Angeles:20240517T113000
DTEND;TZID=America/Los_Angeles:20240517T113000
DTSTAMP:20260420T194742
CREATED:20220322T174118Z
LAST-MODIFIED:20250901T174533Z
UID:10003788-1715945400-1715945400@heroesvoices.org
SUMMARY:Online Guitar Classes with Larry Chung
DESCRIPTION:These group lessons are available at no charge to all US Veterans everywhere. \nContact us for information about how to participate in these online guitar classes.
URL:https://heroesvoices.org/calendar/online-guitar-classes-with-larry-chung/2024-05-17/
LOCATION:Online\, Register to get connection details
END:VEVENT
BEGIN:VEVENT
DTSTART;TZID=America/Los_Angeles:20240522T143000
DTEND;TZID=America/Los_Angeles:20240522T153000
DTSTAMP:20260420T194742
CREATED:20220322T173858Z
LAST-MODIFIED:20220322T174234Z
UID:10002725-1716388200-1716391800@heroesvoices.org
SUMMARY:Online Guitar Classes with Paul Young
DESCRIPTION:These group lessons are available at no charge to all US Veterans everywhere. \nContact us for information about how to participate in these online guitar classes.
URL:https://heroesvoices.org/calendar/online-guitar-lessons-with-paul-young/2024-05-22/
LOCATION:Online\, Register to get connection details
END:VEVENT
BEGIN:VEVENT
DTSTART;TZID=America/Los_Angeles:20240524T113000
DTEND;TZID=America/Los_Angeles:20240524T113000
DTSTAMP:20260420T194742
CREATED:20220322T174118Z
LAST-MODIFIED:20220322T175312Z
UID:10002486-1716550200-1716550200@heroesvoices.org
SUMMARY:Online Guitar Classes with Larry Chung
DESCRIPTION:These group lessons are available at no charge to all US Veterans everywhere. \nContact us for information about how to participate in these online guitar classes.
URL:https://heroesvoices.org/calendar/online-guitar-classes-with-larry-chung/2024-05-24/
LOCATION:Online\, Register to get connection details
END:VEVENT
BEGIN:VEVENT
DTSTART;TZID=America/Los_Angeles:20240524T113000
DTEND;TZID=America/Los_Angeles:20240524T113000
DTSTAMP:20260420T194742
CREATED:20220322T174118Z
LAST-MODIFIED:20250901T174533Z
UID:10004113-1716550200-1716550200@heroesvoices.org
SUMMARY:Online Guitar Classes with Larry Chung
DESCRIPTION:These group lessons are available at no charge to all US Veterans everywhere. \nContact us for information about how to participate in these online guitar classes.
URL:https://heroesvoices.org/calendar/online-guitar-classes-with-larry-chung/2024-05-24/
LOCATION:Online\, Register to get connection details
END:VEVENT
BEGIN:VEVENT
DTSTART;TZID=America/Los_Angeles:20240524T113000
DTEND;TZID=America/Los_Angeles:20240524T113000
DTSTAMP:20260420T194742
CREATED:20220322T174118Z
LAST-MODIFIED:20250901T174533Z
UID:10003789-1716550200-1716550200@heroesvoices.org
SUMMARY:Online Guitar Classes with Larry Chung
DESCRIPTION:These group lessons are available at no charge to all US Veterans everywhere. \nContact us for information about how to participate in these online guitar classes.
URL:https://heroesvoices.org/calendar/online-guitar-classes-with-larry-chung/2024-05-24/
LOCATION:Online\, Register to get connection details
END:VEVENT
BEGIN:VEVENT
DTSTART;TZID=America/Los_Angeles:20240524T113000
DTEND;TZID=America/Los_Angeles:20240524T113000
DTSTAMP:20260420T194742
CREATED:20220322T174118Z
LAST-MODIFIED:20250901T174533Z
UID:10003464-1716550200-1716550200@heroesvoices.org
SUMMARY:Online Guitar Classes with Larry Chung
DESCRIPTION:These group lessons are available at no charge to all US Veterans everywhere. \nContact us for information about how to participate in these online guitar classes.
URL:https://heroesvoices.org/calendar/online-guitar-classes-with-larry-chung/2024-05-24/
LOCATION:Online\, Register to get connection details
END:VEVENT
BEGIN:VEVENT
DTSTART;TZID=America/Los_Angeles:20240524T113000
DTEND;TZID=America/Los_Angeles:20240524T113000
DTSTAMP:20260420T194742
CREATED:20220322T174118Z
LAST-MODIFIED:20250901T174533Z
UID:10003138-1716550200-1716550200@heroesvoices.org
SUMMARY:Online Guitar Classes with Larry Chung
DESCRIPTION:These group lessons are available at no charge to all US Veterans everywhere. \nContact us for information about how to participate in these online guitar classes.
URL:https://heroesvoices.org/calendar/online-guitar-classes-with-larry-chung/2024-05-24/
LOCATION:Online\, Register to get connection details
END:VEVENT
BEGIN:VEVENT
DTSTART;TZID=America/Los_Angeles:20240529T143000
DTEND;TZID=America/Los_Angeles:20240529T153000
DTSTAMP:20260420T194742
CREATED:20220322T173858Z
LAST-MODIFIED:20220322T174234Z
UID:10002726-1716993000-1716996600@heroesvoices.org
SUMMARY:Online Guitar Classes with Paul Young
DESCRIPTION:These group lessons are available at no charge to all US Veterans everywhere. \nContact us for information about how to participate in these online guitar classes.
URL:https://heroesvoices.org/calendar/online-guitar-lessons-with-paul-young/2024-05-29/
LOCATION:Online\, Register to get connection details
END:VEVENT
BEGIN:VEVENT
DTSTART;TZID=America/Los_Angeles:20240531T113000
DTEND;TZID=America/Los_Angeles:20240531T113000
DTSTAMP:20260420T194742
CREATED:20220322T174118Z
LAST-MODIFIED:20250901T174533Z
UID:10003465-1717155000-1717155000@heroesvoices.org
SUMMARY:Online Guitar Classes with Larry Chung
DESCRIPTION:These group lessons are available at no charge to all US Veterans everywhere. \nContact us for information about how to participate in these online guitar classes.
URL:https://heroesvoices.org/calendar/online-guitar-classes-with-larry-chung/2024-05-31/
LOCATION:Online\, Register to get connection details
END:VEVENT
BEGIN:VEVENT
DTSTART;TZID=America/Los_Angeles:20240531T113000
DTEND;TZID=America/Los_Angeles:20240531T113000
DTSTAMP:20260420T194742
CREATED:20220322T174118Z
LAST-MODIFIED:20250901T174533Z
UID:10003790-1717155000-1717155000@heroesvoices.org
SUMMARY:Online Guitar Classes with Larry Chung
DESCRIPTION:These group lessons are available at no charge to all US Veterans everywhere. \nContact us for information about how to participate in these online guitar classes.
URL:https://heroesvoices.org/calendar/online-guitar-classes-with-larry-chung/2024-05-31/
LOCATION:Online\, Register to get connection details
END:VEVENT
BEGIN:VEVENT
DTSTART;TZID=America/Los_Angeles:20240531T113000
DTEND;TZID=America/Los_Angeles:20240531T113000
DTSTAMP:20260420T194742
CREATED:20220322T174118Z
LAST-MODIFIED:20250901T174533Z
UID:10003139-1717155000-1717155000@heroesvoices.org
SUMMARY:Online Guitar Classes with Larry Chung
DESCRIPTION:These group lessons are available at no charge to all US Veterans everywhere. \nContact us for information about how to participate in these online guitar classes.
URL:https://heroesvoices.org/calendar/online-guitar-classes-with-larry-chung/2024-05-31/
LOCATION:Online\, Register to get connection details
END:VEVENT
BEGIN:VEVENT
DTSTART;TZID=America/Los_Angeles:20240531T113000
DTEND;TZID=America/Los_Angeles:20240531T113000
DTSTAMP:20260420T194742
CREATED:20220322T174118Z
LAST-MODIFIED:20220322T175312Z
UID:10002487-1717155000-1717155000@heroesvoices.org
SUMMARY:Online Guitar Classes with Larry Chung
DESCRIPTION:These group lessons are available at no charge to all US Veterans everywhere. \nContact us for information about how to participate in these online guitar classes.
URL:https://heroesvoices.org/calendar/online-guitar-classes-with-larry-chung/2024-05-31/
LOCATION:Online\, Register to get connection details
END:VEVENT
BEGIN:VEVENT
DTSTART;TZID=America/Los_Angeles:20240531T113000
DTEND;TZID=America/Los_Angeles:20240531T113000
DTSTAMP:20260420T194742
CREATED:20220322T174118Z
LAST-MODIFIED:20250901T174533Z
UID:10004114-1717155000-1717155000@heroesvoices.org
SUMMARY:Online Guitar Classes with Larry Chung
DESCRIPTION:These group lessons are available at no charge to all US Veterans everywhere. \nContact us for information about how to participate in these online guitar classes.
URL:https://heroesvoices.org/calendar/online-guitar-classes-with-larry-chung/2024-05-31/
LOCATION:Online\, Register to get connection details
END:VEVENT
END:VCALENDAR