BEGIN:VCALENDAR
VERSION:2.0
PRODID:-//Heroes&#039; Voices - ECPv6.15.18//NONSGML v1.0//EN
CALSCALE:GREGORIAN
METHOD:PUBLISH
X-ORIGINAL-URL:https://heroesvoices.org
X-WR-CALDESC:Events for Heroes&#039; Voices
REFRESH-INTERVAL;VALUE=DURATION:PT1H
X-Robots-Tag:noindex
X-PUBLISHED-TTL:PT1H
BEGIN:VTIMEZONE
TZID:America/Los_Angeles
BEGIN:DAYLIGHT
TZOFFSETFROM:-0800
TZOFFSETTO:-0700
TZNAME:PDT
DTSTART:20230312T100000
END:DAYLIGHT
BEGIN:STANDARD
TZOFFSETFROM:-0700
TZOFFSETTO:-0800
TZNAME:PST
DTSTART:20231105T090000
END:STANDARD
BEGIN:DAYLIGHT
TZOFFSETFROM:-0800
TZOFFSETTO:-0700
TZNAME:PDT
DTSTART:20240310T100000
END:DAYLIGHT
BEGIN:STANDARD
TZOFFSETFROM:-0700
TZOFFSETTO:-0800
TZNAME:PST
DTSTART:20241103T090000
END:STANDARD
BEGIN:DAYLIGHT
TZOFFSETFROM:-0800
TZOFFSETTO:-0700
TZNAME:PDT
DTSTART:20250309T100000
END:DAYLIGHT
BEGIN:STANDARD
TZOFFSETFROM:-0700
TZOFFSETTO:-0800
TZNAME:PST
DTSTART:20251102T090000
END:STANDARD
END:VTIMEZONE
BEGIN:VEVENT
DTSTART;TZID=America/Los_Angeles:20241004T113000
DTEND;TZID=America/Los_Angeles:20241004T113000
DTSTAMP:20260420T194506
CREATED:20220322T174118Z
LAST-MODIFIED:20250901T174533Z
UID:10003157-1728041400-1728041400@heroesvoices.org
SUMMARY:Online Guitar Classes with Larry Chung
DESCRIPTION:These group lessons are available at no charge to all US Veterans everywhere. \nContact us for information about how to participate in these online guitar classes.
URL:https://heroesvoices.org/calendar/online-guitar-classes-with-larry-chung/2024-10-04/
LOCATION:Online\, Register to get connection details
END:VEVENT
BEGIN:VEVENT
DTSTART;TZID=America/Los_Angeles:20241004T113000
DTEND;TZID=America/Los_Angeles:20241004T113000
DTSTAMP:20260420T194506
CREATED:20220322T174118Z
LAST-MODIFIED:20250901T174533Z
UID:10003483-1728041400-1728041400@heroesvoices.org
SUMMARY:Online Guitar Classes with Larry Chung
DESCRIPTION:These group lessons are available at no charge to all US Veterans everywhere. \nContact us for information about how to participate in these online guitar classes.
URL:https://heroesvoices.org/calendar/online-guitar-classes-with-larry-chung/2024-10-04/
LOCATION:Online\, Register to get connection details
END:VEVENT
BEGIN:VEVENT
DTSTART;TZID=America/Los_Angeles:20241004T113000
DTEND;TZID=America/Los_Angeles:20241004T113000
DTSTAMP:20260420T194506
CREATED:20220322T174118Z
LAST-MODIFIED:20250901T174533Z
UID:10003808-1728041400-1728041400@heroesvoices.org
SUMMARY:Online Guitar Classes with Larry Chung
DESCRIPTION:These group lessons are available at no charge to all US Veterans everywhere. \nContact us for information about how to participate in these online guitar classes.
URL:https://heroesvoices.org/calendar/online-guitar-classes-with-larry-chung/2024-10-04/
LOCATION:Online\, Register to get connection details
END:VEVENT
BEGIN:VEVENT
DTSTART;TZID=America/Los_Angeles:20241004T113000
DTEND;TZID=America/Los_Angeles:20241004T113000
DTSTAMP:20260420T194506
CREATED:20220322T174118Z
LAST-MODIFIED:20250901T174533Z
UID:10004132-1728041400-1728041400@heroesvoices.org
SUMMARY:Online Guitar Classes with Larry Chung
DESCRIPTION:These group lessons are available at no charge to all US Veterans everywhere. \nContact us for information about how to participate in these online guitar classes.
URL:https://heroesvoices.org/calendar/online-guitar-classes-with-larry-chung/2024-10-04/
LOCATION:Online\, Register to get connection details
END:VEVENT
BEGIN:VEVENT
DTSTART;TZID=America/Los_Angeles:20241011T113000
DTEND;TZID=America/Los_Angeles:20241011T113000
DTSTAMP:20260420T194506
CREATED:20220322T174118Z
LAST-MODIFIED:20250901T174533Z
UID:10003158-1728646200-1728646200@heroesvoices.org
SUMMARY:Online Guitar Classes with Larry Chung
DESCRIPTION:These group lessons are available at no charge to all US Veterans everywhere. \nContact us for information about how to participate in these online guitar classes.
URL:https://heroesvoices.org/calendar/online-guitar-classes-with-larry-chung/2024-10-11/
LOCATION:Online\, Register to get connection details
END:VEVENT
BEGIN:VEVENT
DTSTART;TZID=America/Los_Angeles:20241011T113000
DTEND;TZID=America/Los_Angeles:20241011T113000
DTSTAMP:20260420T194506
CREATED:20220322T174118Z
LAST-MODIFIED:20250901T174533Z
UID:10003484-1728646200-1728646200@heroesvoices.org
SUMMARY:Online Guitar Classes with Larry Chung
DESCRIPTION:These group lessons are available at no charge to all US Veterans everywhere. \nContact us for information about how to participate in these online guitar classes.
URL:https://heroesvoices.org/calendar/online-guitar-classes-with-larry-chung/2024-10-11/
LOCATION:Online\, Register to get connection details
END:VEVENT
BEGIN:VEVENT
DTSTART;TZID=America/Los_Angeles:20241011T113000
DTEND;TZID=America/Los_Angeles:20241011T113000
DTSTAMP:20260420T194506
CREATED:20220322T174118Z
LAST-MODIFIED:20250901T174533Z
UID:10003809-1728646200-1728646200@heroesvoices.org
SUMMARY:Online Guitar Classes with Larry Chung
DESCRIPTION:These group lessons are available at no charge to all US Veterans everywhere. \nContact us for information about how to participate in these online guitar classes.
URL:https://heroesvoices.org/calendar/online-guitar-classes-with-larry-chung/2024-10-11/
LOCATION:Online\, Register to get connection details
END:VEVENT
BEGIN:VEVENT
DTSTART;TZID=America/Los_Angeles:20241011T113000
DTEND;TZID=America/Los_Angeles:20241011T113000
DTSTAMP:20260420T194506
CREATED:20220322T174118Z
LAST-MODIFIED:20250901T174533Z
UID:10004133-1728646200-1728646200@heroesvoices.org
SUMMARY:Online Guitar Classes with Larry Chung
DESCRIPTION:These group lessons are available at no charge to all US Veterans everywhere. \nContact us for information about how to participate in these online guitar classes.
URL:https://heroesvoices.org/calendar/online-guitar-classes-with-larry-chung/2024-10-11/
LOCATION:Online\, Register to get connection details
END:VEVENT
BEGIN:VEVENT
DTSTART;TZID=America/Los_Angeles:20241018T113000
DTEND;TZID=America/Los_Angeles:20241018T113000
DTSTAMP:20260420T194506
CREATED:20220322T174118Z
LAST-MODIFIED:20250901T174533Z
UID:10003159-1729251000-1729251000@heroesvoices.org
SUMMARY:Online Guitar Classes with Larry Chung
DESCRIPTION:These group lessons are available at no charge to all US Veterans everywhere. \nContact us for information about how to participate in these online guitar classes.
URL:https://heroesvoices.org/calendar/online-guitar-classes-with-larry-chung/2024-10-18/
LOCATION:Online\, Register to get connection details
END:VEVENT
BEGIN:VEVENT
DTSTART;TZID=America/Los_Angeles:20241018T113000
DTEND;TZID=America/Los_Angeles:20241018T113000
DTSTAMP:20260420T194506
CREATED:20220322T174118Z
LAST-MODIFIED:20250901T174533Z
UID:10003485-1729251000-1729251000@heroesvoices.org
SUMMARY:Online Guitar Classes with Larry Chung
DESCRIPTION:These group lessons are available at no charge to all US Veterans everywhere. \nContact us for information about how to participate in these online guitar classes.
URL:https://heroesvoices.org/calendar/online-guitar-classes-with-larry-chung/2024-10-18/
LOCATION:Online\, Register to get connection details
END:VEVENT
BEGIN:VEVENT
DTSTART;TZID=America/Los_Angeles:20241018T113000
DTEND;TZID=America/Los_Angeles:20241018T113000
DTSTAMP:20260420T194506
CREATED:20220322T174118Z
LAST-MODIFIED:20250901T174533Z
UID:10003810-1729251000-1729251000@heroesvoices.org
SUMMARY:Online Guitar Classes with Larry Chung
DESCRIPTION:These group lessons are available at no charge to all US Veterans everywhere. \nContact us for information about how to participate in these online guitar classes.
URL:https://heroesvoices.org/calendar/online-guitar-classes-with-larry-chung/2024-10-18/
LOCATION:Online\, Register to get connection details
END:VEVENT
BEGIN:VEVENT
DTSTART;TZID=America/Los_Angeles:20241018T113000
DTEND;TZID=America/Los_Angeles:20241018T113000
DTSTAMP:20260420T194506
CREATED:20220322T174118Z
LAST-MODIFIED:20250901T174533Z
UID:10004134-1729251000-1729251000@heroesvoices.org
SUMMARY:Online Guitar Classes with Larry Chung
DESCRIPTION:These group lessons are available at no charge to all US Veterans everywhere. \nContact us for information about how to participate in these online guitar classes.
URL:https://heroesvoices.org/calendar/online-guitar-classes-with-larry-chung/2024-10-18/
LOCATION:Online\, Register to get connection details
END:VEVENT
BEGIN:VEVENT
DTSTART;TZID=America/Los_Angeles:20241025T113000
DTEND;TZID=America/Los_Angeles:20241025T113000
DTSTAMP:20260420T194506
CREATED:20220322T174118Z
LAST-MODIFIED:20250901T174533Z
UID:10003160-1729855800-1729855800@heroesvoices.org
SUMMARY:Online Guitar Classes with Larry Chung
DESCRIPTION:These group lessons are available at no charge to all US Veterans everywhere. \nContact us for information about how to participate in these online guitar classes.
URL:https://heroesvoices.org/calendar/online-guitar-classes-with-larry-chung/2024-10-25/
LOCATION:Online\, Register to get connection details
END:VEVENT
BEGIN:VEVENT
DTSTART;TZID=America/Los_Angeles:20241025T113000
DTEND;TZID=America/Los_Angeles:20241025T113000
DTSTAMP:20260420T194506
CREATED:20220322T174118Z
LAST-MODIFIED:20250901T174533Z
UID:10003486-1729855800-1729855800@heroesvoices.org
SUMMARY:Online Guitar Classes with Larry Chung
DESCRIPTION:These group lessons are available at no charge to all US Veterans everywhere. \nContact us for information about how to participate in these online guitar classes.
URL:https://heroesvoices.org/calendar/online-guitar-classes-with-larry-chung/2024-10-25/
LOCATION:Online\, Register to get connection details
END:VEVENT
BEGIN:VEVENT
DTSTART;TZID=America/Los_Angeles:20241025T113000
DTEND;TZID=America/Los_Angeles:20241025T113000
DTSTAMP:20260420T194506
CREATED:20220322T174118Z
LAST-MODIFIED:20250901T174533Z
UID:10003811-1729855800-1729855800@heroesvoices.org
SUMMARY:Online Guitar Classes with Larry Chung
DESCRIPTION:These group lessons are available at no charge to all US Veterans everywhere. \nContact us for information about how to participate in these online guitar classes.
URL:https://heroesvoices.org/calendar/online-guitar-classes-with-larry-chung/2024-10-25/
LOCATION:Online\, Register to get connection details
END:VEVENT
BEGIN:VEVENT
DTSTART;TZID=America/Los_Angeles:20241025T113000
DTEND;TZID=America/Los_Angeles:20241025T113000
DTSTAMP:20260420T194506
CREATED:20220322T174118Z
LAST-MODIFIED:20250901T174533Z
UID:10004135-1729855800-1729855800@heroesvoices.org
SUMMARY:Online Guitar Classes with Larry Chung
DESCRIPTION:These group lessons are available at no charge to all US Veterans everywhere. \nContact us for information about how to participate in these online guitar classes.
URL:https://heroesvoices.org/calendar/online-guitar-classes-with-larry-chung/2024-10-25/
LOCATION:Online\, Register to get connection details
END:VEVENT
BEGIN:VEVENT
DTSTART;TZID=America/Los_Angeles:20241101T113000
DTEND;TZID=America/Los_Angeles:20241101T113000
DTSTAMP:20260420T194506
CREATED:20220322T174118Z
LAST-MODIFIED:20250901T174533Z
UID:10003161-1730460600-1730460600@heroesvoices.org
SUMMARY:Online Guitar Classes with Larry Chung
DESCRIPTION:These group lessons are available at no charge to all US Veterans everywhere. \nContact us for information about how to participate in these online guitar classes.
URL:https://heroesvoices.org/calendar/online-guitar-classes-with-larry-chung/2024-11-01/
LOCATION:Online\, Register to get connection details
END:VEVENT
BEGIN:VEVENT
DTSTART;TZID=America/Los_Angeles:20241101T113000
DTEND;TZID=America/Los_Angeles:20241101T113000
DTSTAMP:20260420T194506
CREATED:20220322T174118Z
LAST-MODIFIED:20250901T174533Z
UID:10003487-1730460600-1730460600@heroesvoices.org
SUMMARY:Online Guitar Classes with Larry Chung
DESCRIPTION:These group lessons are available at no charge to all US Veterans everywhere. \nContact us for information about how to participate in these online guitar classes.
URL:https://heroesvoices.org/calendar/online-guitar-classes-with-larry-chung/2024-11-01/
LOCATION:Online\, Register to get connection details
END:VEVENT
BEGIN:VEVENT
DTSTART;TZID=America/Los_Angeles:20241101T113000
DTEND;TZID=America/Los_Angeles:20241101T113000
DTSTAMP:20260420T194506
CREATED:20220322T174118Z
LAST-MODIFIED:20250901T174533Z
UID:10003812-1730460600-1730460600@heroesvoices.org
SUMMARY:Online Guitar Classes with Larry Chung
DESCRIPTION:These group lessons are available at no charge to all US Veterans everywhere. \nContact us for information about how to participate in these online guitar classes.
URL:https://heroesvoices.org/calendar/online-guitar-classes-with-larry-chung/2024-11-01/
LOCATION:Online\, Register to get connection details
END:VEVENT
BEGIN:VEVENT
DTSTART;TZID=America/Los_Angeles:20241101T113000
DTEND;TZID=America/Los_Angeles:20241101T113000
DTSTAMP:20260420T194506
CREATED:20220322T174118Z
LAST-MODIFIED:20250901T174533Z
UID:10004136-1730460600-1730460600@heroesvoices.org
SUMMARY:Online Guitar Classes with Larry Chung
DESCRIPTION:These group lessons are available at no charge to all US Veterans everywhere. \nContact us for information about how to participate in these online guitar classes.
URL:https://heroesvoices.org/calendar/online-guitar-classes-with-larry-chung/2024-11-01/
LOCATION:Online\, Register to get connection details
END:VEVENT
BEGIN:VEVENT
DTSTART;TZID=America/Los_Angeles:20241108T113000
DTEND;TZID=America/Los_Angeles:20241108T113000
DTSTAMP:20260420T194506
CREATED:20220322T174118Z
LAST-MODIFIED:20250901T174533Z
UID:10003162-1731065400-1731065400@heroesvoices.org
SUMMARY:Online Guitar Classes with Larry Chung
DESCRIPTION:These group lessons are available at no charge to all US Veterans everywhere. \nContact us for information about how to participate in these online guitar classes.
URL:https://heroesvoices.org/calendar/online-guitar-classes-with-larry-chung/2024-11-08/
LOCATION:Online\, Register to get connection details
END:VEVENT
BEGIN:VEVENT
DTSTART;TZID=America/Los_Angeles:20241108T113000
DTEND;TZID=America/Los_Angeles:20241108T113000
DTSTAMP:20260420T194506
CREATED:20220322T174118Z
LAST-MODIFIED:20250901T174533Z
UID:10003488-1731065400-1731065400@heroesvoices.org
SUMMARY:Online Guitar Classes with Larry Chung
DESCRIPTION:These group lessons are available at no charge to all US Veterans everywhere. \nContact us for information about how to participate in these online guitar classes.
URL:https://heroesvoices.org/calendar/online-guitar-classes-with-larry-chung/2024-11-08/
LOCATION:Online\, Register to get connection details
END:VEVENT
BEGIN:VEVENT
DTSTART;TZID=America/Los_Angeles:20241108T113000
DTEND;TZID=America/Los_Angeles:20241108T113000
DTSTAMP:20260420T194506
CREATED:20220322T174118Z
LAST-MODIFIED:20250901T174533Z
UID:10003813-1731065400-1731065400@heroesvoices.org
SUMMARY:Online Guitar Classes with Larry Chung
DESCRIPTION:These group lessons are available at no charge to all US Veterans everywhere. \nContact us for information about how to participate in these online guitar classes.
URL:https://heroesvoices.org/calendar/online-guitar-classes-with-larry-chung/2024-11-08/
LOCATION:Online\, Register to get connection details
END:VEVENT
BEGIN:VEVENT
DTSTART;TZID=America/Los_Angeles:20241108T113000
DTEND;TZID=America/Los_Angeles:20241108T113000
DTSTAMP:20260420T194506
CREATED:20220322T174118Z
LAST-MODIFIED:20250901T174533Z
UID:10004137-1731065400-1731065400@heroesvoices.org
SUMMARY:Online Guitar Classes with Larry Chung
DESCRIPTION:These group lessons are available at no charge to all US Veterans everywhere. \nContact us for information about how to participate in these online guitar classes.
URL:https://heroesvoices.org/calendar/online-guitar-classes-with-larry-chung/2024-11-08/
LOCATION:Online\, Register to get connection details
END:VEVENT
BEGIN:VEVENT
DTSTART;TZID=America/Los_Angeles:20241115T113000
DTEND;TZID=America/Los_Angeles:20241115T113000
DTSTAMP:20260420T194506
CREATED:20220322T174118Z
LAST-MODIFIED:20250901T174533Z
UID:10003163-1731670200-1731670200@heroesvoices.org
SUMMARY:Online Guitar Classes with Larry Chung
DESCRIPTION:These group lessons are available at no charge to all US Veterans everywhere. \nContact us for information about how to participate in these online guitar classes.
URL:https://heroesvoices.org/calendar/online-guitar-classes-with-larry-chung/2024-11-15/
LOCATION:Online\, Register to get connection details
END:VEVENT
BEGIN:VEVENT
DTSTART;TZID=America/Los_Angeles:20241115T113000
DTEND;TZID=America/Los_Angeles:20241115T113000
DTSTAMP:20260420T194506
CREATED:20220322T174118Z
LAST-MODIFIED:20250901T174533Z
UID:10003489-1731670200-1731670200@heroesvoices.org
SUMMARY:Online Guitar Classes with Larry Chung
DESCRIPTION:These group lessons are available at no charge to all US Veterans everywhere. \nContact us for information about how to participate in these online guitar classes.
URL:https://heroesvoices.org/calendar/online-guitar-classes-with-larry-chung/2024-11-15/
LOCATION:Online\, Register to get connection details
END:VEVENT
BEGIN:VEVENT
DTSTART;TZID=America/Los_Angeles:20241115T113000
DTEND;TZID=America/Los_Angeles:20241115T113000
DTSTAMP:20260420T194506
CREATED:20220322T174118Z
LAST-MODIFIED:20250901T174533Z
UID:10003814-1731670200-1731670200@heroesvoices.org
SUMMARY:Online Guitar Classes with Larry Chung
DESCRIPTION:These group lessons are available at no charge to all US Veterans everywhere. \nContact us for information about how to participate in these online guitar classes.
URL:https://heroesvoices.org/calendar/online-guitar-classes-with-larry-chung/2024-11-15/
LOCATION:Online\, Register to get connection details
END:VEVENT
BEGIN:VEVENT
DTSTART;TZID=America/Los_Angeles:20241115T113000
DTEND;TZID=America/Los_Angeles:20241115T113000
DTSTAMP:20260420T194506
CREATED:20220322T174118Z
LAST-MODIFIED:20250901T174533Z
UID:10004138-1731670200-1731670200@heroesvoices.org
SUMMARY:Online Guitar Classes with Larry Chung
DESCRIPTION:These group lessons are available at no charge to all US Veterans everywhere. \nContact us for information about how to participate in these online guitar classes.
URL:https://heroesvoices.org/calendar/online-guitar-classes-with-larry-chung/2024-11-15/
LOCATION:Online\, Register to get connection details
END:VEVENT
BEGIN:VEVENT
DTSTART;TZID=America/Los_Angeles:20241122T113000
DTEND;TZID=America/Los_Angeles:20241122T113000
DTSTAMP:20260420T194506
CREATED:20220322T174118Z
LAST-MODIFIED:20250901T174533Z
UID:10003164-1732275000-1732275000@heroesvoices.org
SUMMARY:Online Guitar Classes with Larry Chung
DESCRIPTION:These group lessons are available at no charge to all US Veterans everywhere. \nContact us for information about how to participate in these online guitar classes.
URL:https://heroesvoices.org/calendar/online-guitar-classes-with-larry-chung/2024-11-22/
LOCATION:Online\, Register to get connection details
END:VEVENT
BEGIN:VEVENT
DTSTART;TZID=America/Los_Angeles:20241122T113000
DTEND;TZID=America/Los_Angeles:20241122T113000
DTSTAMP:20260420T194506
CREATED:20220322T174118Z
LAST-MODIFIED:20250901T174533Z
UID:10003490-1732275000-1732275000@heroesvoices.org
SUMMARY:Online Guitar Classes with Larry Chung
DESCRIPTION:These group lessons are available at no charge to all US Veterans everywhere. \nContact us for information about how to participate in these online guitar classes.
URL:https://heroesvoices.org/calendar/online-guitar-classes-with-larry-chung/2024-11-22/
LOCATION:Online\, Register to get connection details
END:VEVENT
END:VCALENDAR