BEGIN:VCALENDAR
VERSION:2.0
PRODID:-//Heroes&#039; Voices - ECPv6.15.18//NONSGML v1.0//EN
CALSCALE:GREGORIAN
METHOD:PUBLISH
X-ORIGINAL-URL:https://heroesvoices.org
X-WR-CALDESC:Events for Heroes&#039; Voices
REFRESH-INTERVAL;VALUE=DURATION:PT1H
X-Robots-Tag:noindex
X-PUBLISHED-TTL:PT1H
BEGIN:VTIMEZONE
TZID:America/Los_Angeles
BEGIN:DAYLIGHT
TZOFFSETFROM:-0800
TZOFFSETTO:-0700
TZNAME:PDT
DTSTART:20250309T100000
END:DAYLIGHT
BEGIN:STANDARD
TZOFFSETFROM:-0700
TZOFFSETTO:-0800
TZNAME:PST
DTSTART:20251102T090000
END:STANDARD
BEGIN:DAYLIGHT
TZOFFSETFROM:-0800
TZOFFSETTO:-0700
TZNAME:PDT
DTSTART:20260308T100000
END:DAYLIGHT
BEGIN:STANDARD
TZOFFSETFROM:-0700
TZOFFSETTO:-0800
TZNAME:PST
DTSTART:20261101T090000
END:STANDARD
BEGIN:DAYLIGHT
TZOFFSETFROM:-0800
TZOFFSETTO:-0700
TZNAME:PDT
DTSTART:20270314T100000
END:DAYLIGHT
BEGIN:STANDARD
TZOFFSETFROM:-0700
TZOFFSETTO:-0800
TZNAME:PST
DTSTART:20271107T090000
END:STANDARD
BEGIN:DAYLIGHT
TZOFFSETFROM:-0800
TZOFFSETTO:-0700
TZNAME:PDT
DTSTART:20280312T100000
END:DAYLIGHT
BEGIN:STANDARD
TZOFFSETFROM:-0700
TZOFFSETTO:-0800
TZNAME:PST
DTSTART:20281105T090000
END:STANDARD
END:VTIMEZONE
BEGIN:VEVENT
DTSTART;TZID=America/Los_Angeles:20261204T113000
DTEND;TZID=America/Los_Angeles:20261204T113000
DTSTAMP:20260421T140837
CREATED:20220322T174118Z
LAST-MODIFIED:20250901T174533Z
UID:10003270-1796383800-1796383800@heroesvoices.org
SUMMARY:Online Guitar Classes with Larry Chung
DESCRIPTION:These group lessons are available at no charge to all US Veterans everywhere. \nContact us for information about how to participate in these online guitar classes.
URL:https://heroesvoices.org/calendar/online-guitar-classes-with-larry-chung/2026-12-04/
LOCATION:Online\, Register to get connection details
END:VEVENT
BEGIN:VEVENT
DTSTART;TZID=America/Los_Angeles:20261204T113000
DTEND;TZID=America/Los_Angeles:20261204T113000
DTSTAMP:20260421T140837
CREATED:20220322T174118Z
LAST-MODIFIED:20250901T174533Z
UID:10003596-1796383800-1796383800@heroesvoices.org
SUMMARY:Online Guitar Classes with Larry Chung
DESCRIPTION:These group lessons are available at no charge to all US Veterans everywhere. \nContact us for information about how to participate in these online guitar classes.
URL:https://heroesvoices.org/calendar/online-guitar-classes-with-larry-chung/2026-12-04/
LOCATION:Online\, Register to get connection details
END:VEVENT
BEGIN:VEVENT
DTSTART;TZID=America/Los_Angeles:20261204T113000
DTEND;TZID=America/Los_Angeles:20261204T113000
DTSTAMP:20260421T140837
CREATED:20220322T174118Z
LAST-MODIFIED:20250901T174533Z
UID:10003921-1796383800-1796383800@heroesvoices.org
SUMMARY:Online Guitar Classes with Larry Chung
DESCRIPTION:These group lessons are available at no charge to all US Veterans everywhere. \nContact us for information about how to participate in these online guitar classes.
URL:https://heroesvoices.org/calendar/online-guitar-classes-with-larry-chung/2026-12-04/
LOCATION:Online\, Register to get connection details
END:VEVENT
BEGIN:VEVENT
DTSTART;TZID=America/Los_Angeles:20261204T113000
DTEND;TZID=America/Los_Angeles:20261204T113000
DTSTAMP:20260421T140837
CREATED:20220322T174118Z
LAST-MODIFIED:20250901T174533Z
UID:10004245-1796383800-1796383800@heroesvoices.org
SUMMARY:Online Guitar Classes with Larry Chung
DESCRIPTION:These group lessons are available at no charge to all US Veterans everywhere. \nContact us for information about how to participate in these online guitar classes.
URL:https://heroesvoices.org/calendar/online-guitar-classes-with-larry-chung/2026-12-04/
LOCATION:Online\, Register to get connection details
END:VEVENT
BEGIN:VEVENT
DTSTART;TZID=America/Los_Angeles:20261211T113000
DTEND;TZID=America/Los_Angeles:20261211T113000
DTSTAMP:20260421T140837
CREATED:20220322T174118Z
LAST-MODIFIED:20250901T174533Z
UID:10003271-1796988600-1796988600@heroesvoices.org
SUMMARY:Online Guitar Classes with Larry Chung
DESCRIPTION:These group lessons are available at no charge to all US Veterans everywhere. \nContact us for information about how to participate in these online guitar classes.
URL:https://heroesvoices.org/calendar/online-guitar-classes-with-larry-chung/2026-12-11/
LOCATION:Online\, Register to get connection details
END:VEVENT
BEGIN:VEVENT
DTSTART;TZID=America/Los_Angeles:20261211T113000
DTEND;TZID=America/Los_Angeles:20261211T113000
DTSTAMP:20260421T140837
CREATED:20220322T174118Z
LAST-MODIFIED:20250901T174533Z
UID:10003597-1796988600-1796988600@heroesvoices.org
SUMMARY:Online Guitar Classes with Larry Chung
DESCRIPTION:These group lessons are available at no charge to all US Veterans everywhere. \nContact us for information about how to participate in these online guitar classes.
URL:https://heroesvoices.org/calendar/online-guitar-classes-with-larry-chung/2026-12-11/
LOCATION:Online\, Register to get connection details
END:VEVENT
BEGIN:VEVENT
DTSTART;TZID=America/Los_Angeles:20261211T113000
DTEND;TZID=America/Los_Angeles:20261211T113000
DTSTAMP:20260421T140837
CREATED:20220322T174118Z
LAST-MODIFIED:20250901T174533Z
UID:10003922-1796988600-1796988600@heroesvoices.org
SUMMARY:Online Guitar Classes with Larry Chung
DESCRIPTION:These group lessons are available at no charge to all US Veterans everywhere. \nContact us for information about how to participate in these online guitar classes.
URL:https://heroesvoices.org/calendar/online-guitar-classes-with-larry-chung/2026-12-11/
LOCATION:Online\, Register to get connection details
END:VEVENT
BEGIN:VEVENT
DTSTART;TZID=America/Los_Angeles:20261211T113000
DTEND;TZID=America/Los_Angeles:20261211T113000
DTSTAMP:20260421T140837
CREATED:20220322T174118Z
LAST-MODIFIED:20250901T174533Z
UID:10004246-1796988600-1796988600@heroesvoices.org
SUMMARY:Online Guitar Classes with Larry Chung
DESCRIPTION:These group lessons are available at no charge to all US Veterans everywhere. \nContact us for information about how to participate in these online guitar classes.
URL:https://heroesvoices.org/calendar/online-guitar-classes-with-larry-chung/2026-12-11/
LOCATION:Online\, Register to get connection details
END:VEVENT
BEGIN:VEVENT
DTSTART;TZID=America/Los_Angeles:20261218T113000
DTEND;TZID=America/Los_Angeles:20261218T113000
DTSTAMP:20260421T140837
CREATED:20220322T174118Z
LAST-MODIFIED:20250901T174533Z
UID:10003272-1797593400-1797593400@heroesvoices.org
SUMMARY:Online Guitar Classes with Larry Chung
DESCRIPTION:These group lessons are available at no charge to all US Veterans everywhere. \nContact us for information about how to participate in these online guitar classes.
URL:https://heroesvoices.org/calendar/online-guitar-classes-with-larry-chung/2026-12-18/
LOCATION:Online\, Register to get connection details
END:VEVENT
BEGIN:VEVENT
DTSTART;TZID=America/Los_Angeles:20261218T113000
DTEND;TZID=America/Los_Angeles:20261218T113000
DTSTAMP:20260421T140837
CREATED:20220322T174118Z
LAST-MODIFIED:20250901T174533Z
UID:10003598-1797593400-1797593400@heroesvoices.org
SUMMARY:Online Guitar Classes with Larry Chung
DESCRIPTION:These group lessons are available at no charge to all US Veterans everywhere. \nContact us for information about how to participate in these online guitar classes.
URL:https://heroesvoices.org/calendar/online-guitar-classes-with-larry-chung/2026-12-18/
LOCATION:Online\, Register to get connection details
END:VEVENT
BEGIN:VEVENT
DTSTART;TZID=America/Los_Angeles:20261218T113000
DTEND;TZID=America/Los_Angeles:20261218T113000
DTSTAMP:20260421T140837
CREATED:20220322T174118Z
LAST-MODIFIED:20250901T174533Z
UID:10003923-1797593400-1797593400@heroesvoices.org
SUMMARY:Online Guitar Classes with Larry Chung
DESCRIPTION:These group lessons are available at no charge to all US Veterans everywhere. \nContact us for information about how to participate in these online guitar classes.
URL:https://heroesvoices.org/calendar/online-guitar-classes-with-larry-chung/2026-12-18/
LOCATION:Online\, Register to get connection details
END:VEVENT
BEGIN:VEVENT
DTSTART;TZID=America/Los_Angeles:20261218T113000
DTEND;TZID=America/Los_Angeles:20261218T113000
DTSTAMP:20260421T140837
CREATED:20220322T174118Z
LAST-MODIFIED:20250901T174533Z
UID:10004247-1797593400-1797593400@heroesvoices.org
SUMMARY:Online Guitar Classes with Larry Chung
DESCRIPTION:These group lessons are available at no charge to all US Veterans everywhere. \nContact us for information about how to participate in these online guitar classes.
URL:https://heroesvoices.org/calendar/online-guitar-classes-with-larry-chung/2026-12-18/
LOCATION:Online\, Register to get connection details
END:VEVENT
BEGIN:VEVENT
DTSTART;TZID=America/Los_Angeles:20261225T113000
DTEND;TZID=America/Los_Angeles:20261225T113000
DTSTAMP:20260421T140837
CREATED:20220322T174118Z
LAST-MODIFIED:20250901T174533Z
UID:10003273-1798198200-1798198200@heroesvoices.org
SUMMARY:Online Guitar Classes with Larry Chung
DESCRIPTION:These group lessons are available at no charge to all US Veterans everywhere. \nContact us for information about how to participate in these online guitar classes.
URL:https://heroesvoices.org/calendar/online-guitar-classes-with-larry-chung/2026-12-25/
LOCATION:Online\, Register to get connection details
END:VEVENT
BEGIN:VEVENT
DTSTART;TZID=America/Los_Angeles:20261225T113000
DTEND;TZID=America/Los_Angeles:20261225T113000
DTSTAMP:20260421T140837
CREATED:20220322T174118Z
LAST-MODIFIED:20250901T174533Z
UID:10003599-1798198200-1798198200@heroesvoices.org
SUMMARY:Online Guitar Classes with Larry Chung
DESCRIPTION:These group lessons are available at no charge to all US Veterans everywhere. \nContact us for information about how to participate in these online guitar classes.
URL:https://heroesvoices.org/calendar/online-guitar-classes-with-larry-chung/2026-12-25/
LOCATION:Online\, Register to get connection details
END:VEVENT
BEGIN:VEVENT
DTSTART;TZID=America/Los_Angeles:20261225T113000
DTEND;TZID=America/Los_Angeles:20261225T113000
DTSTAMP:20260421T140837
CREATED:20220322T174118Z
LAST-MODIFIED:20250901T174533Z
UID:10003924-1798198200-1798198200@heroesvoices.org
SUMMARY:Online Guitar Classes with Larry Chung
DESCRIPTION:These group lessons are available at no charge to all US Veterans everywhere. \nContact us for information about how to participate in these online guitar classes.
URL:https://heroesvoices.org/calendar/online-guitar-classes-with-larry-chung/2026-12-25/
LOCATION:Online\, Register to get connection details
END:VEVENT
BEGIN:VEVENT
DTSTART;TZID=America/Los_Angeles:20261225T113000
DTEND;TZID=America/Los_Angeles:20261225T113000
DTSTAMP:20260421T140837
CREATED:20220322T174118Z
LAST-MODIFIED:20250901T174533Z
UID:10004248-1798198200-1798198200@heroesvoices.org
SUMMARY:Online Guitar Classes with Larry Chung
DESCRIPTION:These group lessons are available at no charge to all US Veterans everywhere. \nContact us for information about how to participate in these online guitar classes.
URL:https://heroesvoices.org/calendar/online-guitar-classes-with-larry-chung/2026-12-25/
LOCATION:Online\, Register to get connection details
END:VEVENT
BEGIN:VEVENT
DTSTART;TZID=America/Los_Angeles:20270101T113000
DTEND;TZID=America/Los_Angeles:20270101T113000
DTSTAMP:20260421T140837
CREATED:20220322T174118Z
LAST-MODIFIED:20250901T174533Z
UID:10003274-1798803000-1798803000@heroesvoices.org
SUMMARY:Online Guitar Classes with Larry Chung
DESCRIPTION:These group lessons are available at no charge to all US Veterans everywhere. \nContact us for information about how to participate in these online guitar classes.
URL:https://heroesvoices.org/calendar/online-guitar-classes-with-larry-chung/2027-01-01/
LOCATION:Online\, Register to get connection details
END:VEVENT
BEGIN:VEVENT
DTSTART;TZID=America/Los_Angeles:20270101T113000
DTEND;TZID=America/Los_Angeles:20270101T113000
DTSTAMP:20260421T140837
CREATED:20220322T174118Z
LAST-MODIFIED:20250901T174533Z
UID:10003600-1798803000-1798803000@heroesvoices.org
SUMMARY:Online Guitar Classes with Larry Chung
DESCRIPTION:These group lessons are available at no charge to all US Veterans everywhere. \nContact us for information about how to participate in these online guitar classes.
URL:https://heroesvoices.org/calendar/online-guitar-classes-with-larry-chung/2027-01-01/
LOCATION:Online\, Register to get connection details
END:VEVENT
BEGIN:VEVENT
DTSTART;TZID=America/Los_Angeles:20270101T113000
DTEND;TZID=America/Los_Angeles:20270101T113000
DTSTAMP:20260421T140837
CREATED:20220322T174118Z
LAST-MODIFIED:20250901T174533Z
UID:10003925-1798803000-1798803000@heroesvoices.org
SUMMARY:Online Guitar Classes with Larry Chung
DESCRIPTION:These group lessons are available at no charge to all US Veterans everywhere. \nContact us for information about how to participate in these online guitar classes.
URL:https://heroesvoices.org/calendar/online-guitar-classes-with-larry-chung/2027-01-01/
LOCATION:Online\, Register to get connection details
END:VEVENT
BEGIN:VEVENT
DTSTART;TZID=America/Los_Angeles:20270101T113000
DTEND;TZID=America/Los_Angeles:20270101T113000
DTSTAMP:20260421T140837
CREATED:20220322T174118Z
LAST-MODIFIED:20250901T174533Z
UID:10004249-1798803000-1798803000@heroesvoices.org
SUMMARY:Online Guitar Classes with Larry Chung
DESCRIPTION:These group lessons are available at no charge to all US Veterans everywhere. \nContact us for information about how to participate in these online guitar classes.
URL:https://heroesvoices.org/calendar/online-guitar-classes-with-larry-chung/2027-01-01/
LOCATION:Online\, Register to get connection details
END:VEVENT
BEGIN:VEVENT
DTSTART;TZID=America/Los_Angeles:20270108T113000
DTEND;TZID=America/Los_Angeles:20270108T113000
DTSTAMP:20260421T140837
CREATED:20220322T174118Z
LAST-MODIFIED:20250901T174533Z
UID:10003275-1799407800-1799407800@heroesvoices.org
SUMMARY:Online Guitar Classes with Larry Chung
DESCRIPTION:These group lessons are available at no charge to all US Veterans everywhere. \nContact us for information about how to participate in these online guitar classes.
URL:https://heroesvoices.org/calendar/online-guitar-classes-with-larry-chung/2027-01-08/
LOCATION:Online\, Register to get connection details
END:VEVENT
BEGIN:VEVENT
DTSTART;TZID=America/Los_Angeles:20270108T113000
DTEND;TZID=America/Los_Angeles:20270108T113000
DTSTAMP:20260421T140837
CREATED:20220322T174118Z
LAST-MODIFIED:20250901T174533Z
UID:10003601-1799407800-1799407800@heroesvoices.org
SUMMARY:Online Guitar Classes with Larry Chung
DESCRIPTION:These group lessons are available at no charge to all US Veterans everywhere. \nContact us for information about how to participate in these online guitar classes.
URL:https://heroesvoices.org/calendar/online-guitar-classes-with-larry-chung/2027-01-08/
LOCATION:Online\, Register to get connection details
END:VEVENT
BEGIN:VEVENT
DTSTART;TZID=America/Los_Angeles:20270108T113000
DTEND;TZID=America/Los_Angeles:20270108T113000
DTSTAMP:20260421T140837
CREATED:20220322T174118Z
LAST-MODIFIED:20250901T174533Z
UID:10003926-1799407800-1799407800@heroesvoices.org
SUMMARY:Online Guitar Classes with Larry Chung
DESCRIPTION:These group lessons are available at no charge to all US Veterans everywhere. \nContact us for information about how to participate in these online guitar classes.
URL:https://heroesvoices.org/calendar/online-guitar-classes-with-larry-chung/2027-01-08/
LOCATION:Online\, Register to get connection details
END:VEVENT
BEGIN:VEVENT
DTSTART;TZID=America/Los_Angeles:20270108T113000
DTEND;TZID=America/Los_Angeles:20270108T113000
DTSTAMP:20260421T140837
CREATED:20220322T174118Z
LAST-MODIFIED:20250901T174533Z
UID:10004250-1799407800-1799407800@heroesvoices.org
SUMMARY:Online Guitar Classes with Larry Chung
DESCRIPTION:These group lessons are available at no charge to all US Veterans everywhere. \nContact us for information about how to participate in these online guitar classes.
URL:https://heroesvoices.org/calendar/online-guitar-classes-with-larry-chung/2027-01-08/
LOCATION:Online\, Register to get connection details
END:VEVENT
BEGIN:VEVENT
DTSTART;TZID=America/Los_Angeles:20270115T113000
DTEND;TZID=America/Los_Angeles:20270115T113000
DTSTAMP:20260421T140837
CREATED:20220322T174118Z
LAST-MODIFIED:20250901T174533Z
UID:10003276-1800012600-1800012600@heroesvoices.org
SUMMARY:Online Guitar Classes with Larry Chung
DESCRIPTION:These group lessons are available at no charge to all US Veterans everywhere. \nContact us for information about how to participate in these online guitar classes.
URL:https://heroesvoices.org/calendar/online-guitar-classes-with-larry-chung/2027-01-15/
LOCATION:Online\, Register to get connection details
END:VEVENT
BEGIN:VEVENT
DTSTART;TZID=America/Los_Angeles:20270115T113000
DTEND;TZID=America/Los_Angeles:20270115T113000
DTSTAMP:20260421T140837
CREATED:20220322T174118Z
LAST-MODIFIED:20250901T174533Z
UID:10003602-1800012600-1800012600@heroesvoices.org
SUMMARY:Online Guitar Classes with Larry Chung
DESCRIPTION:These group lessons are available at no charge to all US Veterans everywhere. \nContact us for information about how to participate in these online guitar classes.
URL:https://heroesvoices.org/calendar/online-guitar-classes-with-larry-chung/2027-01-15/
LOCATION:Online\, Register to get connection details
END:VEVENT
BEGIN:VEVENT
DTSTART;TZID=America/Los_Angeles:20270115T113000
DTEND;TZID=America/Los_Angeles:20270115T113000
DTSTAMP:20260421T140837
CREATED:20220322T174118Z
LAST-MODIFIED:20250901T174533Z
UID:10003927-1800012600-1800012600@heroesvoices.org
SUMMARY:Online Guitar Classes with Larry Chung
DESCRIPTION:These group lessons are available at no charge to all US Veterans everywhere. \nContact us for information about how to participate in these online guitar classes.
URL:https://heroesvoices.org/calendar/online-guitar-classes-with-larry-chung/2027-01-15/
LOCATION:Online\, Register to get connection details
END:VEVENT
BEGIN:VEVENT
DTSTART;TZID=America/Los_Angeles:20270115T113000
DTEND;TZID=America/Los_Angeles:20270115T113000
DTSTAMP:20260421T140837
CREATED:20220322T174118Z
LAST-MODIFIED:20250901T174533Z
UID:10004251-1800012600-1800012600@heroesvoices.org
SUMMARY:Online Guitar Classes with Larry Chung
DESCRIPTION:These group lessons are available at no charge to all US Veterans everywhere. \nContact us for information about how to participate in these online guitar classes.
URL:https://heroesvoices.org/calendar/online-guitar-classes-with-larry-chung/2027-01-15/
LOCATION:Online\, Register to get connection details
END:VEVENT
BEGIN:VEVENT
DTSTART;TZID=America/Los_Angeles:20270122T113000
DTEND;TZID=America/Los_Angeles:20270122T113000
DTSTAMP:20260421T140837
CREATED:20220322T174118Z
LAST-MODIFIED:20250901T174533Z
UID:10003277-1800617400-1800617400@heroesvoices.org
SUMMARY:Online Guitar Classes with Larry Chung
DESCRIPTION:These group lessons are available at no charge to all US Veterans everywhere. \nContact us for information about how to participate in these online guitar classes.
URL:https://heroesvoices.org/calendar/online-guitar-classes-with-larry-chung/2027-01-22/
LOCATION:Online\, Register to get connection details
END:VEVENT
BEGIN:VEVENT
DTSTART;TZID=America/Los_Angeles:20270122T113000
DTEND;TZID=America/Los_Angeles:20270122T113000
DTSTAMP:20260421T140837
CREATED:20220322T174118Z
LAST-MODIFIED:20250901T174533Z
UID:10003603-1800617400-1800617400@heroesvoices.org
SUMMARY:Online Guitar Classes with Larry Chung
DESCRIPTION:These group lessons are available at no charge to all US Veterans everywhere. \nContact us for information about how to participate in these online guitar classes.
URL:https://heroesvoices.org/calendar/online-guitar-classes-with-larry-chung/2027-01-22/
LOCATION:Online\, Register to get connection details
END:VEVENT
END:VCALENDAR