BEGIN:VCALENDAR
VERSION:2.0
PRODID:-//Heroes&#039; Voices - ECPv6.15.18//NONSGML v1.0//EN
CALSCALE:GREGORIAN
METHOD:PUBLISH
X-ORIGINAL-URL:https://heroesvoices.org
X-WR-CALDESC:Events for Heroes&#039; Voices
REFRESH-INTERVAL;VALUE=DURATION:PT1H
X-Robots-Tag:noindex
X-PUBLISHED-TTL:PT1H
BEGIN:VTIMEZONE
TZID:America/Los_Angeles
BEGIN:DAYLIGHT
TZOFFSETFROM:-0800
TZOFFSETTO:-0700
TZNAME:PDT
DTSTART:20160313T100000
END:DAYLIGHT
BEGIN:STANDARD
TZOFFSETFROM:-0700
TZOFFSETTO:-0800
TZNAME:PST
DTSTART:20161106T090000
END:STANDARD
BEGIN:DAYLIGHT
TZOFFSETFROM:-0800
TZOFFSETTO:-0700
TZNAME:PDT
DTSTART:20170312T100000
END:DAYLIGHT
BEGIN:STANDARD
TZOFFSETFROM:-0700
TZOFFSETTO:-0800
TZNAME:PST
DTSTART:20171105T090000
END:STANDARD
BEGIN:DAYLIGHT
TZOFFSETFROM:-0800
TZOFFSETTO:-0700
TZNAME:PDT
DTSTART:20180311T100000
END:DAYLIGHT
BEGIN:STANDARD
TZOFFSETFROM:-0700
TZOFFSETTO:-0800
TZNAME:PST
DTSTART:20181104T090000
END:STANDARD
BEGIN:DAYLIGHT
TZOFFSETFROM:-0800
TZOFFSETTO:-0700
TZNAME:PDT
DTSTART:20190310T100000
END:DAYLIGHT
BEGIN:STANDARD
TZOFFSETFROM:-0700
TZOFFSETTO:-0800
TZNAME:PST
DTSTART:20191103T090000
END:STANDARD
BEGIN:DAYLIGHT
TZOFFSETFROM:-0800
TZOFFSETTO:-0700
TZNAME:PDT
DTSTART:20200308T100000
END:DAYLIGHT
BEGIN:STANDARD
TZOFFSETFROM:-0700
TZOFFSETTO:-0800
TZNAME:PST
DTSTART:20201101T090000
END:STANDARD
BEGIN:DAYLIGHT
TZOFFSETFROM:-0800
TZOFFSETTO:-0700
TZNAME:PDT
DTSTART:20210314T100000
END:DAYLIGHT
BEGIN:STANDARD
TZOFFSETFROM:-0700
TZOFFSETTO:-0800
TZNAME:PST
DTSTART:20211107T090000
END:STANDARD
END:VTIMEZONE
BEGIN:VEVENT
DTSTART;TZID=America/Los_Angeles:20200529T110000
DTEND;TZID=America/Los_Angeles:20200529T120000
DTSTAMP:20260420T060425
CREATED:20180801T205103Z
LAST-MODIFIED:20200619T193716Z
UID:10002970-1590750000-1590753600@heroesvoices.org
SUMMARY:Free Beginner Guitar Lessons (San Francisco\, CA)
DESCRIPTION:Bring your own guitar or use one of our loaners. \nDate and time subject to change. \nContact info@heroesvoices.org for more information.
URL:https://heroesvoices.org/calendar/free-beginner-guitar-lessons-san-francisco-ca-2-2018-12-21/2020-05-29/
LOCATION:War Memorial Veterans Building\, 410 Van Ness Avenue\, Second Floor\, San Francisco\, CA\, United States
CATEGORIES:Guitar Corps
ATTACH;FMTTYPE=image/jpeg:https://heroesvoices.org/wp-content/uploads/2016/09/Veterans-Bldg_9883.jpg
GEO:37.7749295;-122.4194155
X-APPLE-STRUCTURED-LOCATION;VALUE=URI;X-ADDRESS=War Memorial Veterans Building 410 Van Ness Avenue Second Floor San Francisco CA United States;X-APPLE-RADIUS=500;X-TITLE=410 Van Ness Avenue\, Second Floor:geo:-122.4194155,37.7749295
END:VEVENT
BEGIN:VEVENT
DTSTART;TZID=America/Los_Angeles:20181221T110000
DTEND;TZID=America/Los_Angeles:20181221T120000
DTSTAMP:20260420T060425
CREATED:20180801T205103Z
LAST-MODIFIED:20180802T190955Z
UID:10003073-1545390000-1545393600@heroesvoices.org
SUMMARY:Free Beginner Guitar Lessons (San Francisco\, CA)
DESCRIPTION:Bring your own guitar or use one of our loaners. \nDate and time subject to change. \nContact info@heroesvoices.org for more information.
URL:https://heroesvoices.org/calendar/free-beginner-guitar-lessons-san-francisco-ca-2/2018-12-21/
LOCATION:War Memorial Veterans Building\, 410 Van Ness Avenue\, Second Floor\, San Francisco\, CA\, United States
CATEGORIES:Guitar Corps
ATTACH;FMTTYPE=image/jpeg:https://heroesvoices.org/wp-content/uploads/2016/09/Veterans-Bldg_9883.jpg
GEO:37.7749295;-122.4194155
X-APPLE-STRUCTURED-LOCATION;VALUE=URI;X-ADDRESS=War Memorial Veterans Building 410 Van Ness Avenue Second Floor San Francisco CA United States;X-APPLE-RADIUS=500;X-TITLE=410 Van Ness Avenue\, Second Floor:geo:-122.4194155,37.7749295
END:VEVENT
BEGIN:VEVENT
DTSTART;TZID=America/Los_Angeles:20171215T110000
DTEND;TZID=America/Los_Angeles:20171215T120000
DTSTAMP:20260420T060425
CREATED:20161126T181005Z
LAST-MODIFIED:20170626T162843Z
UID:10002164-1513335600-1513339200@heroesvoices.org
SUMMARY:Free Beginner Guitar Lessons (San Francisco\, CA)
DESCRIPTION:Bring your own guitar or use one of our loaners. \nDate and time subject to change. \nContact info@heroesvoices.org for more information.
URL:https://heroesvoices.org/calendar/free-beginner-guitar-lessons-san-francisco-ca/2017-12-15/
LOCATION:War Memorial Veterans Building\, 410 Van Ness Avenue\, Second Floor\, San Francisco\, CA\, United States
CATEGORIES:Guitar Corps
ATTACH;FMTTYPE=image/jpeg:https://heroesvoices.org/wp-content/uploads/2016/05/sfwmvb-e1465242561473.jpg
GEO:37.7749295;-122.4194155
X-APPLE-STRUCTURED-LOCATION;VALUE=URI;X-ADDRESS=War Memorial Veterans Building 410 Van Ness Avenue Second Floor San Francisco CA United States;X-APPLE-RADIUS=500;X-TITLE=410 Van Ness Avenue\, Second Floor:geo:-122.4194155,37.7749295
END:VEVENT
END:VCALENDAR