BEGIN:VCALENDAR
VERSION:2.0
PRODID:-//Heroes&#039; Voices - ECPv6.15.18//NONSGML v1.0//EN
CALSCALE:GREGORIAN
METHOD:PUBLISH
X-WR-CALNAME:Heroes&#039; Voices
X-ORIGINAL-URL:https://heroesvoices.org
X-WR-CALDESC:Events for Heroes&#039; Voices
REFRESH-INTERVAL;VALUE=DURATION:PT1H
X-Robots-Tag:noindex
X-PUBLISHED-TTL:PT1H
BEGIN:VTIMEZONE
TZID:America/Los_Angeles
BEGIN:DAYLIGHT
TZOFFSETFROM:-0800
TZOFFSETTO:-0700
TZNAME:PDT
DTSTART:20230312T100000
END:DAYLIGHT
BEGIN:STANDARD
TZOFFSETFROM:-0700
TZOFFSETTO:-0800
TZNAME:PST
DTSTART:20231105T090000
END:STANDARD
BEGIN:DAYLIGHT
TZOFFSETFROM:-0800
TZOFFSETTO:-0700
TZNAME:PDT
DTSTART:20240310T100000
END:DAYLIGHT
BEGIN:STANDARD
TZOFFSETFROM:-0700
TZOFFSETTO:-0800
TZNAME:PST
DTSTART:20241103T090000
END:STANDARD
BEGIN:DAYLIGHT
TZOFFSETFROM:-0800
TZOFFSETTO:-0700
TZNAME:PDT
DTSTART:20250309T100000
END:DAYLIGHT
BEGIN:STANDARD
TZOFFSETFROM:-0700
TZOFFSETTO:-0800
TZNAME:PST
DTSTART:20251102T090000
END:STANDARD
END:VTIMEZONE
BEGIN:VEVENT
DTSTART;TZID=America/Los_Angeles:20240911T143000
DTEND;TZID=America/Los_Angeles:20240911T153000
DTSTAMP:20260420T030135
CREATED:20220322T173858Z
LAST-MODIFIED:20220322T174234Z
UID:10002741-1726065000-1726068600@heroesvoices.org
SUMMARY:Online Guitar Classes with Paul Young
DESCRIPTION:These group lessons are available at no charge to all US Veterans everywhere. \nContact us for information about how to participate in these online guitar classes.
URL:https://heroesvoices.org/calendar/online-guitar-lessons-with-paul-young/2024-09-11/
LOCATION:Online\, Register to get connection details
END:VEVENT
BEGIN:VEVENT
DTSTART;TZID=America/Los_Angeles:20240913T113000
DTEND;TZID=America/Los_Angeles:20240913T113000
DTSTAMP:20260420T030135
CREATED:20220322T174118Z
LAST-MODIFIED:20220322T175312Z
UID:10002502-1726227000-1726227000@heroesvoices.org
SUMMARY:Online Guitar Classes with Larry Chung
DESCRIPTION:These group lessons are available at no charge to all US Veterans everywhere. \nContact us for information about how to participate in these online guitar classes.
URL:https://heroesvoices.org/calendar/online-guitar-classes-with-larry-chung/2024-09-13/
LOCATION:Online\, Register to get connection details
END:VEVENT
BEGIN:VEVENT
DTSTART;TZID=America/Los_Angeles:20240913T113000
DTEND;TZID=America/Los_Angeles:20240913T113000
DTSTAMP:20260420T030135
CREATED:20220322T174118Z
LAST-MODIFIED:20250901T174533Z
UID:10003154-1726227000-1726227000@heroesvoices.org
SUMMARY:Online Guitar Classes with Larry Chung
DESCRIPTION:These group lessons are available at no charge to all US Veterans everywhere. \nContact us for information about how to participate in these online guitar classes.
URL:https://heroesvoices.org/calendar/online-guitar-classes-with-larry-chung/2024-09-13/
LOCATION:Online\, Register to get connection details
END:VEVENT
BEGIN:VEVENT
DTSTART;TZID=America/Los_Angeles:20240913T113000
DTEND;TZID=America/Los_Angeles:20240913T113000
DTSTAMP:20260420T030135
CREATED:20220322T174118Z
LAST-MODIFIED:20250901T174533Z
UID:10003480-1726227000-1726227000@heroesvoices.org
SUMMARY:Online Guitar Classes with Larry Chung
DESCRIPTION:These group lessons are available at no charge to all US Veterans everywhere. \nContact us for information about how to participate in these online guitar classes.
URL:https://heroesvoices.org/calendar/online-guitar-classes-with-larry-chung/2024-09-13/
LOCATION:Online\, Register to get connection details
END:VEVENT
BEGIN:VEVENT
DTSTART;TZID=America/Los_Angeles:20240913T113000
DTEND;TZID=America/Los_Angeles:20240913T113000
DTSTAMP:20260420T030135
CREATED:20220322T174118Z
LAST-MODIFIED:20250901T174533Z
UID:10003805-1726227000-1726227000@heroesvoices.org
SUMMARY:Online Guitar Classes with Larry Chung
DESCRIPTION:These group lessons are available at no charge to all US Veterans everywhere. \nContact us for information about how to participate in these online guitar classes.
URL:https://heroesvoices.org/calendar/online-guitar-classes-with-larry-chung/2024-09-13/
LOCATION:Online\, Register to get connection details
END:VEVENT
BEGIN:VEVENT
DTSTART;TZID=America/Los_Angeles:20240913T113000
DTEND;TZID=America/Los_Angeles:20240913T113000
DTSTAMP:20260420T030135
CREATED:20220322T174118Z
LAST-MODIFIED:20250901T174533Z
UID:10004129-1726227000-1726227000@heroesvoices.org
SUMMARY:Online Guitar Classes with Larry Chung
DESCRIPTION:These group lessons are available at no charge to all US Veterans everywhere. \nContact us for information about how to participate in these online guitar classes.
URL:https://heroesvoices.org/calendar/online-guitar-classes-with-larry-chung/2024-09-13/
LOCATION:Online\, Register to get connection details
END:VEVENT
END:VCALENDAR